BEGIN:VCALENDAR
VERSION:2.0
PRODID:-//Embark Sustainability Society - ECPv6.15.20//NONSGML v1.0//EN
CALSCALE:GREGORIAN
METHOD:PUBLISH
X-ORIGINAL-URL:https://www.embarksustainability.org
X-WR-CALDESC:Events for Embark Sustainability Society
REFRESH-INTERVAL;VALUE=DURATION:PT1H
X-Robots-Tag:noindex
X-PUBLISHED-TTL:PT1H
BEGIN:VTIMEZONE
TZID:America/Vancouver
BEGIN:DAYLIGHT
TZOFFSETFROM:-0800
TZOFFSETTO:-0700
TZNAME:PDT
DTSTART:20180311T100000
END:DAYLIGHT
BEGIN:STANDARD
TZOFFSETFROM:-0700
TZOFFSETTO:-0800
TZNAME:PST
DTSTART:20181104T090000
END:STANDARD
BEGIN:DAYLIGHT
TZOFFSETFROM:-0800
TZOFFSETTO:-0700
TZNAME:PDT
DTSTART:20190310T100000
END:DAYLIGHT
BEGIN:STANDARD
TZOFFSETFROM:-0700
TZOFFSETTO:-0800
TZNAME:PST
DTSTART:20191103T090000
END:STANDARD
BEGIN:DAYLIGHT
TZOFFSETFROM:-0800
TZOFFSETTO:-0700
TZNAME:PDT
DTSTART:20200308T100000
END:DAYLIGHT
BEGIN:STANDARD
TZOFFSETFROM:-0700
TZOFFSETTO:-0800
TZNAME:PST
DTSTART:20201101T090000
END:STANDARD
END:VTIMEZONE
BEGIN:VEVENT
DTSTART;TZID=America/Vancouver:20190927T123000
DTEND;TZID=America/Vancouver:20190927T170000
DTSTAMP:20260424T010345
CREATED:20190913T185805Z
LAST-MODIFIED:20190923T223459Z
UID:10000014-1569587400-1569603600@www.embarksustainability.org
SUMMARY:SFU Climate Strike
DESCRIPTION:On September 27th\, a global strike will demand an end to the age of fossil fuels. Embark together with SFU350\, ChangeSFU\, and the Sustainabiliteens are mobilizing SFU students\, staff\, and faculty that want to join the movement! Together we’ll march to show our elected leaders worldwide they need to act now for an equitable future. \n“If not you\, then who? If not now\, then when?” -Greta Thunberg \nLocation/Route: SFU students meet at Broadway City Hall\, Canada Line Station at 12:30 pm. Together we’ll walk over to march for climate change with start at Vancouver City Hall 1 pm.\nThe march will take us across the Cambie Street Bridge to Downtown Vancouver\, and finish on Hamilton Street between Georgia and Robson where there will be more speeches and awesome activities. \n!! Sign making: We’re working to secure space\, more information TBD. \n#climatestrike
URL:https://www.embarksustainability.org/event/climate-strike-sign-making/
LOCATION:Vancouver City Hall
CATEGORIES:Cause
ATTACH;FMTTYPE=image/png:https://www.embarksustainability.org/wp-content/uploads/2019/09/climate-strike.png
END:VEVENT
END:VCALENDAR