BEGIN:VCALENDAR
VERSION:2.0
PRODID:-//Embark Sustainability Society - ECPv6.15.20//NONSGML v1.0//EN
CALSCALE:GREGORIAN
METHOD:PUBLISH
X-ORIGINAL-URL:https://www.embarksustainability.org
X-WR-CALDESC:Events for Embark Sustainability Society
REFRESH-INTERVAL;VALUE=DURATION:PT1H
X-Robots-Tag:noindex
X-PUBLISHED-TTL:PT1H
BEGIN:VTIMEZONE
TZID:America/Vancouver
BEGIN:DAYLIGHT
TZOFFSETFROM:-0800
TZOFFSETTO:-0700
TZNAME:PDT
DTSTART:20190310T100000
END:DAYLIGHT
BEGIN:STANDARD
TZOFFSETFROM:-0700
TZOFFSETTO:-0800
TZNAME:PST
DTSTART:20191103T090000
END:STANDARD
BEGIN:DAYLIGHT
TZOFFSETFROM:-0800
TZOFFSETTO:-0700
TZNAME:PDT
DTSTART:20200308T100000
END:DAYLIGHT
BEGIN:STANDARD
TZOFFSETFROM:-0700
TZOFFSETTO:-0800
TZNAME:PST
DTSTART:20201101T090000
END:STANDARD
BEGIN:DAYLIGHT
TZOFFSETFROM:-0800
TZOFFSETTO:-0700
TZNAME:PDT
DTSTART:20210314T100000
END:DAYLIGHT
BEGIN:STANDARD
TZOFFSETFROM:-0700
TZOFFSETTO:-0800
TZNAME:PST
DTSTART:20211107T090000
END:STANDARD
BEGIN:DAYLIGHT
TZOFFSETFROM:-0800
TZOFFSETTO:-0700
TZNAME:PDT
DTSTART:20220313T100000
END:DAYLIGHT
BEGIN:STANDARD
TZOFFSETFROM:-0700
TZOFFSETTO:-0800
TZNAME:PST
DTSTART:20221106T090000
END:STANDARD
BEGIN:DAYLIGHT
TZOFFSETFROM:-0800
TZOFFSETTO:-0700
TZNAME:PDT
DTSTART:20230312T100000
END:DAYLIGHT
BEGIN:STANDARD
TZOFFSETFROM:-0700
TZOFFSETTO:-0800
TZNAME:PST
DTSTART:20231105T090000
END:STANDARD
BEGIN:DAYLIGHT
TZOFFSETFROM:-0800
TZOFFSETTO:-0700
TZNAME:PDT
DTSTART:20240310T100000
END:DAYLIGHT
BEGIN:STANDARD
TZOFFSETFROM:-0700
TZOFFSETTO:-0800
TZNAME:PST
DTSTART:20241103T090000
END:STANDARD
BEGIN:DAYLIGHT
TZOFFSETFROM:-0800
TZOFFSETTO:-0700
TZNAME:PDT
DTSTART:20250309T100000
END:DAYLIGHT
BEGIN:STANDARD
TZOFFSETFROM:-0700
TZOFFSETTO:-0800
TZNAME:PST
DTSTART:20251102T090000
END:STANDARD
BEGIN:DAYLIGHT
TZOFFSETFROM:-0800
TZOFFSETTO:-0700
TZNAME:PDT
DTSTART:20260308T100000
END:DAYLIGHT
BEGIN:STANDARD
TZOFFSETFROM:-0700
TZOFFSETTO:-0800
TZNAME:PST
DTSTART:20261101T090000
END:STANDARD
BEGIN:DAYLIGHT
TZOFFSETFROM:-0800
TZOFFSETTO:-0700
TZNAME:PDT
DTSTART:20270314T100000
END:DAYLIGHT
BEGIN:STANDARD
TZOFFSETFROM:-0700
TZOFFSETTO:-0800
TZNAME:PST
DTSTART:20271107T090000
END:STANDARD
END:VTIMEZONE
BEGIN:VEVENT
DTSTART;TZID=America/Vancouver:20260108T120000
DTEND;TZID=America/Vancouver:20260108T150000
DTSTAMP:20260423T191129
CREATED:20260107T114009Z
LAST-MODIFIED:20260107T114019Z
UID:10000897-1767873600-1767884400@www.embarksustainability.org
SUMMARY:SFUReady (Surrey)
DESCRIPTION:SFUReady (Surrey)\n			\n			\n				\n				\n				\n				\n			\n				\n				\n				\n				\n				\n				\n				\n				\n				\n				\n				\n					\n					\n						Date & Time\n						Wed\, Jan 8\, 202612:00PM – 3:00 PM PST \n					\n				\n			\n			\n				\n				\n				\n				\n				\n				\n				\n				\n				\n				\n					\n					\n						Location\n						Mezzanine (SFU Surrey) \n					\n				\n			\n			\n				\n				\n				\n				\n				\n			\n				\n				\n				\n				\n			\n				\n				\n				\n				\n				\n				\n				\n				\n				\n				\n				Join us at SFUReady! Stop by Embark’s table to learn what exciting events\, programs\, and opportunities to look out for this term. Plus\, help yourself to some free Embark swag.
URL:https://www.embarksustainability.org/event/sfuready-surrey/
LOCATION:SFU Surrey Mezzanine\, 250-13450 102 Ave\, Surrey\, British Columbia\, V3T 0A3
ATTACH;FMTTYPE=image/jpeg:https://www.embarksustainability.org/wp-content/uploads/2026/01/SFUReady-1.avif
END:VEVENT
BEGIN:VEVENT
DTSTART;TZID=America/Vancouver:20260107T110000
DTEND;TZID=America/Vancouver:20260107T140000
DTSTAMP:20260423T191129
CREATED:20260107T105938Z
LAST-MODIFIED:20260107T114108Z
UID:10000892-1767783600-1767794400@www.embarksustainability.org
SUMMARY:SFSS Clubs Day (Surrey)
DESCRIPTION:SFSS Clubs Day (Surrey)\n			\n			\n				\n				\n				\n				\n			\n				\n				\n				\n				\n				\n				\n				\n				\n				\n				\n				\n					\n					\n						Date & Time\n						Wed\, Jan 7\, 202611:00AM – 2:00 PM PST \n					\n				\n			\n			\n				\n				\n				\n				\n				\n				\n				\n				\n				\n				\n					\n					\n						Location\n						Mezzanine (SFU Surrey) \n					\n				\n			\n			\n				\n				\n				\n				\n				\n			\n				\n				\n				\n				\n			\n				\n				\n				\n				\n				\n				\n				\n				\n				\n				\n				Join us at SFSS Clubs Day! Stop by Embark’s table to learn what exciting events\, programs\, and opportunities to look out for this term. Plus\, help yourself to some free Embark swag.
URL:https://www.embarksustainability.org/event/clubs-day-surrey-spring-2026/
LOCATION:SFU Surrey Mezzanine\, 250-13450 102 Ave\, Surrey\, British Columbia\, V3T 0A3
ATTACH;FMTTYPE=image/jpeg:https://www.embarksustainability.org/wp-content/uploads/2026/01/SFSS-Clubs-Day-Banner.avif
END:VEVENT
BEGIN:VEVENT
DTSTART;TZID=America/Vancouver:20221108T130000
DTEND;TZID=America/Vancouver:20221108T160000
DTSTAMP:20260423T191129
CREATED:20221021T181035Z
LAST-MODIFIED:20221021T181046Z
UID:10000102-1667912400-1667923200@www.embarksustainability.org
SUMMARY:Climate Connections
DESCRIPTION:Let’s chat climate 🌎 Join us at SFU Surrey campus this November to explore personal and cultural connections to climate\, land\, borders\, nature\, and more! It’s a perfect time to dive into #just and #equitable climate solutions\, reflect on your relationship with the land\, and get to know a bit about @embarksustain 🌿 \n📅 November 8th\, 2022📍 SFU Surrey Mezzanine🕧 1:00 – 4:00 pm \nNo RSVP required – drop on by!
URL:https://www.embarksustainability.org/event/climate-connections/
LOCATION:SFU Surrey Mezzanine\, 250-13450 102 Ave\, Surrey\, British Columbia\, V3T 0A3
CATEGORIES:Climate Action
ATTACH;FMTTYPE=image/png:https://www.embarksustainability.org/wp-content/uploads/2022/10/Surrey-Games-Lounge-Promotion-FBTwit-1.png
END:VEVENT
BEGIN:VEVENT
DTSTART;TZID=America/Vancouver:20221005T130000
DTEND;TZID=America/Vancouver:20221005T160000
DTSTAMP:20260423T191129
CREATED:20221004T184933Z
LAST-MODIFIED:20221004T184940Z
UID:10000098-1664974800-1664985600@www.embarksustainability.org
SUMMARY:Food Justice & Garden Care
DESCRIPTION:Join us at SFU Surrey this October for food justice & garden care tips! Take a break from class work to get hands-on making wooden coasters\, collecting seed packets\, chatting food systems and picking the brain of Master Gardener Pablo Vimos about any and all of your garden curiosities. \n📅 October 5th\, 2022📍 SFU Surrey Mezzanine🕧 1:00 – 4:00 pm \nNo RSVP required – drop on by!
URL:https://www.embarksustainability.org/event/food-justice-garden-care/
LOCATION:SFU Surrey Mezzanine\, 250-13450 102 Ave\, Surrey\, British Columbia\, V3T 0A3
CATEGORIES:Workshop
ATTACH;FMTTYPE=image/png:https://www.embarksustainability.org/wp-content/uploads/2022/10/Surrey-Games-Lounge-Promotion-FBTwit.png
END:VEVENT
BEGIN:VEVENT
DTSTART;TZID=America/Vancouver:20200129T113000
DTEND;TZID=America/Vancouver:20200129T133000
DTSTAMP:20260423T191129
CREATED:20200116T225522Z
LAST-MODIFIED:20200116T225522Z
UID:10000039-1580297400-1580304600@www.embarksustainability.org
SUMMARY:Sustainability Futures Week - Surrey Campus Mezzanine
DESCRIPTION:The future of Embark is in your hands! \nIntroducing Embark’s new event series “Sustainability Futures.” For one week we’re inviting YOU to help us imagine and shape the future of sustainability for Embark as an organization. We’re getting ready to start working on Embark’s next strategic plan and are calling for your input on organizational priorities moving forward. \nDuring January 27th-31st across all SFU campuses\, you’ll be able to share your ideas on what matters most to you as a student\, ask questions\, or just hang out with us. See you there! \nMonday\, Jan 27 – 11:30-1:30 pm Burnaby Campus  \nWednesday\, Jan 29 – 11:30-1:30 pm Surrey Campus Mezzanine \nThursday\, Jan 30 – 11:30-1:30 pm Burnaby campus Convocation Mall Fire pits  \nFriday\, Jan 31 – 11:30-1:30 pm Harbour Centre Lobby
URL:https://www.embarksustainability.org/event/sustainability-futures-week-surrey-campus-mezzanine/
LOCATION:SFU Surrey Mezzanine\, 250-13450 102 Ave\, Surrey\, British Columbia\, V3T 0A3
CATEGORIES:Embark Sustainability Social's
ATTACH;FMTTYPE=image/jpeg:https://www.embarksustainability.org/wp-content/uploads/2020/01/SUST-WEEK.jpg
END:VEVENT
END:VCALENDAR