BEGIN:VCALENDAR
VERSION:2.0
PRODID:-//Embark Sustainability Society - ECPv6.15.20//NONSGML v1.0//EN
CALSCALE:GREGORIAN
METHOD:PUBLISH
X-WR-CALNAME:Embark Sustainability Society
X-ORIGINAL-URL:https://www.embarksustainability.org
X-WR-CALDESC:Events for Embark Sustainability Society
REFRESH-INTERVAL;VALUE=DURATION:PT1H
X-Robots-Tag:noindex
X-PUBLISHED-TTL:PT1H
BEGIN:VTIMEZONE
TZID:America/Vancouver
BEGIN:DAYLIGHT
TZOFFSETFROM:-0800
TZOFFSETTO:-0700
TZNAME:PDT
DTSTART:20210314T100000
END:DAYLIGHT
BEGIN:STANDARD
TZOFFSETFROM:-0700
TZOFFSETTO:-0800
TZNAME:PST
DTSTART:20211107T090000
END:STANDARD
BEGIN:DAYLIGHT
TZOFFSETFROM:-0800
TZOFFSETTO:-0700
TZNAME:PDT
DTSTART:20220313T100000
END:DAYLIGHT
BEGIN:STANDARD
TZOFFSETFROM:-0700
TZOFFSETTO:-0800
TZNAME:PST
DTSTART:20221106T090000
END:STANDARD
BEGIN:DAYLIGHT
TZOFFSETFROM:-0800
TZOFFSETTO:-0700
TZNAME:PDT
DTSTART:20230312T100000
END:DAYLIGHT
BEGIN:STANDARD
TZOFFSETFROM:-0700
TZOFFSETTO:-0800
TZNAME:PST
DTSTART:20231105T090000
END:STANDARD
BEGIN:DAYLIGHT
TZOFFSETFROM:-0800
TZOFFSETTO:-0700
TZNAME:PDT
DTSTART:20240310T100000
END:DAYLIGHT
BEGIN:STANDARD
TZOFFSETFROM:-0700
TZOFFSETTO:-0800
TZNAME:PST
DTSTART:20241103T090000
END:STANDARD
BEGIN:DAYLIGHT
TZOFFSETFROM:-0800
TZOFFSETTO:-0700
TZNAME:PDT
DTSTART:20250309T100000
END:DAYLIGHT
BEGIN:STANDARD
TZOFFSETFROM:-0700
TZOFFSETTO:-0800
TZNAME:PST
DTSTART:20251102T090000
END:STANDARD
BEGIN:DAYLIGHT
TZOFFSETFROM:-0800
TZOFFSETTO:-0700
TZNAME:PDT
DTSTART:20260308T100000
END:DAYLIGHT
BEGIN:STANDARD
TZOFFSETFROM:-0700
TZOFFSETTO:-0800
TZNAME:PST
DTSTART:20261101T090000
END:STANDARD
END:VTIMEZONE
BEGIN:VEVENT
DTSTART;TZID=America/Vancouver:20250326T163000
DTEND;TZID=America/Vancouver:20250326T180000
DTSTAMP:20260424T010016
CREATED:20250310T212445Z
LAST-MODIFIED:20250325T000816Z
UID:10000709-1743006600-1743012000@www.embarksustainability.org
SUMMARY:RadRoots: Meet the Author
DESCRIPTION:RadRoots: Meet the Author\n			\n			\n				\n				\n				\n				\n			\n				\n				\n				\n				\n				\n				\n				\n				\n				\n				\n				\n					\n					\n						Date & Time\n						Wednesday\, Mar 264:30 PM – 6:00 PM PDT \n					\n				\n			\n			\n				\n				\n				\n				\n				\n				\n				\n				\n				\n				\n					\n					\n						Location (HYBRID)\n						Embark Studio\, SUB 1310Online (Google Meet) \n					\n				\n			\n			\n				\n				\n				\n				\n				\n				Register now\n			\n			\n				\n				\n				\n				\n			\n				\n				\n				\n				\n				\n				\n				\n				\n				\n				\n				ABOUT THE EVENT\nJoin us for an author meet and greet with Jasmine Sealy\, the award-winning Bajan-Canadian and Vancouver-based author of The Island of Forgetting!  \nJasmine will be joining us online to talk about her experience\, inspirations\, and more as the author of The Island of Forgetting – the book selection for the RadRoots Spring Cohort. This is an opportunity to get to know Jasmine and ask her any questions about the book or her work as a writer!  \n\nLand acknowledgement\nThis event takes place across the unceded homelands of the xʷməθkʷəy̓əm (Musqueam)\, Sḵwx̱wú7mesh Úxwumixw (Squamish)\, səlil̓ilw̓ətaʔɬ (Tsleil-Waututh)\, and kʷikʷəƛw̓əm (Kwikwetlem) Nations. We greatly encourage our community members to reflect on the lands they are tuning in from; learn whose lands you occupy through native-land.ca. \n			\n				\n				\n				\n				\n				\nABOUT THE Author\nJasmine Sealy (she/her)Jasmine Sealy is a Bajan-Canadian writer. She is a graduate of the MFA program at the UBC School of Creative Writing where she won the 2020 UBC/HarperCollinsCanada Best New Fiction Prize. Her debut novel The Island of Forgetting was published in 2022. It was named a best book of 2022 by the CBC\, The Globe and Mailand The Sunday Times in the UK. It was shortlisted for the Rakuten Kobo Emerging Writer Prize and the OCM Bocas Prize for Caribbean Literature. It won the 2023 Amazon Canada First Novel Award. \n  \nABOUT THE Book\nBarbados\, 1962. Lost soul Iapetus roams the island\, scared and alone\, driven mad after witnessing his father’s death at the hands of his mother and his older brother\, Cronus. Just before Iapetus is lost forever\, he has a son\, but the baby is not enough to save him from himself—or his family’s secrets. \nSeventeen years later\, Iapetus’s son\, the stoic Atlas\, lives in a loveless house\, under the care of his uncle\, Cronus\, and in the shadow of his charismatic cousin Z. Knowing little about the tragic circumstances of his father’s life\, Atlas must choose between his desire to flee the island and his loyalty to the uncle who raised him.  \nTime passes. Atlas’s daughter\, Calypso\, is a beautiful and wilful teenager who is desperate to avoid being trapped in a life of drudgery at her uncle Z’s hotel. When she falls dangerously in love with a visiting real estate developer\, she finds herself entangled in her uncle’s shady dealings\, a pawn in the games of the powerful men around her.  \nIt is now 2019. Calypso’s son\, Nautilus\, is on a path of self-destruction as he grapples with his fatherless condition\, his mixed-race identity and his complicated feelings of attraction towards his best friend\, Daniel. Then one night\, after making an impulsive decision\, Nautilus finds himself exiled to Canada. \nThe Island of Forgetting is an intimate saga spanning four generations of one family who run a beachfront hotel. Loosely inspired by Greek mythology\, this is a novel about the echo of deep—and sometimes tragic—love and the ways a family’s past can haunt its future. \nvia HarperCollins  \n \n \n\n \n \n			\n				\n				\n				\n				\n				Event Accessibility\nThis event is for Embark Sustainability members which includes Simon Fraser University undergraduate and graduate students\, as well as Embark Sustainability Associate Members. \nThis will be a hybrid event held online (Zoom) and indoors at the Embark Studio\, room #1310 of the Student Union Building (SUB)\, SFU Burnaby. The Embark Studio is: \n\nwheelchair accessible\nwelcomes all gender identities and expressions\na tree nut and peanut-free zone\na scent-free zone\nlocated near wheelchair accessible and gender-neutral restrooms\nprovides access to a quiet space for personal meditation\, reflection\, or prayers\n\n \nOther accessibility details include: \n\nAs we’ll be addressing sensitive topics\, it’s important that our attendees are able to address their needs in the moment. Attendees are free to opt in and opt out of activities as suits their needs throughout the event\, including exiting and re-entering the event space.\nClosed captioning will be available. \nUnfortunately\, we cannot provide ASL interpretation at this time.\n\nWe aim to make our programs accessible to as many of our community members as possible. If we can take further action to make this event accessible to you\, please contact our Director of Engagement at engagement@embarksustainability.org. \n			\n				\n				\n				\n				\n				\nHealth and safety\nParticipants who register are agreeing to release Embark Sustainability Society from any liability related to COVID-19. Masks are optional but encouraged. \n\nCommunity Agreement\nBy registering to attend this event\, you are agreeing to be respectful when listening to and communicating with others\, and be mindful of the space you are taking up amongst your peers. \nEmbark Sustainability does not tolerate violence or aggression against others on the basis of race\, ethnicity\, place of origin\, sexual orientation\, gender identity\, religious affiliation\, or ability. Please also refer to people using the introductions they provide and do not assume pronouns/gender/knowledge based on someone’s name or appearance. \nIf these agreements are broken by someone\, we will have to ensure the safety of our community members by removing them from the event. \n			\n				\n				\n				\n				\n				Questions\nIf you have any questions about this event\, please contact our JEDDI Officer at jeddi@embarksustainability.org. \n			\n			\n				\n				\n				\n				\n				\n				\n				\n				\n				\n				Register for this Event 
URL:https://www.embarksustainability.org/event/meet-jasmine-sealy/
LOCATION:Hybrid
ATTACH;FMTTYPE=image/jpeg:https://www.embarksustainability.org/wp-content/uploads/2025/03/RadRoots-Website.webp
END:VEVENT
BEGIN:VEVENT
DTSTART;TZID=America/Vancouver:20220308T170000
DTEND;TZID=America/Vancouver:20220308T190000
DTSTAMP:20260424T010016
CREATED:20220219T003730Z
LAST-MODIFIED:20220908T211730Z
UID:10000081-1646758800-1646766000@www.embarksustainability.org
SUMMARY:Lentils\, Rice\, and Everything Nice
DESCRIPTION:We’ll be hosting our first ever hybrid Community Kitchen this March 8th\, 2022! Let’s say goodbye to winter together with a hearty meal filled with flavour. Kala Roy will be sharing her recipe for “Super Meal” and Naan\, which is chock full of healthy grains\, proteins\, and delish Indian spices. This one-pot meal is perfect to share with vegan and non-vegan friends alike! \nWe’ll also chat about Kala’s cooking principles\, building community through intersecting discussions about food as culture\, food as connection\, and food as communication. \nA collaborative effort of Embark Sustainability and the SFSS Women’s Centre\, Community Kitchens are free and open to Embark members which includes Simon Fraser University undergraduate and graduate students\, as well as Embark Associate Members. Folks of all gender expressions and identities are welcome at this event! \nWant to join us in-person? Email Alea Mohamed at projects@embarksustainability.org to secure your spot! We have room for a small number of attendees to join us on location in downtown Vancouver – address details will be sent to you\, and no need to register using Eventbrite.  \nVirtual attendance more your style? Register via Eventbrite! Whether you prefer listening and learning or cooking from home\, this is a great opportunity to reflect on the connections between food and culture. Those cooking along from home can email programs@embarksustainability.org for grocery support of up to $20. \n			\n				SECURE YOUR SPOT
URL:https://www.embarksustainability.org/event/lentils-rice-and-everything-nice/
LOCATION:Hybrid
CATEGORIES:Community Kitchen
ATTACH;FMTTYPE=image/png:https://www.embarksustainability.org/wp-content/uploads/2022/02/ESS-Community-Kitchen-FBTwit_Mar2022.png
END:VEVENT
END:VCALENDAR