BEGIN:VCALENDAR
VERSION:2.0
PRODID:-//Embark Sustainability Society - ECPv6.15.20//NONSGML v1.0//EN
CALSCALE:GREGORIAN
METHOD:PUBLISH
X-ORIGINAL-URL:https://www.embarksustainability.org
X-WR-CALDESC:Events for Embark Sustainability Society
REFRESH-INTERVAL;VALUE=DURATION:PT1H
X-Robots-Tag:noindex
X-PUBLISHED-TTL:PT1H
BEGIN:VTIMEZONE
TZID:America/Vancouver
BEGIN:DAYLIGHT
TZOFFSETFROM:-0800
TZOFFSETTO:-0700
TZNAME:PDT
DTSTART:20190310T100000
END:DAYLIGHT
BEGIN:STANDARD
TZOFFSETFROM:-0700
TZOFFSETTO:-0800
TZNAME:PST
DTSTART:20191103T090000
END:STANDARD
BEGIN:DAYLIGHT
TZOFFSETFROM:-0800
TZOFFSETTO:-0700
TZNAME:PDT
DTSTART:20200308T100000
END:DAYLIGHT
BEGIN:STANDARD
TZOFFSETFROM:-0700
TZOFFSETTO:-0800
TZNAME:PST
DTSTART:20201101T090000
END:STANDARD
BEGIN:DAYLIGHT
TZOFFSETFROM:-0800
TZOFFSETTO:-0700
TZNAME:PDT
DTSTART:20210314T100000
END:DAYLIGHT
BEGIN:STANDARD
TZOFFSETFROM:-0700
TZOFFSETTO:-0800
TZNAME:PST
DTSTART:20211107T090000
END:STANDARD
END:VTIMEZONE
BEGIN:VEVENT
DTSTART;TZID=America/Vancouver:20200820T123000
DTEND;TZID=America/Vancouver:20200820T130000
DTSTAMP:20260423T233722
CREATED:20200813T214053Z
LAST-MODIFIED:20200813T214053Z
UID:10000066-1597926600-1597928400@www.embarksustainability.org
SUMMARY:Garden Workshop: Planting in Small Spaces
DESCRIPTION:We’re excited to introduce Embark’s first virtual garden workshop! \nYou’re invited to join Pablo Vimos\, Master Gardener and Embark’s Garden Coordinator\, on Embark’s Youtube Channel Thursday\, August 20th at 12:30pm to learn all about planting and growing in small spaces! \nBring a pen and a notebook to the computer and be ready to scribble down all the tips and tricks you’ll need to master how to plant in small spaces. If you want to plant-along\, this is what you’ll need: \nx Hand trowel\nx Pots and gardening fabric\nx Seeds of your choice\nx Potting soil\nx Full watering can \nPablo Vimos\nOur facilitator Pablo has over 10 years of gardening experience. He is a Master Gardener\, ecologist\, and facilitates learning garden sessions for students of all ages.
URL:https://www.embarksustainability.org/event/garden-workshop-planting-in-small-spaces/
LOCATION:Embark Sustainability’s Youtube Channel
CATEGORIES:Workshop
ATTACH;FMTTYPE=image/png:https://www.embarksustainability.org/wp-content/uploads/2020/08/Artboard-1EMBARK.png
END:VEVENT
END:VCALENDAR