BEGIN:VCALENDAR
VERSION:2.0
PRODID:-//Embark Sustainability Society - ECPv6.15.20//NONSGML v1.0//EN
CALSCALE:GREGORIAN
METHOD:PUBLISH
X-WR-CALNAME:Embark Sustainability Society
X-ORIGINAL-URL:https://www.embarksustainability.org
X-WR-CALDESC:Events for Embark Sustainability Society
REFRESH-INTERVAL;VALUE=DURATION:PT1H
X-Robots-Tag:noindex
X-PUBLISHED-TTL:PT1H
BEGIN:VTIMEZONE
TZID:America/Vancouver
BEGIN:DAYLIGHT
TZOFFSETFROM:-0800
TZOFFSETTO:-0700
TZNAME:PDT
DTSTART:20190310T100000
END:DAYLIGHT
BEGIN:STANDARD
TZOFFSETFROM:-0700
TZOFFSETTO:-0800
TZNAME:PST
DTSTART:20191103T090000
END:STANDARD
BEGIN:DAYLIGHT
TZOFFSETFROM:-0800
TZOFFSETTO:-0700
TZNAME:PDT
DTSTART:20200308T100000
END:DAYLIGHT
BEGIN:STANDARD
TZOFFSETFROM:-0700
TZOFFSETTO:-0800
TZNAME:PST
DTSTART:20201101T090000
END:STANDARD
BEGIN:DAYLIGHT
TZOFFSETFROM:-0800
TZOFFSETTO:-0700
TZNAME:PDT
DTSTART:20210314T100000
END:DAYLIGHT
BEGIN:STANDARD
TZOFFSETFROM:-0700
TZOFFSETTO:-0800
TZNAME:PST
DTSTART:20211107T090000
END:STANDARD
END:VTIMEZONE
BEGIN:VEVENT
DTSTART;TZID=America/Vancouver:20200130T113000
DTEND;TZID=America/Vancouver:20200130T133000
DTSTAMP:20260424T011452
CREATED:20200116T230211Z
LAST-MODIFIED:20200116T230211Z
UID:10000040-1580383800-1580391000@www.embarksustainability.org
SUMMARY:Sustainability Futures Week - Burnaby Campus Convocation Mall
DESCRIPTION:The future of Embark is in your hands! \nIntroducing Embark’s new event series “Sustainability Futures.” For one week we’re inviting YOU to help us imagine and shape the future of sustainability for Embark as an organization. We’re getting ready to start working on Embark’s next strategic plan and are calling for your input on organizational priorities moving forward. \nDuring January 27th-31st across all SFU campuses\, you’ll be able to share your ideas on what matters most to you as a student\, ask questions\, or just hang out with us. See you there! \nMonday\, Jan 27 – 11:30-1:30 pm Burnaby Campus  \nWednesday\, Jan 29 – 11:30-1:30 pm Surrey Campus Mezzanine \nThursday\, Jan 30 – 11:30-1:30 pm Burnaby Campus Convocation Mall Fire pits  \nFriday\, Jan 31 – 11:30-1:30 pm Harbour Centre Lobby
URL:https://www.embarksustainability.org/event/sustainability-futures-week-burnaby-campus-convocation-mall/
LOCATION:Convocation Mall – SFU Burnaby\, Covocation Mall\, 8888 University Dr\, Burnaby\, British Columbia\, V5A 1S6\, Canada
CATEGORIES:Embark Sustainability Social's
ATTACH;FMTTYPE=image/jpeg:https://www.embarksustainability.org/wp-content/uploads/2020/01/SUST-WEEK.jpg
END:VEVENT
END:VCALENDAR