BEGIN:VCALENDAR
VERSION:2.0
PRODID:-//Embark Sustainability Society - ECPv6.15.20//NONSGML v1.0//EN
CALSCALE:GREGORIAN
METHOD:PUBLISH
X-WR-CALNAME:Embark Sustainability Society
X-ORIGINAL-URL:https://www.embarksustainability.org
X-WR-CALDESC:Events for Embark Sustainability Society
REFRESH-INTERVAL;VALUE=DURATION:PT1H
X-Robots-Tag:noindex
X-PUBLISHED-TTL:PT1H
BEGIN:VTIMEZONE
TZID:America/Vancouver
BEGIN:DAYLIGHT
TZOFFSETFROM:-0800
TZOFFSETTO:-0700
TZNAME:PDT
DTSTART:20220313T100000
END:DAYLIGHT
BEGIN:STANDARD
TZOFFSETFROM:-0700
TZOFFSETTO:-0800
TZNAME:PST
DTSTART:20221106T090000
END:STANDARD
BEGIN:DAYLIGHT
TZOFFSETFROM:-0800
TZOFFSETTO:-0700
TZNAME:PDT
DTSTART:20230312T100000
END:DAYLIGHT
BEGIN:STANDARD
TZOFFSETFROM:-0700
TZOFFSETTO:-0800
TZNAME:PST
DTSTART:20231105T090000
END:STANDARD
BEGIN:DAYLIGHT
TZOFFSETFROM:-0800
TZOFFSETTO:-0700
TZNAME:PDT
DTSTART:20240310T100000
END:DAYLIGHT
BEGIN:STANDARD
TZOFFSETFROM:-0700
TZOFFSETTO:-0800
TZNAME:PST
DTSTART:20241103T090000
END:STANDARD
END:VTIMEZONE
BEGIN:VEVENT
DTSTART;TZID=America/Vancouver:20231102T143000
DTEND;TZID=America/Vancouver:20231102T160000
DTSTAMP:20260423T220542
CREATED:20231020T190122Z
LAST-MODIFIED:20231024T001344Z
UID:10000059-1698935400-1698940800@www.embarksustainability.org
SUMMARY:Finding the Words for Climate Hope
DESCRIPTION:Finding the Words for Climate Hope\n			\n			\n				\n				\n				\n				\n			\n				\n				\n				\n				\n				\n				\n				\n				\n				\n				\n				\n					\n					\n						Date & Time\n						Thu\, November 2\, 20232:30 PM – 4:00 PM PDT \n					\n				\n			\n			\n				\n				\n				\n				\n				\n				\n				\n				\n				\n				\n					\n					\n						Location\n						Embark Studio\, SUB 1310\, SFU Burnaby \n					\n				\n			\n			\n				\n				\n				\n				\n				\n				Register now\n			\n			\n				\n				\n				\n				\n			\n				\n				\n				\n				\n				\n				\n				\n				\n				\n				\n				About this event\nThinking about the state of climate change can be anxiety-inducing; it’s hard to find hopeful narratives. At this event we will be talking about how to shift the narrative of climate doom to climate hope. We will be using words\, literature and poetry to challenge negative perspectives on climate change and find positive ideas of hope and resilience. \nAt this workshop\, you’ll: \n\nLearn how to articulate your feelings into poetry\nHear reasons to be hopeful for our climate futures\nReclaim writing as a tool for art (and not just for assignments!)\nCollage and create with fellow creatives\n\nPeople at any level and experience of writing and collaging are welcome! \nThis event is in collaboration with Embark Sustainability and the Student Learning Commons. \n \n			\n				\n				\n				\n				\n				Land Acknowledgement\nThis event takes place on the unceded homelands of the xʷməθkʷəy̓əm (Musqueam)\, Sḵwx̱wú7mesh Úxwumixw (Squamish)\, səlil̓ilw̓ətaʔɬ (Tsleil-Waututh)\, and kʷikʷəƛw̓əm (Kwikwetlem) Nations.\n			\n				\n				\n				\n				\n				About the facilitator\nJulia Lane (she/her) \nJulia Lane is deeply passionate about students reclaiming writing as a tool for their self-expression. She works at the Student Learning Commons to support with writing\, language and learning skills that can help with academic success\, whatever that may look like to you! \n  \n			\n				\n				\n				\n				\n				Event Accessibility\nEmbark Sustainability events are free and open to Embark Sustainability members which includes Simon Fraser University undergraduate and graduate students\, as well as Embark Sustainability Associate Members. \nThis event will be held indoors at the Embark Studio\, room #1310 of the Student Union Building (SUB)\, SFU Burnaby. The Embark Studio: \n\nis wheelchair accessible\nwelcomes all gender identities and expressions\nis a tree nut and peanut-free zone\nis a scent-free zone\nis located near wheelchair accessible and gender-neutral restrooms\nprovides access to a quiet space for personal meditation\, reflection\, or prayers\n\nOther accessibility notes include: \n\nAs we’ll be addressing sensitive topics\, it’s important that our attendees are able to address their needs in the moment. Attendees are free to opt in and opt out of activities as suits their needs throughout the event\, including exiting and re-entering the event space.\nWe cannot provide ASL interpretation for this event\, however\, we can provide facilitator’s notes upon request.\n\nWe aim to make our events accessible to as many of our community members as possible. If we can take further action to make this event accessible to you\, please contact Alice Pinheiro at climate@embarksustainability.org \n			\n				\n				\n				\n				\n				Health & Safety\nParticipants who register are agreeing to release Embark Sustainability Society from any liability related to COVID-19. \nEmbark Sustainability will also provide sanitation supplies for wiping down furniture\, and hand sanitizer for guests to use. \n			\n				\n				\n				\n				\n				Community Agreement\nBy registering to attend this event\, you are agreeing to be respectful when listening to and communicating with others\, and be mindful of the space you are taking up amongst your peers. \nEmbark Sustainability does not tolerate violence or aggression against others on the basis of race\, ethnicity\, place of origin\, sexual orientation\, gender identity\, religious affiliation\, or ability. Please also refer to people using the introductions they provide and do not assume pronouns/gender/knowledge based on someone’s name or appearance. \nIf these agreements are broken by someone\, we will have to ensure the safety of our community members by removing them from the event. \n			\n				\n				\n				\n				\n				Questions\nIf you have any questions about this event\, please contact Alice Pinheiro Embark Sustainability’s Climate Equity Coordinator at climate@embarksustainability.org. \n			\n			\n				\n				\n				\n				\n				\n				\n				\n				\n				\n				Register for this event\nReserve your FREE Embark Sustainability ticket now
URL:https://www.embarksustainability.org/event/finding-the-words-for-climate-hope/
LOCATION:The Embark Studio\, SUB 1310 - 8888 University Drive\, Burnaby\, British Columbia\, V5A 1S6\, Canada
CATEGORIES:Climate Equity,Embark Sustainability,Workshop
ATTACH;FMTTYPE=image/jpeg:https://www.embarksustainability.org/wp-content/uploads/2023/10/Nov-2-finding-the-words-for-climate-hope-1.jpg
END:VEVENT
END:VCALENDAR