BEGIN:VCALENDAR
VERSION:2.0
PRODID:-//Embark Sustainability Society - ECPv6.15.20//NONSGML v1.0//EN
CALSCALE:GREGORIAN
METHOD:PUBLISH
X-ORIGINAL-URL:https://www.embarksustainability.org
X-WR-CALDESC:Events for Embark Sustainability Society
REFRESH-INTERVAL;VALUE=DURATION:PT1H
X-Robots-Tag:noindex
X-PUBLISHED-TTL:PT1H
BEGIN:VTIMEZONE
TZID:America/Vancouver
BEGIN:DAYLIGHT
TZOFFSETFROM:-0800
TZOFFSETTO:-0700
TZNAME:PDT
DTSTART:20250309T100000
END:DAYLIGHT
BEGIN:STANDARD
TZOFFSETFROM:-0700
TZOFFSETTO:-0800
TZNAME:PST
DTSTART:20251102T090000
END:STANDARD
BEGIN:DAYLIGHT
TZOFFSETFROM:-0800
TZOFFSETTO:-0700
TZNAME:PDT
DTSTART:20260308T100000
END:DAYLIGHT
BEGIN:STANDARD
TZOFFSETFROM:-0700
TZOFFSETTO:-0800
TZNAME:PST
DTSTART:20261101T090000
END:STANDARD
BEGIN:DAYLIGHT
TZOFFSETFROM:-0800
TZOFFSETTO:-0700
TZNAME:PDT
DTSTART:20270314T100000
END:DAYLIGHT
BEGIN:STANDARD
TZOFFSETFROM:-0700
TZOFFSETTO:-0800
TZNAME:PST
DTSTART:20271107T090000
END:STANDARD
END:VTIMEZONE
BEGIN:VEVENT
DTSTART;TZID=America/Vancouver:20260113T183000
DTEND;TZID=America/Vancouver:20260113T200000
DTSTAMP:20260423T102826
CREATED:20251027T230002Z
LAST-MODIFIED:20260107T101319Z
UID:10000862-1768329000-1768334400@www.embarksustainability.org
SUMMARY:Climate Workshop: The Politics of Mutual Aid
DESCRIPTION:Climate Workshop: The Politics of Mutual Aid\n			\n			\n				\n				\n				\n				\n			\n				\n				\n				\n				\n				\n				\n				\n				\n				\n				\n				\n					\n					\n						Date & Time\n						Tue\, Jan 13\, 20266:30PM – 8:00PM \n					\n				\n			\n			\n				\n				\n				\n				\n				\n				\n				\n				\n				\n				\n					\n					\n						Location\n						Embark Studio (SUB 1310) \n					\n				\n			\n			\n				\n				\n				\n				\n				\n				Register now\n			\n			\n				\n				\n				\n				\n			\n				\n				\n				\n				\n				\n				\n				\n				\n				\n				\n				\n			\n				\n				\n				\n				\n				About the event\nIn the face of a climate crisis\, what forms of care keep us alive and connected? Join us with Ren from Distro Disco in this workshop where we will explore mutual aid as a practice of care\, resistance\, and collective survival—both within and beyond monetary exchange. Through discussion and hands-on collaboration\, participants will examine how mutual aid networks sustain marginalized communities in the face of systemic inequities and the climate crisis.  \nTogether\, we’ll: \n\nLearn the foundations of mutual aid: what it is\, what it isn’t\, and how it differs from charity or institutional aid.\nExplore the connections between mutual aid and climate equity\, considering how community-based redistribution and solidarity work build resilience amid environmental and social crises.\nPut together “distro” (distribution) packages for community care.\n\nLet’s connect\, imagine\, and practice the kinds of care that can carry us and our communities through crisis and change! \n  \nAGENDA \n\nWelcome & Grounding\nPresentation: What is Mutual Aid?\nGroup Activity: Distro Bag Assembly\nReflection & Discussion\nClosing & Clean-Up\n\n  \n			\n				\n				\n				\n				\n				Land ACKNOWLEDGEMENT\nThis event takes place on the unceded homelands of the xʷməθkʷəy̓əm (Musqueam)\, Sḵwx̱wú7mesh Úxwumixw (Squamish)\, səlil̓ilw̓ətaʔɬ (Tsleil-Waututh)\, and kʷikʷəƛw̓əm (Kwikwetlem) Nations.  \n			\n				\n				\n				\n				\n				ABOUT THE FACILITATORS\nRen (they/themRen is a Chinese diasporic queer and trans settler living on the unceded land of the Sḵwx̱wú7mesh (Squamish)\, səlilwətaɬ (Tsleil-Waututh)\, and xʷməθkʷəy̓əm (Musqueam) nations. Ren is currently completing an internship to become a music therapist and is near completion of their Bachelor of Music Therapy at Capilano University. They have been with Distro Disco (DD)—a mobile free store of supplies run by volunteers—for two years\, mainly operating in fundraising\, supply sourcing\, and social media for DD. For Ren\, Distro Disco was their entry point into grassroots organizing\, and the concept of community care continues to shape their life musically\, artistically\, and through their activism and therapy work. In their spare time\, they enjoy singing in choirs\, painting\, cracking jokes\, and petting animals of all sorts. \n			\n				Follow Distro Disco\n			\n				\n				\n				\n				\n				Event Accessibility\nEmbark Sustainability events are free and open to Embark members which includes Simon Fraser University undergraduate and graduate students\, as well as Embark Associate Members. \nThis event will be held indoors at the Embark Studio\, room #1310 of the SUB Student Union Building (SUB)\, SFU Burnaby. Please review the following accessibility details: \n\nAttendees are free to opt in and opt out of activities as suits their needs throughout the event\, including exiting and re-entering the event space.\nThe event space is wheelchair accessible.\nAll-gender and wheelchair-accessible restrooms are located on the same floor.\nWe welcome all gender identities and expressions.\nWe provide access to a quiet space for personal meditation\, reflection\, or prayers.\nThe event space is a tree nut and peanut-free zone\nThe event space is a scent-free zone.\nUnfortunately\, we are unable to provide ASL interpretation at this time.\n\nWe strive to make our events accessible to as many of our community members as possible. If you have accessibility needs you’d like to share\, please contact our Director of Engagement at engagement@embarksustainability.org. \n			\n				\n				\n				\n				\n				Health & Safety\nParticipants who register are agreeing to release Embark Sustainability Society from any liability related to COVID-19. Masks are optional but encouraged.\n			\n				\n				\n				\n				\n				Community Agreement\nBy registering to attend this event\, you are agreeing to be respectful when listening to and communicating with others\, and be mindful of the space you are taking up amongst your peers. \nEmbark Sustainability does not tolerate violence or aggression against others on the basis of race\, ethnicity\, place of origin\, sexual orientation\, gender identity\, religious affiliation\, or ability. Please also refer to people using the introductions they provide and do not assume pronouns/gender/knowledge based on someone’s name or appearance. \nIf these agreements are broken by someone\, we will have to ensure the safety of our community members by removing them from the event.\n			\n				\n				\n				\n				\n				Questions\nIf you have any questions about this event\, please contact Embark Sustainability’s Climate Equity Programs Coordinator at climate@embarksustainability.org. \n			\n			\n				\n				\n				\n				\n				\n				\n				\n				\n				\n				Register for this Event\nget reminders & event details now
URL:https://www.embarksustainability.org/event/climate-workshop-130126/
LOCATION:The Embark Studio\, SUB 1310 - 8888 University Drive\, Burnaby\, British Columbia\, V5A 1S6\, Canada
CATEGORIES:Climate Equity
ATTACH;FMTTYPE=image/jpeg:https://www.embarksustainability.org/wp-content/uploads/2025/10/Nov-CW-2025-banner.webp
END:VEVENT
END:VCALENDAR