BEGIN:VCALENDAR
VERSION:2.0
PRODID:-//Embark Sustainability Society - ECPv6.15.20//NONSGML v1.0//EN
CALSCALE:GREGORIAN
METHOD:PUBLISH
X-ORIGINAL-URL:https://www.embarksustainability.org
X-WR-CALDESC:Events for Embark Sustainability Society
REFRESH-INTERVAL;VALUE=DURATION:PT1H
X-Robots-Tag:noindex
X-PUBLISHED-TTL:PT1H
BEGIN:VTIMEZONE
TZID:America/Vancouver
BEGIN:DAYLIGHT
TZOFFSETFROM:-0800
TZOFFSETTO:-0700
TZNAME:PDT
DTSTART:20180311T100000
END:DAYLIGHT
BEGIN:STANDARD
TZOFFSETFROM:-0700
TZOFFSETTO:-0800
TZNAME:PST
DTSTART:20181104T090000
END:STANDARD
BEGIN:DAYLIGHT
TZOFFSETFROM:-0800
TZOFFSETTO:-0700
TZNAME:PDT
DTSTART:20190310T100000
END:DAYLIGHT
BEGIN:STANDARD
TZOFFSETFROM:-0700
TZOFFSETTO:-0800
TZNAME:PST
DTSTART:20191103T090000
END:STANDARD
BEGIN:DAYLIGHT
TZOFFSETFROM:-0800
TZOFFSETTO:-0700
TZNAME:PDT
DTSTART:20200308T100000
END:DAYLIGHT
BEGIN:STANDARD
TZOFFSETFROM:-0700
TZOFFSETTO:-0800
TZNAME:PST
DTSTART:20201101T090000
END:STANDARD
END:VTIMEZONE
BEGIN:VEVENT
DTSTART;TZID=America/Vancouver:20191121T180000
DTEND;TZID=America/Vancouver:20191121T203000
DTSTAMP:20260424T024158
CREATED:20191105T202041Z
LAST-MODIFIED:20191105T202041Z
UID:10000012-1574359200-1574368200@www.embarksustainability.org
SUMMARY:Career Night - Creativity in Sustainability
DESCRIPTION:How are people using their creativity to make the world a more sustainable place?\n\n\n\n\n\n\nAbout this Event\n\n\nWelcoming back our oh-so-popular Career Night! \nHow can sustainability be incorporated into different sectors and careers like consulting\, entrepreneurship\, management\, and even more creative pathways like urban planning\, social work\, and visual arts? \nExplore ‘Creativity in Sustainability’ at this Career Night. \nJoin us and draw inspiration from industry professionals working in creative areas of sustainability\, looking at how our creativity and inspire sustainable work in different career paths. \nCareer Night is an opportunity for students from SFU\, UBC & CityStudio Alumni to learn from professionals championing sustainability in various fields. Speakers will share their innovative journeys followed by a space for networking and for students to find answers to their career-related questions. \nLight snacks will be provided. RSVP required! Must present a valid BC post-secondary student ID. \nAGENDA \n6:00 pm – Doors open \n6:30 pm – Presentations by industry professionals \n7:45 pm – Break out sessions (structured networking) \nThis event is jointly organized by Embark Sustainability\, CityStudio Vancouver\, and UBC Common Energy. \nACCESSIBILITY \nThis event is taking place at CityStudio Vancouver. The venue is a short 7-minute walk from the Olympic Village Canada Line Skytrain station (below the Cambie bridge). We strongly encourage that participants take public transit and bike racks are available at the venue. Alternatively\, there is pay parking available on the adjacent street. \nThe venue is ground level and is wheelchair accessible. If you have any specific accessibility needs\, don’t hesitate to email Lisa Salomonsson at info@embarksustainability.org \nACKNOWLEDGMENTS \nEmbark acknowledges that this event is being hosted on the unceded territory of the Coast Salish Peoples. In particular\, this includes the land of the Tsleil-Waututh\, Musqueam\, Skwxwú7mesh nations.
URL:https://www.embarksustainability.org/event/career-night-creativity-in-sustainability/
CATEGORIES:Sustainability Career Night
ATTACH;FMTTYPE=image/jpeg:https://www.embarksustainability.org/wp-content/uploads/2019/11/Career-night-social-assets.jpg
END:VEVENT
END:VCALENDAR