BEGIN:VCALENDAR
VERSION:2.0
PRODID:-//Embark Sustainability Society - ECPv6.15.20//NONSGML v1.0//EN
CALSCALE:GREGORIAN
METHOD:PUBLISH
X-ORIGINAL-URL:https://www.embarksustainability.org
X-WR-CALDESC:Events for Embark Sustainability Society
REFRESH-INTERVAL;VALUE=DURATION:PT1H
X-Robots-Tag:noindex
X-PUBLISHED-TTL:PT1H
BEGIN:VTIMEZONE
TZID:America/Vancouver
BEGIN:DAYLIGHT
TZOFFSETFROM:-0800
TZOFFSETTO:-0700
TZNAME:PDT
DTSTART:20210314T100000
END:DAYLIGHT
BEGIN:STANDARD
TZOFFSETFROM:-0700
TZOFFSETTO:-0800
TZNAME:PST
DTSTART:20211107T090000
END:STANDARD
BEGIN:DAYLIGHT
TZOFFSETFROM:-0800
TZOFFSETTO:-0700
TZNAME:PDT
DTSTART:20220313T100000
END:DAYLIGHT
BEGIN:STANDARD
TZOFFSETFROM:-0700
TZOFFSETTO:-0800
TZNAME:PST
DTSTART:20221106T090000
END:STANDARD
BEGIN:DAYLIGHT
TZOFFSETFROM:-0800
TZOFFSETTO:-0700
TZNAME:PDT
DTSTART:20230312T100000
END:DAYLIGHT
BEGIN:STANDARD
TZOFFSETFROM:-0700
TZOFFSETTO:-0800
TZNAME:PST
DTSTART:20231105T090000
END:STANDARD
END:VTIMEZONE
BEGIN:VEVENT
DTSTART;TZID=America/Vancouver:20220506T153000
DTEND;TZID=America/Vancouver:20220506T173000
DTSTAMP:20260424T010357
CREATED:20220413T214649Z
LAST-MODIFIED:20220908T191250Z
UID:10000086-1651851000-1651858200@www.embarksustainability.org
SUMMARY:Seedling to Sidedish: Explore Cultural Plants and Palettes
DESCRIPTION:Join us during this year’s Burnaby Festival of Learning to discover how you can cultivate and cook a culturally diverse array of fruits and veggies. \nIn this workshop\, you’ll learn to grow plants and your palette by exploring the produce different communities use to create their cultural meals. Walk through the process from seedling to side-dish\, learn about creating just food systems\, and explore the accessibility of culturally significant foods. \nSeeds and recipe cards included! Join us in the Student Union Building Learning Garden on May 6th. \n			\n				SECURE YOUR SPOT
URL:https://www.embarksustainability.org/event/seedling-to-sidedish-explore-cultural-plants-and-palettes/
LOCATION:Embark Sustainability’s SUB Learning Garden\, 8888 University Drive\, Burnaby\, British Columbia\, V5A 1S6\, Canada
ATTACH;FMTTYPE=image/png:https://www.embarksustainability.org/wp-content/uploads/2022/04/Seedling-to-Sidedish_FBTwit.png
END:VEVENT
END:VCALENDAR