BEGIN:VCALENDAR
VERSION:2.0
PRODID:-//Embark Sustainability Society - ECPv6.15.20//NONSGML v1.0//EN
CALSCALE:GREGORIAN
METHOD:PUBLISH
X-WR-CALNAME:Embark Sustainability Society
X-ORIGINAL-URL:https://www.embarksustainability.org
X-WR-CALDESC:Events for Embark Sustainability Society
REFRESH-INTERVAL;VALUE=DURATION:PT1H
X-Robots-Tag:noindex
X-PUBLISHED-TTL:PT1H
BEGIN:VTIMEZONE
TZID:America/Vancouver
BEGIN:DAYLIGHT
TZOFFSETFROM:-0800
TZOFFSETTO:-0700
TZNAME:PDT
DTSTART:20230312T100000
END:DAYLIGHT
BEGIN:STANDARD
TZOFFSETFROM:-0700
TZOFFSETTO:-0800
TZNAME:PST
DTSTART:20231105T090000
END:STANDARD
BEGIN:DAYLIGHT
TZOFFSETFROM:-0800
TZOFFSETTO:-0700
TZNAME:PDT
DTSTART:20240310T100000
END:DAYLIGHT
BEGIN:STANDARD
TZOFFSETFROM:-0700
TZOFFSETTO:-0800
TZNAME:PST
DTSTART:20241103T090000
END:STANDARD
BEGIN:DAYLIGHT
TZOFFSETFROM:-0800
TZOFFSETTO:-0700
TZNAME:PDT
DTSTART:20250309T100000
END:DAYLIGHT
BEGIN:STANDARD
TZOFFSETFROM:-0700
TZOFFSETTO:-0800
TZNAME:PST
DTSTART:20251102T090000
END:STANDARD
END:VTIMEZONE
BEGIN:VEVENT
DTSTART;TZID=America/Vancouver:20240125T173000
DTEND;TZID=America/Vancouver:20240125T193000
DTSTAMP:20260425T202249
CREATED:20231206T214106Z
LAST-MODIFIED:20240201T003403Z
UID:10000065-1706203800-1706211000@www.embarksustainability.org
SUMMARY:Beyond Screens Community Kitchen
DESCRIPTION:Beyond Screens Community Kitchen\n			\n			\n				\n				\n				\n				\n			\n				\n				\n				\n				\n				\n				\n				\n				\n				\n				\n				\n					\n					\n						Date & Time\n						Thu\, January 25\, 20245:30 PM – 7:30 PM PDT \n					\n				\n			\n			\n				\n				\n				\n				\n				\n				\n				\n				\n				\n				\n					\n					\n						Location\n						SUB Community Kitchen\, room #2125 – SFU Burnaby \n					\n				\n			\n			\n				\n				\n				\n				\n				\n				Register now\n			\n			\n				\n				\n				\n				\n			\n				\n				\n				\n				\n				\n				\n				\n				\n				\n				\n				UPDATE: Registration is now full due to the overwhelming interest in the event! Thank you for your support and stay tuned for updates on our next Community Kitchen on Thursday\, Feb 29th. \nWhat does it mean to cook in a digital age? Join Embark Sustainability\, SFSS Women’s Centre and ReclaimTech SFU for an evening exploring the ways online recipe sharing impacts the way we preserve\, share\, remix and (re)connect to cultural recipes over a delish mix of Ukrainian & Chinese foods. \nYou’ll be making: \n\npierogi\nspicy cucumber salad\nscallion pancakes\nborscht\n\nLet’s chat bytes and bites together! Members of all gender identities and expressions are welcome 🙂 This event is first come first serve until we reach capacity\, so we encourage you to arrive on time and register to get reminders and updates\, share any dietary restrictions or access needs\, and give us a better sense of numbers. Thanks and see you there! \n			\n				\n				\n				\n				\n				Land Acknowledgement\nThis event takes place on the unceded homelands of the xʷməθkʷəy̓əm (Musqueam)\, Sḵwx̱wú7mesh Úxwumixw (Squamish)\, səlil̓ilw̓ətaʔɬ (Tsleil-Waututh)\, and kʷikʷəƛw̓əm (Kwikwetlem) Nations.\n			\n				\n				\n				\n				\n				About the facilitator\nDanielHello\, my name is Daniel Kuziw (he/him). I am a 3rd year molecular biology student and a co-president of ReclaimTech. I frequently like to use cooking as an outlet to destress from the ungodly amount of anxiety this life gives us and a way to try and coerce my Slavic family into being more plant-based. \nRiniRini Liu (she/her) is the external relations executive of ReclaimTech and a political science and economics undergraduate student. She yearns to throw her phone away and live alone in the forest but she needs Youtube to eat. Her goals are to live in and uphold a community that is able to embrace the femininity of life recovered from the dominating effects of colonial and capitalist practice or die in the near future from a microchip implanted in her brain.  \n			\n				\n				\n				\n				\n				Event Accessibility\nEmbark Sustainability events are free and open to Embark Sustainability members which includes Simon Fraser University undergraduate and graduate students\, as well as Embark Sustainability Associate Members. \nThis event will be held indoors at the SUB Community Kitchen\, room #2125 of the Student Union Building (SUB)\, SFU Burnaby. Accessibility details include: \n\nAttendees are free to opt in and opt out of activities as suits their needs throughout the event\, including exiting and re-entering the event space.\nUnfortunately\, some appliances and counter areas of this room are not accessible when using a wheelchair or other mobility aids. The dining/lounge area is accessible when using a wheelchair or other mobility aids.\nWe aim to host a scent-free space. Please refrain from wearing scented products in attendance of this event.\nUnfortunately\, we cannot provide ASL interpretation at this time. We will be providing written recipe instructions.\n\nWe aim to make our events accessible to as many of our community members as possible. If we can take further action to make this event accessible to you\, please contact Embark Sustainability’s Food Justice Coordinator at food@embarksustainability.org. \n			\n				\n				\n				\n				\n				Health & Safety\nParticipants who register are agreeing to release Embark Sustainability Society from any liability related to COVID-19. \nMasks are required at all times\, until we are seated and eating as socially distanced as possible. Embark Sustainability will also provide sanitation supplies for wiping down furniture\, and hand sanitizer for guests to use. \n			\n				\n				\n				\n				\n				Community Agreement\nBy registering to attend this event\, you are agreeing to be respectful when listening to and communicating with others\, and be mindful of the space you are taking up amongst your peers. \nEmbark Sustainability does not tolerate violence or aggression against others on the basis of race\, ethnicity\, place of origin\, sexual orientation\, gender identity\, religious affiliation\, or ability. Please also refer to people using the introductions they provide and do not assume pronouns/gender/knowledge based on someone’s name or appearance. \nIf these agreements are broken by someone\, we will have to ensure the safety of our community members by removing them from the event. \n			\n				\n				\n				\n				\n				Questions\nIf you have any questions about this event\, please contact Embark Sustainability’s Food Justice Coordinator at food@embarksustainability.org. \n			\n			\n				\n				\n				\n				\n				\n				\n				\n				\n				\n				Register for this event\nGET REMINDERS & EVENT DETAILS now
URL:https://www.embarksustainability.org/event/beyond-screens-community-kitchen/
LOCATION:SUB Community Kitchen – SFU Burnaby\, 8888 University Drive\, Burnaby\, British Columbia\, V5A 1S6\, Canada
CATEGORIES:Community Kitchen
ATTACH;FMTTYPE=image/png:https://www.embarksustainability.org/wp-content/uploads/2023/12/ESS-CK_Eventbrite-1-1.png
END:VEVENT
END:VCALENDAR