BEGIN:VCALENDAR
VERSION:2.0
PRODID:-//Embark Sustainability Society - ECPv6.15.20//NONSGML v1.0//EN
CALSCALE:GREGORIAN
METHOD:PUBLISH
X-ORIGINAL-URL:https://www.embarksustainability.org
X-WR-CALDESC:Events for Embark Sustainability Society
REFRESH-INTERVAL;VALUE=DURATION:PT1H
X-Robots-Tag:noindex
X-PUBLISHED-TTL:PT1H
BEGIN:VTIMEZONE
TZID:America/Vancouver
BEGIN:DAYLIGHT
TZOFFSETFROM:-0800
TZOFFSETTO:-0700
TZNAME:PDT
DTSTART:20250309T100000
END:DAYLIGHT
BEGIN:STANDARD
TZOFFSETFROM:-0700
TZOFFSETTO:-0800
TZNAME:PST
DTSTART:20251102T090000
END:STANDARD
BEGIN:DAYLIGHT
TZOFFSETFROM:-0800
TZOFFSETTO:-0700
TZNAME:PDT
DTSTART:20260308T100000
END:DAYLIGHT
BEGIN:STANDARD
TZOFFSETFROM:-0700
TZOFFSETTO:-0800
TZNAME:PST
DTSTART:20261101T090000
END:STANDARD
BEGIN:DAYLIGHT
TZOFFSETFROM:-0800
TZOFFSETTO:-0700
TZNAME:PDT
DTSTART:20270314T100000
END:DAYLIGHT
BEGIN:STANDARD
TZOFFSETFROM:-0700
TZOFFSETTO:-0800
TZNAME:PST
DTSTART:20271107T090000
END:STANDARD
END:VTIMEZONE
BEGIN:VEVENT
DTSTART;TZID=America/Vancouver:20260205T133000
DTEND;TZID=America/Vancouver:20260205T144500
DTSTAMP:20260423T184755
CREATED:20260107T105114Z
LAST-MODIFIED:20260107T115348Z
UID:10000882-1770298200-1770302700@www.embarksustainability.org
SUMMARY:Food Rescue
DESCRIPTION:Embark Sustainability’s\nFood Rescue Program\nWe collect healthy yet imperfect-looking produce that does not meet the selling criteria of supermarket chains and redistribute it to Simon Fraser University (SFU) students for free or by donation. Food is collected from Nesters Market and distributed at SFU Burnaby. \nStop by and grab some brain food between classes! Distribution takes place throughout each academic term and does not occur during exam periods or breaks between terms.
URL:https://www.embarksustainability.org/event/food-rescue-8/2026-02-05/
LOCATION:British Columbia
CATEGORIES:Food Justice,Food Rescue
ATTACH;FMTTYPE=image/jpeg:https://www.embarksustainability.org/wp-content/uploads/2024/11/Website-Banners-2.webp
END:VEVENT
BEGIN:VEVENT
DTSTART;TZID=America/Vancouver:20260212T133000
DTEND;TZID=America/Vancouver:20260212T144500
DTSTAMP:20260423T184756
CREATED:20260107T105114Z
LAST-MODIFIED:20260107T115348Z
UID:10000883-1770903000-1770907500@www.embarksustainability.org
SUMMARY:Food Rescue
DESCRIPTION:Embark Sustainability’s\nFood Rescue Program\nWe collect healthy yet imperfect-looking produce that does not meet the selling criteria of supermarket chains and redistribute it to Simon Fraser University (SFU) students for free or by donation. Food is collected from Nesters Market and distributed at SFU Burnaby. \nStop by and grab some brain food between classes! Distribution takes place throughout each academic term and does not occur during exam periods or breaks between terms.
URL:https://www.embarksustainability.org/event/food-rescue-8/2026-02-12/
LOCATION:British Columbia
CATEGORIES:Food Justice,Food Rescue
ATTACH;FMTTYPE=image/jpeg:https://www.embarksustainability.org/wp-content/uploads/2024/11/Website-Banners-2.webp
END:VEVENT
BEGIN:VEVENT
DTSTART;TZID=America/Vancouver:20260212T173000
DTEND;TZID=America/Vancouver:20260212T193000
DTSTAMP:20260423T184756
CREATED:20260107T102244Z
LAST-MODIFIED:20260203T024348Z
UID:10000872-1770917400-1770924600@www.embarksustainability.org
SUMMARY:Annual General Meeting 2026
DESCRIPTION:Annual General Meeting\n			\n			\n				\n				\n				\n				\n			\n				\n				\n				\n				\n				\n				\n				\n				\n				\n				\n				\n					\n					\n						Date & Time\n						Thu\, Feb 12\, 20265:30 PM – 7:30 PM PDT \n					\n				\n			\n			\n				\n				\n				\n				\n				\n				\n				\n				\n				\n				\n					\n					\n						Location\n						SUB 4200 \n					\n				\n			\n			\n				\n				\n				\n				\n				\n				Register now\n			\n			\n				\n				\n				\n				\n			\n				\n				\n				\n				\n				\n				\n				\n				\n				\n				\n				Join us at our Annual General Meeting to celebrate this past year’s accomplishments and elect new Board Members. This is your opportunity to have your say as a student member—and to win awesome prizes!  \nThe AGM Booklet (including information on how to vote) will be provided digitally closer to the event. Please RSVP with your SFU student email address for voting purposes; non SFU emails will not be able to access the AGM. \n			\n				\n				\n				\n				\n				Land Acknowledgement\nEmbark Sustainability’s work takes place across the unceded homelands of the xʷməθkʷəy̓əm (Musqueam)\, Sḵwx̱wú7mesh Úxwumixw (Squamish)\, səlil̓ilw̓ətaʔɬ (Tsleil-Waututh)\, kʷikʷəƛw̓əm (Kwikwetlem)\, q̓íc̓əy̓ (Katzie)\, Qayqayt\, Kwantlen\, Semiahmoo\, and Tsawwassen Nations. We greatly encourage our community members to reflect on the lands they are tuning in from; learn whose lands you occupy through native-land.ca.\n			\n				\n				\n				\n				\n				Event Accessibility\nEmbark Sustainability events are free and open to Embark members which includes Simon Fraser University undergraduate and graduate students\, as well as Embark Associate Members. For this event\, you will have to register with your active SFU email. \nThis event will be held indoors at SFU Burnaby in the SUB Ballroom (located on the 5th floor of the SUB). Accessibility details to note include: \n\nThe fifth floor of the SUB is accessible via elevator and hosts accessible washrooms\, including a single-stall all gender washroom.\nWe aim to host a scent-free space. Please refrain from wearing scented products in attendance of this event.\nUnfortunately\, we cannot provide ASL interpretation at this time. However\, we can provide a copy of the facilitator’s script.\nSturdy\, armless chairs will be available for those looking to sit during this event.\nAttendees are free to opt in and opt out of activities as suits their needs throughout the event\, including exiting and re-entering the event space.\n\nWe aim to make our events accessible to as many of our community members as possible. If we can take further action to make this event accessible to you\, or if you have any questions\, please contact us at info@embarksustainability.org. \n			\n				\n				\n				\n				\n				Community Agreement\nBy registering to attend this event\, you are agreeing to be respectful when listening to and communicating with others\, and be mindful of the space you are taking up amongst your peers. \nEmbark Sustainability does not tolerate violence or aggression against others on the basis of race\, ethnicity\, place of origin\, sexual orientation\, gender identity\, religious affiliation\, or ability. Please also refer to people using the introductions they provide and do not assume pronouns/gender/knowledge based on someone’s name or appearance. \nIf these agreements are broken by someone\, we will have to ensure the safety of our community members by removing them from the event.\n			\n				\n				\n				\n				\n				Questions\nIf you have any questions about this event\, please contact Embark Sustainability at info@embarksustainability.org.\n			\n			\n				\n				\n				\n				\n				\n				\n				\n				\n				\n				Register for this event\nGET YOUR TICKET NOW
URL:https://www.embarksustainability.org/event/agm-2026/
LOCATION:Student Union Building – SFU Burnaby\, 8888 University Drive\, Burnaby\, British Columbia\, V5A 1S6\, Canada
CATEGORIES:Embark Sustainability's AGM
ATTACH;FMTTYPE=image/jpeg:https://www.embarksustainability.org/wp-content/uploads/2025/02/2025-agm.webp
END:VEVENT
BEGIN:VEVENT
DTSTART;TZID=America/Vancouver:20260226T133000
DTEND;TZID=America/Vancouver:20260226T144500
DTSTAMP:20260423T184756
CREATED:20260107T105114Z
LAST-MODIFIED:20260107T115348Z
UID:10000885-1772112600-1772117100@www.embarksustainability.org
SUMMARY:Food Rescue
DESCRIPTION:Embark Sustainability’s\nFood Rescue Program\nWe collect healthy yet imperfect-looking produce that does not meet the selling criteria of supermarket chains and redistribute it to Simon Fraser University (SFU) students for free or by donation. Food is collected from Nesters Market and distributed at SFU Burnaby. \nStop by and grab some brain food between classes! Distribution takes place throughout each academic term and does not occur during exam periods or breaks between terms.
URL:https://www.embarksustainability.org/event/food-rescue-8/2026-02-26/
LOCATION:British Columbia
CATEGORIES:Food Justice,Food Rescue
ATTACH;FMTTYPE=image/jpeg:https://www.embarksustainability.org/wp-content/uploads/2024/11/Website-Banners-2.webp
END:VEVENT
END:VCALENDAR