BEGIN:VCALENDAR
VERSION:2.0
PRODID:-//Embark Sustainability Society - ECPv6.15.20//NONSGML v1.0//EN
CALSCALE:GREGORIAN
METHOD:PUBLISH
X-ORIGINAL-URL:https://www.embarksustainability.org
X-WR-CALDESC:Events for Embark Sustainability Society
REFRESH-INTERVAL;VALUE=DURATION:PT1H
X-Robots-Tag:noindex
X-PUBLISHED-TTL:PT1H
BEGIN:VTIMEZONE
TZID:America/Vancouver
BEGIN:DAYLIGHT
TZOFFSETFROM:-0800
TZOFFSETTO:-0700
TZNAME:PDT
DTSTART:20220313T100000
END:DAYLIGHT
BEGIN:STANDARD
TZOFFSETFROM:-0700
TZOFFSETTO:-0800
TZNAME:PST
DTSTART:20221106T090000
END:STANDARD
BEGIN:DAYLIGHT
TZOFFSETFROM:-0800
TZOFFSETTO:-0700
TZNAME:PDT
DTSTART:20230312T100000
END:DAYLIGHT
BEGIN:STANDARD
TZOFFSETFROM:-0700
TZOFFSETTO:-0800
TZNAME:PST
DTSTART:20231105T090000
END:STANDARD
BEGIN:DAYLIGHT
TZOFFSETFROM:-0800
TZOFFSETTO:-0700
TZNAME:PDT
DTSTART:20240310T100000
END:DAYLIGHT
BEGIN:STANDARD
TZOFFSETFROM:-0700
TZOFFSETTO:-0800
TZNAME:PST
DTSTART:20241103T090000
END:STANDARD
END:VTIMEZONE
BEGIN:VEVENT
DTSTART;TZID=America/Vancouver:20230914T040000
DTEND;TZID=America/Vancouver:20230914T193000
DTSTAMP:20260425T185947
CREATED:20230823T190627Z
LAST-MODIFIED:20230823T190627Z
UID:10000118-1694664000-1694719800@www.embarksustainability.org
SUMMARY:Catalyst Cafe: Unleash Climate Curiosity with Embark Sustainability
DESCRIPTION:Getting involved in climate action can feel like a lot to take on at once. But\, if you’re looking to dip your toes in\, then join us in embarking on a journey to feeling more comfortable talking about our climate. Whether you’re a new student or well acquainted with the SFU campus we’re creating space for new relationships to take form. During one afternoon you’ll explore various avenues to begin your climate activism journey with Embark Sustainability as we together discover: \n\nour changing climate\, food production\, and how they relate – directly from our learning gardens\nyour strengths in social movement\nthe importance of community building\nwhat the concept of food justice entails while creating meals together\n\nDon’t miss an opportunity to meet folks curious about our climate and get to know Embark Sustainability. Register now and pass the information forward to someone who also might be interested. \nAGENDA \n4:00 pm – Meet at the Embark Studio \n5:00 pm – Gardens tour\, learn about starting your gardening journey \n5:30 pm – Community Kitchen\, create food with your fellow attendees \n6:30 pm – Social Movements Workshop\, learn how to play to your strengths in movements \n7:30 pm – Bye bye new friends! \n  \nLAND ACKNOWLEDGEMENT \nThis event will take place on the unceded homelands of the xʷməθkʷəy̓əm (Musqueam)\, Sḵwx̱wú7mesh Úxwumixw (Squamish)\, səlil̓ilw̓ətaʔɬ (Tsleil-Waututh)\, and kʷikʷəƛw̓əm (Kwikwetlem) Nations. Unceded means that this land was never surrendered\, transferred or relinquished in any way and\, as such\, the land remains sovereign Indigenous territory. In making this acknowledgement\, we understand that it is our responsibility as settlers of this territory to ensure that our actions are congruent with our hopes to center decolonization in our work. \n  \nACCESSIBILITY \nEmbark Sustainability events are free and open to Embark members which includes Simon Fraser University undergraduate and graduate students\, as well as Embark Sustainability Associate Members. \n  \nThis event will be held indoors at the Embark Studio\, room #1310 of the Student Union Building (SUB)\, SFU Burnaby. The SUB is located south of Freedom Square between the Diamond Family Auditorium (DFA) and the Academic Quadrangle (AQ). \n  \nThe Embark Studio is: \nwheelchair accessible \nwelcomes all gender identities and expressions \na tree nut and peanut-free zone \na scent-free zone \nlocated near wheelchair accessible and gender-neutral restrooms \nprovides access to a quiet space for personal meditation\, reflection\, or prayers \nWe aim to make our events accessible to as many of our community members as possible. If we can take further action to make this event accessible to you\, or if you have any questions\, please contact us at programs@embarksustainability.org. \n  \nCOMMUNITY AGREEMENT \nBy registering to attend this event or events\, you are agreeing to be respectful when listening to and communicating with others\, and be mindful of the space you are taking up amongst your peers. \nEmbark Sustainability does not tolerate violence or aggression against others on the basis of race\, ethnicity\, place of origin\, sexual orientation\, gender identity\, religious affiliation\, or ability. Please also refer to people using the introductions they provide and do not assume pronouns/gender/knowledge based on someone’s name or appearance. \nIf these agreements are broken by someone\, we will have to ensure the safety of our community members by removing them from the event.
URL:https://www.embarksustainability.org/event/catalyst-cafe-unleash-climate-curiosity-with-embark-sustainability/
LOCATION:The Embark Studio\, SUB 1310 - 8888 University Drive\, Burnaby\, British Columbia\, V5A 1S6\, Canada
CATEGORIES:Climate Equity,Embark Sustainability,Food Justice
ATTACH;FMTTYPE=image/png:https://www.embarksustainability.org/wp-content/uploads/2023/08/ESS-Climate_-Catalyst_Cafe.png
END:VEVENT
BEGIN:VEVENT
DTSTART;TZID=America/Vancouver:20230921T173000
DTEND;TZID=America/Vancouver:20230921T193000
DTSTAMP:20260425T185947
CREATED:20230901T164204Z
LAST-MODIFIED:20230911T210522Z
UID:10000119-1695317400-1695324600@www.embarksustainability.org
SUMMARY:Trifecta Fiesta: New School Year\, Ethiopian New Year\, and a New Programs Manager
DESCRIPTION:Trifecta Fiesta: New School Year\, Ethiopian New Year\, and a New Programs Manager\n			\n			\n				\n				\n				\n				\n			\n				\n				\n				\n				\n				\n				\n				\n				\n				\n				\n				\n					\n					\n						Date & Time\n						Thu\, September 21\, 20235:30 PM – 7:30 PM PDT \n					\n				\n			\n			\n				\n				\n				\n				\n				\n				\n				\n				\n				\n				\n					\n					\n						Location\n						SUB Community Kitchen\, room #2125 – SFU Burnaby \n					\n				\n			\n			\n				\n				\n				\n				\n				\n				Register now\n			\n			\n				\n				\n				\n				\n			\n				\n				\n				\n				\n				\n				\n				\n				\n				\n				\n				About this event\nGet ready to spice up your arrival or return to the SFU campus as Community Kitchens returns with a bang for the new semester! Join Embark Sustainability and SFSS Women’s Centre on a trifecta fiesta with vibrant Ethiopian flavours as we celebrate a new school year\, Embark Sustainability’s new programs manager\, and pay homage to Ethiopian New Year in style! 🥳🇪🇹 Prepare to tantalize your taste buds and expand your culinary horizons as you dive into the heart of Ethiopian cuisine while discussing how our traditional cultural heritages interact with our newfound cultural environments. \nDon’t miss out on this sizzling opportunity to ignite your senses\, forge new friendships\, and make unforgettable memories. Mark your calendars\, because the Community Kitchens are back\, and they’re here to spice up your university life like never before! 🔥📚 \nRSVP ASAP to secure your spot. Members of all gender identities and expressions are welcome! \n			\n				\n				\n				\n				\n				Land Acknowledgement\nThis event takes place on the unceded homelands of the xʷməθkʷəy̓əm (Musqueam)\, Sḵwx̱wú7mesh Úxwumixw (Squamish)\, səlil̓ilw̓ətaʔɬ (Tsleil-Waututh)\, and kʷikʷəƛw̓əm (Kwikwetlem) Nations.\n			\n				\n				\n				\n				\n				About the facilitator\nZaena Tesfa (she/they)Hi there! My name is Zaena\, and I am the new Programs Manager for Embark Sustainability! I’m recently graduated from SFU as a Philosophy and International Studies Major. I was raised on the unceded traditional territories of the Kwikwetlem nation\, which resides in shared territories of the Musquem\, Squamish\, Tsleil-Waututh\, Qayqayt\, Sto’:lo\, and Katzi nations – or\, what is Colonially known as “Coquitlam”. \nThere’s a lot of new beginnings for me – A new school year\, Ethiopian New Years has just passed\, and I’m new to Embark! Newness often feels like a sudden and uncomfortable break in what we know. But when I think of newness\, I also think of how cultural traditions transform to create new twists\, giving us throughlines to the past and present. \nFood is often at this epicentre of these throughlines. It carries on the traditions of our ancestors\, while adapting to its new environments. This cultural fluidity reminds me that newness has a cushion of the familiar underneath – which is almost as comforting a thought as eating some delicious Ethiopian meals. \n			\n				\n				\n				\n				\n				Event Accessibility\nEmbark Sustainability events are free and open to Embark Sustainability members which includes Simon Fraser University undergraduate and graduate students\, as well as Embark Sustainability Associate Members. \nThis event will be held indoors at the SUB Community Kitchen\, room #2125 of the Student Union Building (SUB)\, SFU Burnaby. Accessibility details include: \n– As we’ll be addressing sensitive topics\, it’s important that our attendees are able to address their needs in the moment. Attendees are free to opt in and opt out of activities as suits their needs throughout the event\, including exiting and re-entering the event space. \n– Unfortunately\, some appliances and counter areas of this room are not accessible when using a wheelchair or other mobility aids. The dining/lounge area is accessible when using a wheelchair or other mobility aids. \n– We aim to host a scent-free space. Please refrain from wearing scented products in attendance of this event. \n– Unfortunately\, we cannot provide ASL interpretation at this time. We will be providing written recipe instructions. \nWe aim to make our events accessible to as many of our community members as possible. If we can take further action to make this event accessible to you\, please contact Embark Sustainability’s Programs Manager at programs@embarksustainability.org. \n			\n				\n				\n				\n				\n				Health & Safety\nParticipants who register are agreeing to release Embark Sustainability Society from any liability related to COVID-19. \nMasks are required at all times\, until we are seated and eating as socially distanced as possible. Embark Sustainability will also provide sanitation supplies for wiping down furniture\, and hand sanitizer for guests to use. \n			\n				\n				\n				\n				\n				Community Agreement\nBy registering to attend this event\, you are agreeing to be respectful when listening to and communicating with others\, and be mindful of the space you are taking up amongst your peers. \nEmbark Sustainability does not tolerate violence or aggression against others on the basis of race\, ethnicity\, place of origin\, sexual orientation\, gender identity\, religious affiliation\, or ability. Please also refer to people using the introductions they provide and do not assume pronouns/gender/knowledge based on someone’s name or appearance. \nIf these agreements are broken by someone\, we will have to ensure the safety of our community members by removing them from the event. \n			\n				\n				\n				\n				\n				Questions\nIf you have any questions about this event\, please contact Embark Sustainability’s Programs Manager at programs@embarksustainability.org. \n			\n			\n				\n				\n				\n				\n				\n				\n				\n				\n				\n				Register for this event\nReserve your FREE Embark Sustainability ticket now
URL:https://www.embarksustainability.org/event/trifecta-fiesta-new-school-year-ethiopian-new-year-and-a-new-programs-manager/
LOCATION:SUB Community Kitchen – SFU Burnaby\, 8888 University Drive\, Burnaby\, British Columbia\, V5A 1S6\, Canada
CATEGORIES:Community Kitchen,Food Justice
END:VEVENT
END:VCALENDAR