BEGIN:VCALENDAR
VERSION:2.0
PRODID:-//Embark Sustainability Society - ECPv6.15.20//NONSGML v1.0//EN
CALSCALE:GREGORIAN
METHOD:PUBLISH
X-WR-CALNAME:Embark Sustainability Society
X-ORIGINAL-URL:https://www.embarksustainability.org
X-WR-CALDESC:Events for Embark Sustainability Society
REFRESH-INTERVAL;VALUE=DURATION:PT1H
X-Robots-Tag:noindex
X-PUBLISHED-TTL:PT1H
BEGIN:VTIMEZONE
TZID:America/Vancouver
BEGIN:DAYLIGHT
TZOFFSETFROM:-0800
TZOFFSETTO:-0700
TZNAME:PDT
DTSTART:20180311T100000
END:DAYLIGHT
BEGIN:STANDARD
TZOFFSETFROM:-0700
TZOFFSETTO:-0800
TZNAME:PST
DTSTART:20181104T090000
END:STANDARD
BEGIN:DAYLIGHT
TZOFFSETFROM:-0800
TZOFFSETTO:-0700
TZNAME:PDT
DTSTART:20190310T100000
END:DAYLIGHT
BEGIN:STANDARD
TZOFFSETFROM:-0700
TZOFFSETTO:-0800
TZNAME:PST
DTSTART:20191103T090000
END:STANDARD
BEGIN:DAYLIGHT
TZOFFSETFROM:-0800
TZOFFSETTO:-0700
TZNAME:PDT
DTSTART:20200308T100000
END:DAYLIGHT
BEGIN:STANDARD
TZOFFSETFROM:-0700
TZOFFSETTO:-0800
TZNAME:PST
DTSTART:20201101T090000
END:STANDARD
END:VTIMEZONE
BEGIN:VEVENT
DTSTART;TZID=America/Vancouver:20191104T170000
DTEND;TZID=America/Vancouver:20191104T193000
DTSTAMP:20260425T070223
CREATED:20191024T000651Z
LAST-MODIFIED:20191024T000845Z
UID:10000015-1572886800-1572895800@www.embarksustainability.org
SUMMARY:Food and Climate Think Tank
DESCRIPTION:Let’s explore our food system & climate resiliency.\n\n\n\n\n\n\nAbout this Event\n\n\nOur Food & Climate Think Tank will include a series of short presentations on the future of our food system and climate resiliency at Simon Fraser University and in the wider Metro Vancouver community! \nJoin us for an evening packed with ideas as we dive deeper into the relationship between food systems and climate change mitigation. This Think Tank will provide you with an opportunity to engage with the experts and broaden your understanding of how climate change affects our food systems and vice versa. \nAGENDA \n5 PM – Doors open \n5:30 PM – First round of Speakers \n6:20 PM – Networking/Break \n6:50 PM – Second round of speakers \nAcknowledgments \nThis event is being hosted on the unceded territory of the Coast Salish Peoples. In particular\, this includes the land of the Musqueam\, Skxwú7mesh\, Tsleil-Waututh nations. We re-express our commitment to reconciliation as it is our moral responsibility as settlers to these lands to ensure that our meetings and actions are congruent with Musqueam\, Skxwú7mesh\, Tsleil-Waututh nations values and interests as we walk down the path of reconciliation together. \nAccessibility \nThe Segal Building is wheelchair accessible. \nEmbark events are free and open to Embark members which includes Simon Fraser University undergraduate and graduate students\, as well as Embark Associate Members.
URL:https://www.embarksustainability.org/event/food-and-climate-think-tank/
CATEGORIES:Climate Action,Food Systems Change
ATTACH;FMTTYPE=image/png:https://www.embarksustainability.org/wp-content/uploads/2019/10/Artboard-2PK-event-v.2story-embark-orange-shirt.png
END:VEVENT
BEGIN:VEVENT
DTSTART;TZID=America/Vancouver:20191030T043000
DTEND;TZID=America/Vancouver:20191030T193000
DTSTAMP:20260425T070223
CREATED:20190913T185457Z
LAST-MODIFIED:20191006T041545Z
UID:10000013-1572409800-1572463800@www.embarksustainability.org
SUMMARY:October Community Kitchen: Recipes from Addis Ababa\, Ethiopia
DESCRIPTION:Come together to cook and enjoy a four-course vegetarian or plant-based meal\, while connecting with other SFU students.\nAbout this Event\nCommunity Kitchens are a low-barrier gathering space where SFU students come together to cook and enjoy a four-course vegetarian or plant-based meal over a three-hour period. Join us for the second Community Kitchen for the fall semester\, at the Women’s Centre October 30th. Read below on this month’s facilitator\, Miraf Haile. \nA little bit about myself. I was born and raised in Addis Ababa\, Ethiopia. My parents are both from there. Because my family size is large\, I spent half the time at my grandmother’s\, which is where I learned how to cook. I came to Canada in December 2014 to study and cooking together with music is my way of staying connected to my home country and my Grandma. \nAcknowledgments \nThis event is being hosted on the unceded territory of the Coast Salish Peoples. In particular\, this includes the land of the Tsleil-Waututh\, Musqueam\, Skwxwú7mesh\, and Kwikwetlem nations where we work\, live\, and play. \nAccessibility \nThe Women’s Centre has opened up their lounge (TC 3013) to all genders for this Community Kitchen. The Women’s Centre is wheelchair accessible. \nThis event is a collaboration between Embark and the SFSS Women’s Centre. Embark events are free and open to Embark members which includes Simon Fraser University undergraduate and graduate students\, as well as Embark Associate Members.
URL:https://www.embarksustainability.org/event/september-community-kitchen-cook-with-colours/
LOCATION:SFSS Women’s Centre\, 8888 University Drive\, TC3014\, Burnaby\, Canada
CATEGORIES:Community Kitchen
ATTACH;FMTTYPE=image/jpeg:https://www.embarksustainability.org/wp-content/uploads/2019/09/original.jpg
END:VEVENT
BEGIN:VEVENT
DTSTART;TZID=America/Vancouver:20191010T123000
DTEND;TZID=America/Vancouver:20191010T140000
DTSTAMP:20260425T070223
CREATED:20191001T221350Z
LAST-MODIFIED:20191006T040143Z
UID:10000011-1570710600-1570716000@www.embarksustainability.org
SUMMARY:Urban Foraging Workshop
DESCRIPTION:An exclusive event that will bring you closer to a First Nations perspective\, focused on their wisdom and edible\, and medicinal qualities.\nAbout this Event\nWinter and mid-terms are closing in. Leave your stress behind you and join us at the Learning Garden for a workshop that will nurture your soul. Together with Lori Snyder\, we’re inviting you to explore the intersection of nature and city landscape\, as we learn about plant identification\, harvest times\, what specific plants offer\, and how to incorporate this knowledge into a modern lifestyle. An exclusive event that will bring you closer to a First Nations perspective\, focused on their wisdom and edible\, and medicinal qualities. \nPlease remember to dress appropriately since this is an outdoor workshop – rain or shine\, we’ll still be outside. \nInstructor Bio: \nLori Snyder is a Metis herbalist\, educator\, mother\, story-teller\, and instructor who shares the wisdom and traditions of her indigenous Tsuu T’ina roots. Assinboine\, Cree\, Ojibwe\, and Nipissing Nations blend with her Scottish\, French\, and Celtic ancestry. \nLori offers workshops on foraging for food and medicine to different communities around Metro Vancouver\, Coast Salish territories. \nAcknowledgments \nThis event is being hosted on the unceded territory of the Coast Salish Peoples. In particular\, this includes the land of the Tsleil-Waututh\, Musqueam\, Skwxwú7mesh\, and Kwikwetlem nations where we work\, live\, and play. \nEmbark events are free and open to Embark members which includes Simon Fraser University undergraduate and graduate students\, as well as Embark Associate Members. \nAccessibility \nThis event is not wheelchair accessible.
URL:https://www.embarksustainability.org/event/urban-foraging-workshop/
LOCATION:Embark Sustainability’s Burnaby Learning Garden\, Science Road\, Burnaby\, BC\, Canada
CATEGORIES:Workshop
GEO:49.278127;-122.919355
X-APPLE-STRUCTURED-LOCATION;VALUE=URI;X-ADDRESS=Embark Sustainability’s Burnaby Learning Garden Science Road Burnaby BC Canada;X-APPLE-RADIUS=500;X-TITLE=Science Road:geo:-122.919355,49.278127
END:VEVENT
BEGIN:VEVENT
DTSTART;TZID=America/Vancouver:20190927T123000
DTEND;TZID=America/Vancouver:20190927T170000
DTSTAMP:20260425T070223
CREATED:20190913T185805Z
LAST-MODIFIED:20190923T223459Z
UID:10000014-1569587400-1569603600@www.embarksustainability.org
SUMMARY:SFU Climate Strike
DESCRIPTION:On September 27th\, a global strike will demand an end to the age of fossil fuels. Embark together with SFU350\, ChangeSFU\, and the Sustainabiliteens are mobilizing SFU students\, staff\, and faculty that want to join the movement! Together we’ll march to show our elected leaders worldwide they need to act now for an equitable future. \n“If not you\, then who? If not now\, then when?” -Greta Thunberg \nLocation/Route: SFU students meet at Broadway City Hall\, Canada Line Station at 12:30 pm. Together we’ll walk over to march for climate change with start at Vancouver City Hall 1 pm.\nThe march will take us across the Cambie Street Bridge to Downtown Vancouver\, and finish on Hamilton Street between Georgia and Robson where there will be more speeches and awesome activities. \n!! Sign making: We’re working to secure space\, more information TBD. \n#climatestrike
URL:https://www.embarksustainability.org/event/climate-strike-sign-making/
LOCATION:Vancouver City Hall
CATEGORIES:Cause
ATTACH;FMTTYPE=image/png:https://www.embarksustainability.org/wp-content/uploads/2019/09/climate-strike.png
END:VEVENT
BEGIN:VEVENT
DTSTART;TZID=America/Vancouver:20190914T100000
DTEND;TZID=America/Vancouver:20190914T140000
DTSTAMP:20260425T070223
CREATED:20190830T215314Z
LAST-MODIFIED:20190830T215314Z
UID:10000025-1568455200-1568469600@www.embarksustainability.org
SUMMARY:Embark Camp - Our Annual Icebreaker
DESCRIPTION:Embark Camp is back and is going down Saturday\, September 14th from 10 am – 2pm! We’ll start at the GSS Lounge before adventuring around campus\, exploring sustainability topics while getting to know each other. This is a perfect opportunity to learn more about Embark and you can get involved at SFU. All Embarkers including volunteers\, staff members\, coordinators\, and Board Members are invited to join as well as any student interested in sustainability or a day of fun on campus! \nAgenda \nEmbark’s Story\nDRAW: Climate Solution Activity\nLunch\nReconciliation Walk\nLearning Garden Activity\nClosing Circle\nWe promise a Saturday filled with fun activities\, laughter\, and food!
URL:https://www.embarksustainability.org/event/embark-camp-our-annual-icebreaker/
LOCATION:GSS Lounge MBC 2212 – SFU Burnaby
CATEGORIES:Embark Sustainability Social's
END:VEVENT
BEGIN:VEVENT
DTSTART;TZID=America/Vancouver:20190822T123000
DTEND;TZID=America/Vancouver:20190822T143000
DTSTAMP:20260425T070223
CREATED:20190812T180535Z
LAST-MODIFIED:20190812T180535Z
UID:10000024-1566477000-1566484200@www.embarksustainability.org
SUMMARY:Winter Gardening: Extend the Season
DESCRIPTION:Welcome to a workshop where you will learn about year-round gardening – What it takes and How to do it! Gain the skills you need to grow crops during winter. Embark’s Garden Coordinator\, Pablo Vimos\, is opening up our garden for anyone interested in extending the season and gaining hands-on experience. \nOur facilitator Pablo has over 10 years of gardening experience\, is a Master Gardener\, ecologist\, and facilitates learning garden sessions for students of all ages. \nCome join us for a day of sprouting wellness and leave with reference materials and vegetable seeds to nourish! \n\nAcknowledgments \nThis event is being hosted on the unceded territory of the Coast Salish Peoples. In particular\, this includes the land of the Tsleil-Waututh\, Musqueam\, Skwxwú7mesh\, and Kwikwetlem nations where we work\, live\, and play. \nAccessibility\n \nThis workshop will take place on SFU Burnaby campus. Please be aware that this is a hands-on workshop and some light manual labour is required. \nFeel free to let us know if you foresee any barriers to participating in this event so that we can properly address them. \nThis event is not wheelchair accessible.
URL:https://www.embarksustainability.org/event/winter-gardening-extend-the-season/
LOCATION:Embark Sustainability’s Burnaby Learning Garden\, Science Road\, Burnaby\, BC\, Canada
CATEGORIES:Workshop
GEO:49.278127;-122.919355
X-APPLE-STRUCTURED-LOCATION;VALUE=URI;X-ADDRESS=Embark Sustainability’s Burnaby Learning Garden Science Road Burnaby BC Canada;X-APPLE-RADIUS=500;X-TITLE=Science Road:geo:-122.919355,49.278127
END:VEVENT
BEGIN:VEVENT
DTSTART;TZID=America/Vancouver:20190816T120000
DTEND;TZID=America/Vancouver:20190816T140000
DTSTAMP:20260425T070223
CREATED:20190729T130346Z
LAST-MODIFIED:20190729T130346Z
UID:10000023-1565956800-1565964000@www.embarksustainability.org
SUMMARY:Square Foot Gardening
DESCRIPTION:Don’t miss this opportunity to learn about an intensive method to grow vegetables in small spaces. Not only will you leave with new knowledge\, but you will also receive reference materials and vegetable seeds to get you started. \nOur first Central City Learning Garden workshop is facilitated by Pablo Vimos\, Embark’s Gardens Coordinator. Pablo has over 10 years of gardening experience\, is a Master Gardener\, ecologist\, and facilitates learning garden sessions for students of all ages. \nSign up to gain hands-on experience … and get ready to get dirty!
URL:https://www.embarksustainability.org/event/square-foot-gardening/
LOCATION:Embark Sustainability’s Central City Learning Garden\, 2153 Central City\, 10153 King George Blvd\,\, P3 parking level\, Surrey\, BC\, Canada
CATEGORIES:Workshop
END:VEVENT
BEGIN:VEVENT
DTSTART;TZID=America/Vancouver:20190801T123000
DTEND;TZID=America/Vancouver:20190801T133000
DTSTAMP:20260425T070223
CREATED:20190710T205423Z
LAST-MODIFIED:20190729T130416Z
UID:10000021-1564662600-1564666200@www.embarksustainability.org
SUMMARY:Sharing our Harvest
DESCRIPTION:At Embark we believe food should be free and accessible to all\, especially with the organic veggies grown in our campus garden plots. On Thursdays we will be sharing our harvest with the SFU community\, from 12:30 pm to 1:30 pm at our Burnaby Learning Garden. Stop by\, grab some veg\, and make sure to BYO bag/container!
URL:https://www.embarksustainability.org/event/sharing-our-harvest/
LOCATION:Embark Sustainability’s Burnaby Learning Garden\, Science Road\, Burnaby\, BC\, Canada
CATEGORIES:Food Rescue
GEO:49.278127;-122.919355
X-APPLE-STRUCTURED-LOCATION;VALUE=URI;X-ADDRESS=Embark Sustainability’s Burnaby Learning Garden Science Road Burnaby BC Canada;X-APPLE-RADIUS=500;X-TITLE=Science Road:geo:-122.919355,49.278127
END:VEVENT
BEGIN:VEVENT
DTSTART;TZID=America/Vancouver:20190725T163000
DTEND;TZID=America/Vancouver:20190725T193000
DTSTAMP:20260425T070223
CREATED:20190712T180434Z
LAST-MODIFIED:20190712T180434Z
UID:10000022-1564072200-1564083000@www.embarksustainability.org
SUMMARY:Embark's Community Kitchen: A Flavourful Evening
DESCRIPTION:Community Kitchens are a low-barrier gathering space where SFU students come together to cook and enjoy a four-course vegetarian or plant-based meal over a three-hour period. Join us for the last Community Kitchen at the Women’s Centre July 25th\, before they move into the new SUB building. Read below on this month’s facilitator.\n\nPaola Quiros\, SFSS Women’s Centre Coordinator\, will bring us into a new exploration of Latin American flavours. Aside from being the head of the SFSS Women’s Centre\, Paola has been cooking since an early age\, and at one moment she considered becoming a chef. She celebrates life and the Doña’s (matriarchs) who have taught her unforgettable and tasty recipes. While Latin America is a vast\, culture-rich land\, and it would be impossible to finish this journey in one session\, but Paola will make sure to pique your curiosity about Latin American cuisine when exploring the importance of ingredients and flavours in traditional dishes of Latinx people.\n\nRSPV here \n\n\n\nAcknowledgments\nThis event is being hosted on the unceded territory of the Coast Salish Peoples. In particular\, this includes the land of the Tsleil-Waututh\, Musqueam\, Skwxwú7mesh\, and Kwikwetlem nations where we work\, live\, and play.\n\n\nAccessibility\nThe Women’s Centre has opened up their lounge (TC 3013) to all genders for this Community Kitchen. The Women’s Centre is wheelchair accessible.\n\nThis event is a collaboration between Embark and the SFSS Women’s Centre. Embark events are free and open to Embark members which includes Simon Fraser University undergraduate and graduate students\, as well as Embark Associate Members.
URL:https://www.embarksustainability.org/event/embarks-community-kitchen-a-flavourful-evening/
LOCATION:SFSS Women’s Centre\, 8888 University Drive\, TC3014\, Burnaby\, Canada
CATEGORIES:Community Kitchen
END:VEVENT
END:VCALENDAR