BEGIN:VCALENDAR
VERSION:2.0
PRODID:-//Embark Sustainability Society - ECPv6.15.20//NONSGML v1.0//EN
CALSCALE:GREGORIAN
METHOD:PUBLISH
X-WR-CALNAME:Embark Sustainability Society
X-ORIGINAL-URL:https://www.embarksustainability.org
X-WR-CALDESC:Events for Embark Sustainability Society
REFRESH-INTERVAL;VALUE=DURATION:PT1H
X-Robots-Tag:noindex
X-PUBLISHED-TTL:PT1H
BEGIN:VTIMEZONE
TZID:America/Vancouver
BEGIN:DAYLIGHT
TZOFFSETFROM:-0800
TZOFFSETTO:-0700
TZNAME:PDT
DTSTART:20250309T100000
END:DAYLIGHT
BEGIN:STANDARD
TZOFFSETFROM:-0700
TZOFFSETTO:-0800
TZNAME:PST
DTSTART:20251102T090000
END:STANDARD
BEGIN:DAYLIGHT
TZOFFSETFROM:-0800
TZOFFSETTO:-0700
TZNAME:PDT
DTSTART:20260308T100000
END:DAYLIGHT
BEGIN:STANDARD
TZOFFSETFROM:-0700
TZOFFSETTO:-0800
TZNAME:PST
DTSTART:20261101T090000
END:STANDARD
BEGIN:DAYLIGHT
TZOFFSETFROM:-0800
TZOFFSETTO:-0700
TZNAME:PDT
DTSTART:20270314T100000
END:DAYLIGHT
BEGIN:STANDARD
TZOFFSETFROM:-0700
TZOFFSETTO:-0800
TZNAME:PST
DTSTART:20271107T090000
END:STANDARD
END:VTIMEZONE
BEGIN:VEVENT
DTSTART;TZID=America/Vancouver:20260423T140000
DTEND;TZID=America/Vancouver:20260423T160000
DTSTAMP:20260423T135143
CREATED:20260330T211234Z
LAST-MODIFIED:20260422T181037Z
UID:10000904-1776952800-1776960000@www.embarksustainability.org
SUMMARY:[CANCELLED]: Letter-writing Workshop: Getting Around to Feed Ourselves Well
DESCRIPTION:[CANCELLED] Getting Around to Feed Ourselves Well\n			\n				\n				\n				\n				\n				A LETTER-WRITING WORKSHOP BRIDGING STUDENT TRANSIT AND FOOD ACCESS\n			\n			\n				\n				\n				\n				\n			\n				\n				\n				\n				\n				\n				\n				\n				\n				\n				\n				\n					\n					\n						Date & Time\n						POSTPONED – NEW DATE TBD \n					\n				\n			\n			\n				\n				\n				\n				\n				\n				\n				\n				\n				\n				\n					\n					\n						Location\n						Embark Studio (SUB 1310) \n					\n				\n			\n			\n				\n				\n				\n				\n				\n			\n				\n				\n				\n				\n			\n				\n				\n				\n				\n				\n				\n				\n				\n				\n				\n				UPDATE – April\, 22\, 2026: We regret to share that this event has been cancelled and postponed to a later date (to be determined). We apologize for any inconvenience.  \n  \n			\n				\n				\n				\n				\n				About the event\nAccessing food as a student is more than a simple affordability issue. Student food security is also shaped by transit\, time\, mobility\, and access to culturally appropriate food.  \nJoin Embark and the BC Poverty Reduction Coalition for an interactive workshop where we’ll: \n\nDraw connections between transit and food access: how transportation shapes who can access affordable\, healthy\, and culturally relevant food\nExplore advocacy in practice: key initiatives and community efforts working toward more equitable food systems\nTake action through letter-writing : build skills to write effective advocacy letters to elected officials\n\nThis workshop is part of the Getting Around to Feed Ourselves Well research initiative\, which began at SFU in 2020 and expanded through community workshops across the Lower Mainland in 2025\, supported by the BC Office of the Human Rights Commissioner. \nCome learn\, reflect\, and take real action towards improving food and transit access for students! Plus\, enter our prize draw for a chance to win a Tim Hortons gift card! \n  \n			\n				\n				\n				\n				\n				Land ACKNOWLEDGEMENT\nThis event takes place on the unceded homelands of the xʷməθkʷəy̓əm (Musqueam)\, Sḵwx̱wú7mesh Úxwumixw (Squamish)\, səlil̓ilw̓ətaʔɬ (Tsleil-Waututh)\, and kʷikʷəƛw̓əm (Kwikwetlem) Nations.  \n			\n				\n				\n				\n				\n				ABOUT THE FACILITATORS\n \n \n \n			\n				\n				\n				\n				\n				\n				\n				\n				\n				\n				Chantelle Spicer (she/they)\n				  \n\n \nMeet Chantelle\nChantelle works with the BC Poverty Reduction Coalition (BC PRC).  She is a former SFU student who previously served as the Director of Engagement at SFPIRG. They have been a long-time advocate at the intersections of Indigenous sovereignty\, anti-violence\, affordable and accessible education\, and healing justice. Through the BC PRC\, Chantelle works in government relations and lobbying\, policy research\, and bringing the voices of those with lived and living experiences of poverty to the forefront. When not engaged in social justice work\, she can be found writing poetry\, making bread\, or with her hands in the earth.     \n \n\n			\n				\n				\n				\n				\n				BC Poverty Reduction Coalition\n				The BC Poverty Reduction Coalition is comprised of over 80 organizations and community mobilizations that come together to advocate for public policy solutions to end poverty\, homelessness and inequality in B.C. \n			\n			\n				LEARN MORE ABOUT BC PRC\n			\n				\n				\n				\n				\n				Event Accessibility\nEmbark Sustainability events are free and open to Embark members which includes Simon Fraser University undergraduate and graduate students\, as well as Embark Associate Members. \nThis event will be held indoors at the Embark Studio\, room #1310 of the SUB Student Union Building (SUB)\, SFU Burnaby. Please review the following accessibility details: \n\nAttendees are free to opt in and opt out of activities as suits their needs throughout the event\, including exiting and re-entering the event space.\nThe event space is wheelchair accessible.\nAll-gender and wheelchair-accessible restrooms are located on the same floor.\nWe welcome all gender identities and expressions.\nWe provide access to a quiet space for personal meditation\, reflection\, or prayers.\nThe event space is a tree nut and peanut-free zone\nThe event space is a scent-free zone.\nUnfortunately\, we are unable to provide ASL interpretation at this time.\n\nWe strive to make our events accessible to as many of our community members as possible. If you have accessibility needs you’d like to share\, please contact our Director of Engagement at engagement@embarksustainability.org. \n			\n				\n				\n				\n				\n				Health & Safety\nParticipants who register are agreeing to release Embark Sustainability Society from any liability related to COVID-19. Masks are optional but encouraged.\n			\n				\n				\n				\n				\n				Community Agreement\nBy registering to attend this event\, you are agreeing to be respectful when listening to and communicating with others\, and be mindful of the space you are taking up amongst your peers. \nEmbark Sustainability does not tolerate violence or aggression against others on the basis of race\, ethnicity\, place of origin\, sexual orientation\, gender identity\, religious affiliation\, or ability. Please also refer to people using the introductions they provide and do not assume pronouns/gender/knowledge based on someone’s name or appearance. \nIf these agreements are broken by someone\, we will have to ensure the safety of our community members by removing them from the event.\n			\n				\n				\n				\n				\n				Questions\nIf you have any questions about this event\, please contact Embark Sustainability’s Director of Engagement at engagement@embarksustainability.org.
URL:https://www.embarksustainability.org/event/bcprc-workshop/
LOCATION:The Embark Studio\, SUB 1310 - 8888 University Drive\, Burnaby\, British Columbia\, V5A 1S6\, Canada
CATEGORIES:Food Justice,Food Systems Change
ATTACH;FMTTYPE=image/jpeg:https://www.embarksustainability.org/wp-content/uploads/2026/03/BCPRC-Workshop-Banner.avif
END:VEVENT
BEGIN:VEVENT
DTSTART;TZID=America/Vancouver:20260511T170000
DTEND;TZID=America/Vancouver:20260511T183000
DTSTAMP:20260423T135143
CREATED:20260415T234642Z
LAST-MODIFIED:20260416T000426Z
UID:10000906-1778518800-1778524200@www.embarksustainability.org
SUMMARY:Climate Policy Workshop: Adaptation and Frameworks
DESCRIPTION:Climate Policy Workshop\n			\n				\n				\n				\n				\n				LEARN ABOUT LOCAL CLIMATE POLICY ADAPTATION AND FRAMEWORKS\n			\n			\n				\n				\n				\n				\n			\n				\n				\n				\n				\n				\n				\n				\n				\n				\n				\n				\n					\n					\n						Date & Time\n						Mon\, May 11\, 20265:00PM – 6:30PM \n					\n				\n			\n			\n				\n				\n				\n				\n				\n				\n				\n				\n				\n				\n					\n					\n						Location\n						Embark Studio (SUB 1310)\n					\n				\n			\n			\n				\n				\n				\n				\n				\n				Register now\n			\n			\n				\n				\n				\n				\n			\n				\n				\n				\n				\n				\n				\n				\n				\n				\n				\n				About the event\nJoin Embark Sustainability and facilitator Aryan Sharifi for an engaging climate policy workshop! Featuring interactive activities and snacks\, this event will explore the adaptation measures and frameworks utilized in the Greater Vancouver Area\, British Columbia\, and Canada. \n			\n				\n				\n				\n				\n				Land ACKNOWLEDGEMENT\nThis event takes place on the unceded homelands of the xʷməθkʷəy̓əm (Musqueam)\, Sḵwx̱wú7mesh Úxwumixw (Squamish)\, səlil̓ilw̓ətaʔɬ (Tsleil-Waututh)\, and kʷikʷəƛw̓əm (Kwikwetlem) Nations. \n			\n				\n				\n				\n				\n				ABOUT THE FACILITATORS\n  \n			\n				\n				\n				\n				\n				\n				\n				\n				\n				\n				Aryan Sharifi (he/they)\n				  \n\n \nMeet Aryan\nAryan Sharifi is a third-year Bachelor of Arts student\, majoring in Political Science. He is interested in climate change politics\, both nationally and internationally\, and is passionate about advancing climate justice through community involvement and engagement. \n \n\n			\n			\n				\n				\n				\n				\n				Event Accessibility\nEmbark Sustainability events are free and open to Embark members which includes Simon Fraser University undergraduate and graduate students\, as well as Embark Associate Members. \nThis event will be held indoors at the Embark Studio\, room #1310 of the SUB Student Union Building (SUB)\, SFU Burnaby. Please review the following accessibility details: \n\nAttendees are free to opt in and opt out of activities as suits their needs throughout the event\, including exiting and re-entering the event space.\nThe event space is wheelchair accessible.\nAll-gender and wheelchair-accessible restrooms are located on the same floor.\nWe welcome all gender identities and expressions.\nWe provide access to a quiet space for personal meditation\, reflection\, or prayers.\nThe event space is a tree nut and peanut-free zone\nThe event space is a scent-free zone.\nUnfortunately\, we are unable to provide ASL interpretation at this time.\n\nWe strive to make our events accessible to as many of our community members as possible. If you have accessibility needs you’d like to share\, please contact our Director of Engagement at engagement@embarksustainability.org.\n			\n				\n				\n				\n				\n				Health & Safety\nParticipants who register are agreeing to release Embark Sustainability Society from any liability related to COVID-19. Masks are optional but encouraged.\n			\n				\n				\n				\n				\n				Community Agreement\nBy registering to attend this event\, you are agreeing to be respectful when listening to and communicating with others\, and be mindful of the space you are taking up amongst your peers. \nEmbark Sustainability does not tolerate violence or aggression against others on the basis of race\, ethnicity\, place of origin\, sexual orientation\, gender identity\, religious affiliation\, or ability. Please also refer to people using the introductions they provide and do not assume pronouns/gender/knowledge based on someone’s name or appearance. \nIf these agreements are broken by someone\, we will have to ensure the safety of our community members by removing them from the event.\n			\n				\n				\n				\n				\n				Questions\nIf you have any questions about this event\, please contact Embark Sustainability’s Director of Engagement at engagement@embarksustainability.org.\n			\n			\n				\n				\n				\n				\n				\n				\n				\n				\n				\n				Register for this Event\nget reminders & event details now
URL:https://www.embarksustainability.org/event/ycl-climate-policy-workshop/
LOCATION:The Embark Studio\, SUB 1310 - 8888 University Drive\, Burnaby\, British Columbia\, V5A 1S6\, Canada
CATEGORIES:Climate Equity,Workshop
ATTACH;FMTTYPE=image/jpeg:https://www.embarksustainability.org/wp-content/uploads/2026/03/BCPRC-Workshop-Banner.avif
END:VEVENT
END:VCALENDAR