BEGIN:VCALENDAR
VERSION:2.0
PRODID:-//Embark Sustainability Society - ECPv6.15.20//NONSGML v1.0//EN
CALSCALE:GREGORIAN
METHOD:PUBLISH
X-ORIGINAL-URL:https://www.embarksustainability.org
X-WR-CALDESC:Events for Embark Sustainability Society
REFRESH-INTERVAL;VALUE=DURATION:PT1H
X-Robots-Tag:noindex
X-PUBLISHED-TTL:PT1H
BEGIN:VTIMEZONE
TZID:America/Vancouver
BEGIN:DAYLIGHT
TZOFFSETFROM:-0800
TZOFFSETTO:-0700
TZNAME:PDT
DTSTART:20230312T100000
END:DAYLIGHT
BEGIN:STANDARD
TZOFFSETFROM:-0700
TZOFFSETTO:-0800
TZNAME:PST
DTSTART:20231105T090000
END:STANDARD
BEGIN:DAYLIGHT
TZOFFSETFROM:-0800
TZOFFSETTO:-0700
TZNAME:PDT
DTSTART:20240310T100000
END:DAYLIGHT
BEGIN:STANDARD
TZOFFSETFROM:-0700
TZOFFSETTO:-0800
TZNAME:PST
DTSTART:20241103T090000
END:STANDARD
BEGIN:DAYLIGHT
TZOFFSETFROM:-0800
TZOFFSETTO:-0700
TZNAME:PDT
DTSTART:20250309T100000
END:DAYLIGHT
BEGIN:STANDARD
TZOFFSETFROM:-0700
TZOFFSETTO:-0800
TZNAME:PST
DTSTART:20251102T090000
END:STANDARD
END:VTIMEZONE
BEGIN:VEVENT
DTSTART;TZID=America/Vancouver:20240717T100000
DTEND;TZID=America/Vancouver:20240718T170000
DTSTAMP:20260425T061950
CREATED:20240527T190436Z
LAST-MODIFIED:20240527T191032Z
UID:10000125-1721210400-1721322000@www.embarksustainability.org
SUMMARY:Liberation Summer Organizers' Bootcamp
DESCRIPTION:Liberation Summer Organizers’ Bootcamp\n			\n			\n				\n				\n				\n				\n			\n				\n				\n				\n				\n				\n				\n				\n				\n				\n				\n				\n					\n					\n						Date & Time\n						Weds\, July 17 & Thurs\, July 18\, 202410:00 AM – 5:00 PM PDT \n					\n				\n			\n			\n				\n				\n				\n				\n				\n				\n				\n				\n				\n				\n					\n					\n						Location\n						SFU Harbour Centre & 312 Main \n					\n				\n			\n			\n				\n				\n				\n				\n				\n				Register now\n			\n			\n				\n				\n				\n				\n			\n				\n				\n				\n				\n				\n				\n				\n				\n				\n				\n				Are you ready to win freedom for yourself\, your family\, and your communities? Come find your kinfolk with Embark Sustainability\, SFPIRG\, and Organizing for Change for two days of learning\, sharing\, networking\, and skill building. Register now to join us July 17-18 for Liberation Summer at SFU Harbour Centre and 312 Main. \nAs we build our collective power in response to the urgency of ongoing global crisis\, moments of reflection and connection are crucial in strategizing to realize the change we want\, need\, and deserve in the world today. It’s vital to lift each other up in this fight and collaborate on our tactics together in real-time. Whether you are a seasoned activist or new to the game\, enrolled student or lifelong learner\, employed in an environmental organization or aspiring to work in the sector someday soon\, all are welcome\, and we know we are strongest when we harness the diversity of our networks. \nFrom July 17-18\, we will be building intentional space for both emerging and veteran organizers to come together and strategize our next steps at the intersections of climate justice\, disability justice\, abolition\, Indigenous sovereignty\, poverty reduction\, and racial justice. Participants in Liberation Summer will leave better motivated and equipped to actively work toward climate justice sustained by their community and comrades. \nWhat can you expect from us? \n\nRelationship Building\nIntergenerational exchanges of knowledge\nMulti-sensory workshops & activities\nStrategies for building sustainable movements\nResources for getting involved in local climate and social justice movements\n\nIf you have any questions or support needs\, please email programs@embarksustainability.org. In the meantime\, remember: “Another world is not only possible\, she is on her way; on a quiet day\, I can hear her breathing.” ~ Arundhati Roy \n			\n				\n				\n				\n				\n				Land Acknowledgement\nThis event takes place on the unceded homelands of the xʷməθkʷəy̓əm (Musqueam)\, Sḵwx̱wú7mesh Úxwumixw (Squamish)\, səlil̓ilw̓ətaʔɬ (Tsleil-Waututh)\, and kʷikʷəƛw̓əm (Kwikwetlem) Nations.\n			\n				\n				\n				\n				\n				Event Accessibility\nEmbark Sustainability events are free and open to Embark members which includes Simon Fraser University undergraduate and graduate students\, plot renters\, as well as Embark Associate Members. \nThis event will be held at SFU Harbour Centre and 312 Main. Accessibility details include: \n\nAll spaces are wheelchair accessible.\nWe aim to host a scent-free space. Please refrain from wearing scented products in attendance of this event.\nWe cannot provide ASL interpretation at this time.\nAs an attendee\, you are free to opt-in and opt-out of activities as suit your needs throughout the event\, including exiting and re-entering the event space.\n\nWe aim to make our events accessible to as many of our community members as possible. If we can take further action to make this event accessible to you\, please contact our Programs Manager at programs@embarksustainability.org. \n			\n				\n				\n				\n				\n				Health & Safety\nWe further acknowledge that COVID is not over and that the pandemic disproportionately impacts the most vulnerable among us including BIPOC\, poor people\, and folks living with illness and/or disability. In light of these realities\, and in the spirit of nurturing communities of care\, we will be practicing the highest level of precaution possible including masking during all indoor programming. We ask that all participants similarly act with the utmost precaution to limit transmission of the virus. Masks will be provided for attendees. \n			\n				\n				\n				\n				\n				Community Agreement\nBy registering to attend this event\, you are agreeing to be respectful when listening to and communicating with others\, and be mindful of the space you are taking up amongst your peers. \nEmbark Sustainability does not tolerate violence or aggression against others on the basis of race\, ethnicity\, place of origin\, sexual orientation\, gender identity\, religious affiliation\, or ability. Please also refer to people using the introductions they provide and do not assume pronouns/gender/knowledge based on someone’s name or appearance. \nIf these agreements are broken by someone\, we will have to ensure the safety of our community members by removing them from the event. \n			\n				\n				\n				\n				\n				Questions\nIf you have any questions about this event\, please contact Embark Sustainability’s Programs Manager at programs@embarksustainability.org. \n			\n			\n				\n				\n				\n				\n				\n				\n				\n				\n				\n				Register for this event\nGET REMINDERS & EVENT DETAILS now
URL:https://www.embarksustainability.org/event/liberation-summer-organizers-bootcamp/
LOCATION:British Columbia
CATEGORIES:Cause,Climate Action,Climate Equity,Embark Sustainability,Workshop
ATTACH;FMTTYPE=image/png:https://www.embarksustainability.org/wp-content/uploads/2024/05/2024-Liberation-Summer-Organizers-Bootcamp_WEBSITE.png
END:VEVENT
END:VCALENDAR