BEGIN:VCALENDAR
VERSION:2.0
PRODID:-//Embark Sustainability Society - ECPv6.15.20//NONSGML v1.0//EN
CALSCALE:GREGORIAN
METHOD:PUBLISH
X-WR-CALNAME:Embark Sustainability Society
X-ORIGINAL-URL:https://www.embarksustainability.org
X-WR-CALDESC:Events for Embark Sustainability Society
REFRESH-INTERVAL;VALUE=DURATION:PT1H
X-Robots-Tag:noindex
X-PUBLISHED-TTL:PT1H
BEGIN:VTIMEZONE
TZID:America/Vancouver
BEGIN:DAYLIGHT
TZOFFSETFROM:-0800
TZOFFSETTO:-0700
TZNAME:PDT
DTSTART:20230312T100000
END:DAYLIGHT
BEGIN:STANDARD
TZOFFSETFROM:-0700
TZOFFSETTO:-0800
TZNAME:PST
DTSTART:20231105T090000
END:STANDARD
BEGIN:DAYLIGHT
TZOFFSETFROM:-0800
TZOFFSETTO:-0700
TZNAME:PDT
DTSTART:20240310T100000
END:DAYLIGHT
BEGIN:STANDARD
TZOFFSETFROM:-0700
TZOFFSETTO:-0800
TZNAME:PST
DTSTART:20241103T090000
END:STANDARD
BEGIN:DAYLIGHT
TZOFFSETFROM:-0800
TZOFFSETTO:-0700
TZNAME:PDT
DTSTART:20250309T100000
END:DAYLIGHT
BEGIN:STANDARD
TZOFFSETFROM:-0700
TZOFFSETTO:-0800
TZNAME:PST
DTSTART:20251102T090000
END:STANDARD
END:VTIMEZONE
BEGIN:VEVENT
DTSTART;TZID=America/Vancouver:20241017T120000
DTEND;TZID=America/Vancouver:20241017T133000
DTSTAMP:20260425T033018
CREATED:20240718T220645Z
LAST-MODIFIED:20240719T190406Z
UID:10000530-1729166400-1729171800@www.embarksustainability.org
SUMMARY:Learning Garden Cohort
DESCRIPTION:Learning Garden Cohort\n			\n			\n				\n				\n				\n				\n			\n				\n				\n				\n				\n				\n				\n				\n				\n				\n				\n				About our cohort program\nGetting into gardening? You’re not alone. Whether you’re a seasoned gardener or you’re just getting started\, joining one of our semesterly Learning Garden Cohorts is an opportunity to develop hands-on gardening and food literacy skills in community with other SFU students. \nEach week you’ll gather under the guidance of our Gardens Manager\, Pablo Vimos\, who will support you to embrace the fun of food growing while exploring organic gardening techniques and reflecting on food justice. Cultivate your own plot\, learn to recognize the inequities embedded in colonial food systems\, and leave ready to advocate for just\, community-centred food systems on and off campus. \nRegister at the start of the semester to join us! Visit our opportunities page to see if applications are open. \n  \n			\n			\n				\n				\n				\n				\n				\n				\n				\n				\n				\n				Apply for this programApplications for this program open at the beginning of each semester. Check our opportunity pages for more information: \n				VISIT OUR OPPORTUNITIES PAGE
URL:https://www.embarksustainability.org/event/learning-garden-cohort/2024-10-17/
LOCATION:Embark Sustainability’s Burnaby Learning Garden\, Science Road\, Burnaby\, BC\, Canada
CATEGORIES:Learning Garden
ATTACH;FMTTYPE=image/jpeg:https://www.embarksustainability.org/wp-content/uploads/2023/05/Embark_Sustainability-Learning_Gardens_Burnaby.jpg
GEO:49.278127;-122.919355
X-APPLE-STRUCTURED-LOCATION;VALUE=URI;X-ADDRESS=Embark Sustainability’s Burnaby Learning Garden Science Road Burnaby BC Canada;X-APPLE-RADIUS=500;X-TITLE=Science Road:geo:-122.919355,49.278127
END:VEVENT
END:VCALENDAR