BEGIN:VCALENDAR
VERSION:2.0
PRODID:-//Embark Sustainability Society - ECPv6.15.20//NONSGML v1.0//EN
CALSCALE:GREGORIAN
METHOD:PUBLISH
X-WR-CALNAME:Embark Sustainability Society
X-ORIGINAL-URL:https://www.embarksustainability.org
X-WR-CALDESC:Events for Embark Sustainability Society
REFRESH-INTERVAL;VALUE=DURATION:PT1H
X-Robots-Tag:noindex
X-PUBLISHED-TTL:PT1H
BEGIN:VTIMEZONE
TZID:America/Vancouver
BEGIN:DAYLIGHT
TZOFFSETFROM:-0800
TZOFFSETTO:-0700
TZNAME:PDT
DTSTART:20230312T100000
END:DAYLIGHT
BEGIN:STANDARD
TZOFFSETFROM:-0700
TZOFFSETTO:-0800
TZNAME:PST
DTSTART:20231105T090000
END:STANDARD
BEGIN:DAYLIGHT
TZOFFSETFROM:-0800
TZOFFSETTO:-0700
TZNAME:PDT
DTSTART:20240310T100000
END:DAYLIGHT
BEGIN:STANDARD
TZOFFSETFROM:-0700
TZOFFSETTO:-0800
TZNAME:PST
DTSTART:20241103T090000
END:STANDARD
BEGIN:DAYLIGHT
TZOFFSETFROM:-0800
TZOFFSETTO:-0700
TZNAME:PDT
DTSTART:20250309T100000
END:DAYLIGHT
BEGIN:STANDARD
TZOFFSETFROM:-0700
TZOFFSETTO:-0800
TZNAME:PST
DTSTART:20251102T090000
END:STANDARD
END:VTIMEZONE
BEGIN:VEVENT
DTSTART;TZID=America/Vancouver:20241002T133000
DTEND;TZID=America/Vancouver:20241002T153000
DTSTAMP:20260425T032517
CREATED:20240719T191908Z
LAST-MODIFIED:20240911T160802Z
UID:10000583-1727875800-1727883000@www.embarksustainability.org
SUMMARY:Climate Workshop: Balm and Salve Making
DESCRIPTION:Climate Workshop: Balm and Salve Making\n			\n			\n				\n				\n				\n				\n			\n				\n				\n				\n				\n				\n				\n				\n				\n				\n				\n				\n					\n					\n						Date & Time\n						Wed\, October 2\, 20241:30 PM – 3:30 PM PDT \n					\n				\n			\n			\n				\n				\n				\n				\n				\n				\n				\n				\n				\n				\n					\n					\n						Location\n						SUB Learning Garden \n					\n				\n			\n			\n				\n				\n				\n				\n				\n				Register now\n			\n			\n				\n				\n				\n				\n			\n				\n				\n				\n				\n				\n				\n				\n				\n				\n				\n				Preserve the nourishing qualities of plant life! We’ll be getting familiar with need-to-know medicinal plants like calendula\, reducing our reliance on big-box skincare by learning to safely make balms and salves with minimal supplies\, and reflecting on the energy shared by all living things 🌱 \n			\n				\n				\n				\n				\n				Land Acknowledgement\nThis event takes place on the unceded homelands of the xʷməθkʷəy̓əm (Musqueam)\, Sḵwx̱wú7mesh Úxwumixw (Squamish)\, səlil̓ilw̓ətaʔɬ (Tsleil-Waututh)\, and kʷikʷəƛw̓əm (Kwikwetlem) Nations.\n			\n				\n				\n				\n				\n				Event Accessibility\nEmbark Sustainability events are free and open to Embark Sustainability members which includes Simon Fraser University undergraduate and graduate students\, as well as Embark Sustainability Associate Members. This event will be held outdoors in the SUB Learning Garden\, located on the third floor of the Student Union Building\, on the back side of the main entrance. \nAccessibility details include: \n\nThis space is wheelchair accessible and shaded from the sun.\nWe cannot provide ASL interpretation at this time.\nWe will be using ingredients such as calendula flower\, shea butter\, and olive oil in the balm making process. Please be mindful of exposure risk if you have any allergies or sensitivities to common lip balm ingredients or scents.\nAs an attendee\, you are free to opt-in and opt-out of activities as suit your needs throughout the event\, including exiting and re-entering the event space.\n\nWe aim to make our events accessible to as many of our community members as possible. If we can take further action to make this event accessible to you\, please contact Embark Sustainability’s Director of Engagement at engagement@embarksustainability.org. \n			\n				\n				\n				\n				\n				Health & Safety\nParticipants who register are agreeing to release Embark Sustainability Society from any liability related to COVID-19. Masks are optional but encouraged.\n			\n				\n				\n				\n				\n				Community Agreement\nBy registering to attend this event\, you are agreeing to be respectful when listening to and communicating with others\, and be mindful of the space you are taking up amongst your peers. \nEmbark Sustainability does not tolerate violence or aggression against others on the basis of race\, ethnicity\, place of origin\, sexual orientation\, gender identity\, religious affiliation\, or ability. Please also refer to people using the introductions they provide and do not assume pronouns/gender/knowledge based on someone’s name or appearance. \nIf these agreements are broken by someone\, we will have to ensure the safety of our community members by removing them from the event.\n			\n				\n				\n				\n				\n				Questions\nIf you have any questions about this event\, please contact Embark Sustainability’s Director of Engagement at engagement@embarksustainability.org.\n			\n			\n				\n				\n				\n				\n				\n				\n				\n				\n				\n				Register for this event\nGET REMINDERS & EVENT DETAILS NOW
URL:https://www.embarksustainability.org/event/climate-workshop/
LOCATION:Embark Sustainability’s SUB Learning Garden\, 8888 University Drive\, Burnaby\, British Columbia\, V5A 1S6\, Canada
CATEGORIES:Climate Equity,Learning Garden,Workshop
ATTACH;FMTTYPE=image/png:https://www.embarksustainability.org/wp-content/uploads/2024/08/OCTOBER-CW-2.png
END:VEVENT
END:VCALENDAR