BEGIN:VCALENDAR
VERSION:2.0
PRODID:-//Embark Sustainability Society - ECPv6.15.20//NONSGML v1.0//EN
CALSCALE:GREGORIAN
METHOD:PUBLISH
X-ORIGINAL-URL:https://www.embarksustainability.org
X-WR-CALDESC:Events for Embark Sustainability Society
REFRESH-INTERVAL;VALUE=DURATION:PT1H
X-Robots-Tag:noindex
X-PUBLISHED-TTL:PT1H
BEGIN:VTIMEZONE
TZID:America/Vancouver
BEGIN:DAYLIGHT
TZOFFSETFROM:-0800
TZOFFSETTO:-0700
TZNAME:PDT
DTSTART:20180311T100000
END:DAYLIGHT
BEGIN:STANDARD
TZOFFSETFROM:-0700
TZOFFSETTO:-0800
TZNAME:PST
DTSTART:20181104T090000
END:STANDARD
BEGIN:DAYLIGHT
TZOFFSETFROM:-0800
TZOFFSETTO:-0700
TZNAME:PDT
DTSTART:20190310T100000
END:DAYLIGHT
BEGIN:STANDARD
TZOFFSETFROM:-0700
TZOFFSETTO:-0800
TZNAME:PST
DTSTART:20191103T090000
END:STANDARD
BEGIN:DAYLIGHT
TZOFFSETFROM:-0800
TZOFFSETTO:-0700
TZNAME:PDT
DTSTART:20200308T100000
END:DAYLIGHT
BEGIN:STANDARD
TZOFFSETFROM:-0700
TZOFFSETTO:-0800
TZNAME:PST
DTSTART:20201101T090000
END:STANDARD
BEGIN:DAYLIGHT
TZOFFSETFROM:-0800
TZOFFSETTO:-0700
TZNAME:PDT
DTSTART:20210314T100000
END:DAYLIGHT
BEGIN:STANDARD
TZOFFSETFROM:-0700
TZOFFSETTO:-0800
TZNAME:PST
DTSTART:20211107T090000
END:STANDARD
BEGIN:DAYLIGHT
TZOFFSETFROM:-0800
TZOFFSETTO:-0700
TZNAME:PDT
DTSTART:20220313T100000
END:DAYLIGHT
BEGIN:STANDARD
TZOFFSETFROM:-0700
TZOFFSETTO:-0800
TZNAME:PST
DTSTART:20221106T090000
END:STANDARD
BEGIN:DAYLIGHT
TZOFFSETFROM:-0800
TZOFFSETTO:-0700
TZNAME:PDT
DTSTART:20230312T100000
END:DAYLIGHT
BEGIN:STANDARD
TZOFFSETFROM:-0700
TZOFFSETTO:-0800
TZNAME:PST
DTSTART:20231105T090000
END:STANDARD
BEGIN:DAYLIGHT
TZOFFSETFROM:-0800
TZOFFSETTO:-0700
TZNAME:PDT
DTSTART:20240310T100000
END:DAYLIGHT
BEGIN:STANDARD
TZOFFSETFROM:-0700
TZOFFSETTO:-0800
TZNAME:PST
DTSTART:20241103T090000
END:STANDARD
BEGIN:DAYLIGHT
TZOFFSETFROM:-0800
TZOFFSETTO:-0700
TZNAME:PDT
DTSTART:20250309T100000
END:DAYLIGHT
BEGIN:STANDARD
TZOFFSETFROM:-0700
TZOFFSETTO:-0800
TZNAME:PST
DTSTART:20251102T090000
END:STANDARD
BEGIN:DAYLIGHT
TZOFFSETFROM:-0800
TZOFFSETTO:-0700
TZNAME:PDT
DTSTART:20260308T100000
END:DAYLIGHT
BEGIN:STANDARD
TZOFFSETFROM:-0700
TZOFFSETTO:-0800
TZNAME:PST
DTSTART:20261101T090000
END:STANDARD
END:VTIMEZONE
BEGIN:VEVENT
DTSTART;TZID=America/Vancouver:20250206T133000
DTEND;TZID=America/Vancouver:20250206T144500
DTSTAMP:20260424T000925
CREATED:20241119T191251Z
LAST-MODIFIED:20250122T221547Z
UID:10000630-1738848600-1738853100@www.embarksustainability.org
SUMMARY:Food Rescue
DESCRIPTION:Embark Sustainability’s\nFood Rescue Program\nWe collect healthy yet imperfect-looking produce that does not meet the selling criteria of supermarket chains and redistribute it to Simon Fraser University (SFU) students for free or by donation. Food is collected from Nesters Market and distributed at SFU Burnaby. \nStop by and grab some brain food between classes! Distribution takes place throughout each academic term and does not occur during exam periods or breaks between terms.
URL:https://www.embarksustainability.org/event/rood-rescue/2025-02-06/
LOCATION:Blusson Hall – SFU Burnaby\, Burnaby\, British Columbia\, V5A 1S6\, Canada
CATEGORIES:Embark Sustainability,Food Rescue
ATTACH;FMTTYPE=image/jpeg:https://www.embarksustainability.org/wp-content/uploads/2024/11/Website-Banners-2.webp
END:VEVENT
BEGIN:VEVENT
DTSTART;TZID=America/Vancouver:20250130T133000
DTEND;TZID=America/Vancouver:20250130T144500
DTSTAMP:20260424T000926
CREATED:20241119T191251Z
LAST-MODIFIED:20250122T221547Z
UID:10000629-1738243800-1738248300@www.embarksustainability.org
SUMMARY:Food Rescue
DESCRIPTION:Embark Sustainability’s\nFood Rescue Program\nWe collect healthy yet imperfect-looking produce that does not meet the selling criteria of supermarket chains and redistribute it to Simon Fraser University (SFU) students for free or by donation. Food is collected from Nesters Market and distributed at SFU Burnaby. \nStop by and grab some brain food between classes! Distribution takes place throughout each academic term and does not occur during exam periods or breaks between terms.
URL:https://www.embarksustainability.org/event/rood-rescue/2025-01-30/
LOCATION:Blusson Hall – SFU Burnaby\, Burnaby\, British Columbia\, V5A 1S6\, Canada
CATEGORIES:Embark Sustainability,Food Rescue
ATTACH;FMTTYPE=image/jpeg:https://www.embarksustainability.org/wp-content/uploads/2024/11/Website-Banners-2.webp
END:VEVENT
BEGIN:VEVENT
DTSTART;TZID=America/Vancouver:20241128T133000
DTEND;TZID=America/Vancouver:20241128T144500
DTSTAMP:20260424T000926
CREATED:20240709T182634Z
LAST-MODIFIED:20240709T182658Z
UID:10000456-1732800600-1732805100@www.embarksustainability.org
SUMMARY:Food Rescue
DESCRIPTION:Embark Sustainability’s\nFood Rescue Program\nWe collect healthy yet imperfect-looking produce that does not meet the selling criteria of supermarket chains and redistribute it to Simon Fraser University (SFU) students for free or by donation. Food is collected from Nesters Market and distributed at SFU Burnaby. \nStop by and grab some brain food between classes! Distribution takes place throughout each academic term and does not occur during exam periods or breaks between terms.
URL:https://www.embarksustainability.org/event/food-rescue-5/2024-11-28/
LOCATION:Blusson Hall – SFU Burnaby\, Burnaby\, British Columbia\, V5A 1S6\, Canada
CATEGORIES:Food Rescue
ATTACH;FMTTYPE=image/jpeg:https://www.embarksustainability.org/wp-content/uploads/2023/02/Embark_Sustainability-Food_Rescue-Banner.jpg
END:VEVENT
BEGIN:VEVENT
DTSTART;TZID=America/Vancouver:20241121T133000
DTEND;TZID=America/Vancouver:20241121T144500
DTSTAMP:20260424T000926
CREATED:20240709T182634Z
LAST-MODIFIED:20240709T182658Z
UID:10000455-1732195800-1732200300@www.embarksustainability.org
SUMMARY:Food Rescue
DESCRIPTION:Embark Sustainability’s\nFood Rescue Program\nWe collect healthy yet imperfect-looking produce that does not meet the selling criteria of supermarket chains and redistribute it to Simon Fraser University (SFU) students for free or by donation. Food is collected from Nesters Market and distributed at SFU Burnaby. \nStop by and grab some brain food between classes! Distribution takes place throughout each academic term and does not occur during exam periods or breaks between terms.
URL:https://www.embarksustainability.org/event/food-rescue-5/2024-11-21/
LOCATION:Blusson Hall – SFU Burnaby\, Burnaby\, British Columbia\, V5A 1S6\, Canada
CATEGORIES:Food Rescue
ATTACH;FMTTYPE=image/jpeg:https://www.embarksustainability.org/wp-content/uploads/2023/02/Embark_Sustainability-Food_Rescue-Banner.jpg
END:VEVENT
BEGIN:VEVENT
DTSTART;TZID=America/Vancouver:20241114T133000
DTEND;TZID=America/Vancouver:20241114T144500
DTSTAMP:20260424T000926
CREATED:20240709T182634Z
LAST-MODIFIED:20240709T182658Z
UID:10000454-1731591000-1731595500@www.embarksustainability.org
SUMMARY:Food Rescue
DESCRIPTION:Embark Sustainability’s\nFood Rescue Program\nWe collect healthy yet imperfect-looking produce that does not meet the selling criteria of supermarket chains and redistribute it to Simon Fraser University (SFU) students for free or by donation. Food is collected from Nesters Market and distributed at SFU Burnaby. \nStop by and grab some brain food between classes! Distribution takes place throughout each academic term and does not occur during exam periods or breaks between terms.
URL:https://www.embarksustainability.org/event/food-rescue-5/2024-11-14/
LOCATION:Blusson Hall – SFU Burnaby\, Burnaby\, British Columbia\, V5A 1S6\, Canada
CATEGORIES:Food Rescue
ATTACH;FMTTYPE=image/jpeg:https://www.embarksustainability.org/wp-content/uploads/2023/02/Embark_Sustainability-Food_Rescue-Banner.jpg
END:VEVENT
BEGIN:VEVENT
DTSTART;TZID=America/Vancouver:20241107T133000
DTEND;TZID=America/Vancouver:20241107T144500
DTSTAMP:20260424T000926
CREATED:20240709T182634Z
LAST-MODIFIED:20240709T182658Z
UID:10000453-1730986200-1730990700@www.embarksustainability.org
SUMMARY:Food Rescue
DESCRIPTION:Embark Sustainability’s\nFood Rescue Program\nWe collect healthy yet imperfect-looking produce that does not meet the selling criteria of supermarket chains and redistribute it to Simon Fraser University (SFU) students for free or by donation. Food is collected from Nesters Market and distributed at SFU Burnaby. \nStop by and grab some brain food between classes! Distribution takes place throughout each academic term and does not occur during exam periods or breaks between terms.
URL:https://www.embarksustainability.org/event/food-rescue-5/2024-11-07/
LOCATION:Blusson Hall – SFU Burnaby\, Burnaby\, British Columbia\, V5A 1S6\, Canada
CATEGORIES:Food Rescue
ATTACH;FMTTYPE=image/jpeg:https://www.embarksustainability.org/wp-content/uploads/2023/02/Embark_Sustainability-Food_Rescue-Banner.jpg
END:VEVENT
BEGIN:VEVENT
DTSTART;TZID=America/Vancouver:20241031T133000
DTEND;TZID=America/Vancouver:20241031T144500
DTSTAMP:20260424T000926
CREATED:20240709T182634Z
LAST-MODIFIED:20240709T182658Z
UID:10000452-1730381400-1730385900@www.embarksustainability.org
SUMMARY:Food Rescue
DESCRIPTION:Embark Sustainability’s\nFood Rescue Program\nWe collect healthy yet imperfect-looking produce that does not meet the selling criteria of supermarket chains and redistribute it to Simon Fraser University (SFU) students for free or by donation. Food is collected from Nesters Market and distributed at SFU Burnaby. \nStop by and grab some brain food between classes! Distribution takes place throughout each academic term and does not occur during exam periods or breaks between terms.
URL:https://www.embarksustainability.org/event/food-rescue-5/2024-10-31/
LOCATION:Blusson Hall – SFU Burnaby\, Burnaby\, British Columbia\, V5A 1S6\, Canada
CATEGORIES:Food Rescue
ATTACH;FMTTYPE=image/jpeg:https://www.embarksustainability.org/wp-content/uploads/2023/02/Embark_Sustainability-Food_Rescue-Banner.jpg
END:VEVENT
BEGIN:VEVENT
DTSTART;TZID=America/Vancouver:20241024T133000
DTEND;TZID=America/Vancouver:20241024T144500
DTSTAMP:20260424T000926
CREATED:20240709T182634Z
LAST-MODIFIED:20240709T182658Z
UID:10000451-1729776600-1729781100@www.embarksustainability.org
SUMMARY:Food Rescue
DESCRIPTION:Embark Sustainability’s\nFood Rescue Program\nWe collect healthy yet imperfect-looking produce that does not meet the selling criteria of supermarket chains and redistribute it to Simon Fraser University (SFU) students for free or by donation. Food is collected from Nesters Market and distributed at SFU Burnaby. \nStop by and grab some brain food between classes! Distribution takes place throughout each academic term and does not occur during exam periods or breaks between terms.
URL:https://www.embarksustainability.org/event/food-rescue-5/2024-10-24/
LOCATION:Blusson Hall – SFU Burnaby\, Burnaby\, British Columbia\, V5A 1S6\, Canada
CATEGORIES:Food Rescue
ATTACH;FMTTYPE=image/jpeg:https://www.embarksustainability.org/wp-content/uploads/2023/02/Embark_Sustainability-Food_Rescue-Banner.jpg
END:VEVENT
BEGIN:VEVENT
DTSTART;TZID=America/Vancouver:20241017T133000
DTEND;TZID=America/Vancouver:20241017T144500
DTSTAMP:20260424T000926
CREATED:20240709T182634Z
LAST-MODIFIED:20240709T182658Z
UID:10000450-1729171800-1729176300@www.embarksustainability.org
SUMMARY:Food Rescue
DESCRIPTION:Embark Sustainability’s\nFood Rescue Program\nWe collect healthy yet imperfect-looking produce that does not meet the selling criteria of supermarket chains and redistribute it to Simon Fraser University (SFU) students for free or by donation. Food is collected from Nesters Market and distributed at SFU Burnaby. \nStop by and grab some brain food between classes! Distribution takes place throughout each academic term and does not occur during exam periods or breaks between terms.
URL:https://www.embarksustainability.org/event/food-rescue-5/2024-10-17/
LOCATION:Blusson Hall – SFU Burnaby\, Burnaby\, British Columbia\, V5A 1S6\, Canada
CATEGORIES:Food Rescue
ATTACH;FMTTYPE=image/jpeg:https://www.embarksustainability.org/wp-content/uploads/2023/02/Embark_Sustainability-Food_Rescue-Banner.jpg
END:VEVENT
BEGIN:VEVENT
DTSTART;TZID=America/Vancouver:20241010T133000
DTEND;TZID=America/Vancouver:20241010T144500
DTSTAMP:20260424T000926
CREATED:20240709T182634Z
LAST-MODIFIED:20240709T182658Z
UID:10000449-1728567000-1728571500@www.embarksustainability.org
SUMMARY:Food Rescue
DESCRIPTION:Embark Sustainability’s\nFood Rescue Program\nWe collect healthy yet imperfect-looking produce that does not meet the selling criteria of supermarket chains and redistribute it to Simon Fraser University (SFU) students for free or by donation. Food is collected from Nesters Market and distributed at SFU Burnaby. \nStop by and grab some brain food between classes! Distribution takes place throughout each academic term and does not occur during exam periods or breaks between terms.
URL:https://www.embarksustainability.org/event/food-rescue-5/2024-10-10/
LOCATION:Blusson Hall – SFU Burnaby\, Burnaby\, British Columbia\, V5A 1S6\, Canada
CATEGORIES:Food Rescue
ATTACH;FMTTYPE=image/jpeg:https://www.embarksustainability.org/wp-content/uploads/2023/02/Embark_Sustainability-Food_Rescue-Banner.jpg
END:VEVENT
BEGIN:VEVENT
DTSTART;TZID=America/Vancouver:20241003T133000
DTEND;TZID=America/Vancouver:20241003T144500
DTSTAMP:20260424T000926
CREATED:20240709T182634Z
LAST-MODIFIED:20240709T182658Z
UID:10000448-1727962200-1727966700@www.embarksustainability.org
SUMMARY:Food Rescue
DESCRIPTION:Embark Sustainability’s\nFood Rescue Program\nWe collect healthy yet imperfect-looking produce that does not meet the selling criteria of supermarket chains and redistribute it to Simon Fraser University (SFU) students for free or by donation. Food is collected from Nesters Market and distributed at SFU Burnaby. \nStop by and grab some brain food between classes! Distribution takes place throughout each academic term and does not occur during exam periods or breaks between terms.
URL:https://www.embarksustainability.org/event/food-rescue-5/2024-10-03/
LOCATION:Blusson Hall – SFU Burnaby\, Burnaby\, British Columbia\, V5A 1S6\, Canada
CATEGORIES:Food Rescue
ATTACH;FMTTYPE=image/jpeg:https://www.embarksustainability.org/wp-content/uploads/2023/02/Embark_Sustainability-Food_Rescue-Banner.jpg
END:VEVENT
BEGIN:VEVENT
DTSTART;TZID=America/Vancouver:20240926T133000
DTEND;TZID=America/Vancouver:20240926T144500
DTSTAMP:20260424T000926
CREATED:20240709T182634Z
LAST-MODIFIED:20240709T182658Z
UID:10000447-1727357400-1727361900@www.embarksustainability.org
SUMMARY:Food Rescue
DESCRIPTION:Embark Sustainability’s\nFood Rescue Program\nWe collect healthy yet imperfect-looking produce that does not meet the selling criteria of supermarket chains and redistribute it to Simon Fraser University (SFU) students for free or by donation. Food is collected from Nesters Market and distributed at SFU Burnaby. \nStop by and grab some brain food between classes! Distribution takes place throughout each academic term and does not occur during exam periods or breaks between terms.
URL:https://www.embarksustainability.org/event/food-rescue-5/2024-09-26/
LOCATION:Blusson Hall – SFU Burnaby\, Burnaby\, British Columbia\, V5A 1S6\, Canada
CATEGORIES:Food Rescue
ATTACH;FMTTYPE=image/jpeg:https://www.embarksustainability.org/wp-content/uploads/2023/02/Embark_Sustainability-Food_Rescue-Banner.jpg
END:VEVENT
BEGIN:VEVENT
DTSTART;TZID=America/Vancouver:20240919T133000
DTEND;TZID=America/Vancouver:20240919T144500
DTSTAMP:20260424T000926
CREATED:20240709T182634Z
LAST-MODIFIED:20240709T182658Z
UID:10000446-1726752600-1726757100@www.embarksustainability.org
SUMMARY:Food Rescue
DESCRIPTION:Embark Sustainability’s\nFood Rescue Program\nWe collect healthy yet imperfect-looking produce that does not meet the selling criteria of supermarket chains and redistribute it to Simon Fraser University (SFU) students for free or by donation. Food is collected from Nesters Market and distributed at SFU Burnaby. \nStop by and grab some brain food between classes! Distribution takes place throughout each academic term and does not occur during exam periods or breaks between terms.
URL:https://www.embarksustainability.org/event/food-rescue-5/2024-09-19/
LOCATION:Blusson Hall – SFU Burnaby\, Burnaby\, British Columbia\, V5A 1S6\, Canada
CATEGORIES:Food Rescue
ATTACH;FMTTYPE=image/jpeg:https://www.embarksustainability.org/wp-content/uploads/2023/02/Embark_Sustainability-Food_Rescue-Banner.jpg
END:VEVENT
BEGIN:VEVENT
DTSTART;TZID=America/Vancouver:20240912T133000
DTEND;TZID=America/Vancouver:20240912T144500
DTSTAMP:20260424T000926
CREATED:20240911T184615Z
LAST-MODIFIED:20240911T184804Z
UID:10000445-1726147800-1726152300@www.embarksustainability.org
SUMMARY:Food Rescue - POSTPONED\, starting Thursday Sept 19
DESCRIPTION:Embark Sustainability’s\nFood Rescue Program\nWe collect healthy yet imperfect-looking produce that does not meet the selling criteria of supermarket chains and redistribute it to Simon Fraser University (SFU) students for free or by donation. Food is collected from Nesters Market and distributed at SFU Burnaby. \nStop by and grab some brain food between classes! Distribution takes place throughout each academic term and does not occur during exam periods or breaks between terms. \n  \n**Start date of this program has been postponed until Thursday\, September 19th. Apologies for any inconvenience! \n 
URL:https://www.embarksustainability.org/event/food-rescue-5-2/
LOCATION:Blusson Hall – SFU Burnaby\, Burnaby\, British Columbia\, V5A 1S6\, Canada
CATEGORIES:Food Rescue
ATTACH;FMTTYPE=image/jpeg:https://www.embarksustainability.org/wp-content/uploads/2023/02/Embark_Sustainability-Food_Rescue-Banner.jpg
END:VEVENT
BEGIN:VEVENT
DTSTART;TZID=America/Vancouver:20210603T133000
DTEND;TZID=America/Vancouver:20210603T144500
DTSTAMP:20260424T000926
CREATED:20210519T235248Z
LAST-MODIFIED:20210519T235248Z
UID:10000073-1622727000-1622731500@www.embarksustainability.org
SUMMARY:Food Rescue
DESCRIPTION:Food Rescue is back! From June 3rd until August 5th (inclusive)\, Food Rescue will take place on Thursdays\, 1:30 – 2:45 pm at Embark’s Learning Garden. \nWe will not be distributing on July 1st due to the holiday! \nAs getting to the space might not be easily accessible by wheelchairs\, please send us a message on Facebook to arrange an alternative and get the produce to you near Cornerstone.
URL:https://www.embarksustainability.org/event/food-rescue-4/
LOCATION:Embark Sustainability’s Burnaby Learning Garden\, Science Road\, Burnaby\, BC\, Canada
CATEGORIES:Food Rescue
ATTACH;FMTTYPE=image/jpeg:https://www.embarksustainability.org/wp-content/uploads/2021/05/Artboard-1Newsletter-FR-Embark.jpg
GEO:49.278127;-122.919355
X-APPLE-STRUCTURED-LOCATION;VALUE=URI;X-ADDRESS=Embark Sustainability’s Burnaby Learning Garden Science Road Burnaby BC Canada;X-APPLE-RADIUS=500;X-TITLE=Science Road:geo:-122.919355,49.278127
END:VEVENT
BEGIN:VEVENT
DTSTART;TZID=America/Vancouver:20200611T133000
DTEND;TZID=America/Vancouver:20200611T143000
DTSTAMP:20260424T000926
CREATED:20200604T164315Z
LAST-MODIFIED:20200604T164315Z
UID:10000064-1591882200-1591885800@www.embarksustainability.org
SUMMARY:Food Rescue
DESCRIPTION:Food Rescue is back and we’ve made some changes to keep our community safe! On Thursdays\, starting June 11th\, come on over to Embark’s Learning Garden (map) to pick up some FREE produce\, from 1:30 pm – 2:30 pm. The imperfect fruits and veggies that we rescue from Nesters Market will already be bagged up for you to pick up – no contact needed! Help us reduce food waste and find out more about program and the precautions we’re taking at https://www.embarksustainability.org/programs/food-rescue/
URL:https://www.embarksustainability.org/event/food-rescue-3/
LOCATION:Embark Sustainability’s Burnaby Learning Garden\, Science Road\, Burnaby\, BC\, Canada
CATEGORIES:Food Rescue
ATTACH;FMTTYPE=image/png:https://www.embarksustainability.org/wp-content/uploads/2020/06/Artboard-1FR-TWIRL-EMBARK.png
GEO:49.278127;-122.919355
X-APPLE-STRUCTURED-LOCATION;VALUE=URI;X-ADDRESS=Embark Sustainability’s Burnaby Learning Garden Science Road Burnaby BC Canada;X-APPLE-RADIUS=500;X-TITLE=Science Road:geo:-122.919355,49.278127
END:VEVENT
BEGIN:VEVENT
DTSTART;TZID=America/Vancouver:20191121T003000
DTEND;TZID=America/Vancouver:20191121T023000
DTSTAMP:20260424T000926
CREATED:20191111T203035Z
LAST-MODIFIED:20191118T190629Z
UID:10000029-1574296200-1574303400@www.embarksustainability.org
SUMMARY:Food Rescue
DESCRIPTION:We collect healthy yet imperfect-looking produce that do not meet the selling criteria of supermarket chains and redistribute it to the university community for free or by donation. Food is collected from Nesters Market and distributed at SFU Burnaby in Blusson Hall every Monday and Thursday from 12:30 pm to 2:30 pm.
URL:https://www.embarksustainability.org/event/food-rescue/
LOCATION:Blusson Hall – SFU Burnaby\, Burnaby\, British Columbia\, V5A 1S6\, Canada
CATEGORIES:Food Rescue
END:VEVENT
BEGIN:VEVENT
DTSTART;TZID=America/Vancouver:20191118T123000
DTEND;TZID=America/Vancouver:20191118T143000
DTSTAMP:20260424T000926
CREATED:20191111T203013Z
LAST-MODIFIED:20191118T190603Z
UID:10000028-1574080200-1574087400@www.embarksustainability.org
SUMMARY:Food Rescue
DESCRIPTION:We collect healthy yet imperfect-looking produce that do not meet the selling criteria of supermarket chains and redistribute it to the university community for free or by donation. Food is collected from Nesters Market and distributed at SFU Burnaby in Blusson Hall every Monday and Thursday from 12:30 pm to 2:30 pm.
URL:https://www.embarksustainability.org/event/food-rescue-2/
LOCATION:Blusson Hall – SFU Burnaby\, Burnaby\, British Columbia\, V5A 1S6\, Canada
CATEGORIES:Food Rescue
END:VEVENT
BEGIN:VEVENT
DTSTART;TZID=America/Vancouver:20190801T123000
DTEND;TZID=America/Vancouver:20190801T133000
DTSTAMP:20260424T000926
CREATED:20190710T205423Z
LAST-MODIFIED:20190729T130416Z
UID:10000021-1564662600-1564666200@www.embarksustainability.org
SUMMARY:Sharing our Harvest
DESCRIPTION:At Embark we believe food should be free and accessible to all\, especially with the organic veggies grown in our campus garden plots. On Thursdays we will be sharing our harvest with the SFU community\, from 12:30 pm to 1:30 pm at our Burnaby Learning Garden. Stop by\, grab some veg\, and make sure to BYO bag/container!
URL:https://www.embarksustainability.org/event/sharing-our-harvest/
LOCATION:Embark Sustainability’s Burnaby Learning Garden\, Science Road\, Burnaby\, BC\, Canada
CATEGORIES:Food Rescue
GEO:49.278127;-122.919355
X-APPLE-STRUCTURED-LOCATION;VALUE=URI;X-ADDRESS=Embark Sustainability’s Burnaby Learning Garden Science Road Burnaby BC Canada;X-APPLE-RADIUS=500;X-TITLE=Science Road:geo:-122.919355,49.278127
END:VEVENT
END:VCALENDAR