BEGIN:VCALENDAR
VERSION:2.0
PRODID:-//Embark Sustainability Society - ECPv6.15.20//NONSGML v1.0//EN
CALSCALE:GREGORIAN
METHOD:PUBLISH
X-WR-CALNAME:Embark Sustainability Society
X-ORIGINAL-URL:https://www.embarksustainability.org
X-WR-CALDESC:Events for Embark Sustainability Society
REFRESH-INTERVAL;VALUE=DURATION:PT1H
X-Robots-Tag:noindex
X-PUBLISHED-TTL:PT1H
BEGIN:VTIMEZONE
TZID:America/Vancouver
BEGIN:DAYLIGHT
TZOFFSETFROM:-0800
TZOFFSETTO:-0700
TZNAME:PDT
DTSTART:20190310T100000
END:DAYLIGHT
BEGIN:STANDARD
TZOFFSETFROM:-0700
TZOFFSETTO:-0800
TZNAME:PST
DTSTART:20191103T090000
END:STANDARD
BEGIN:DAYLIGHT
TZOFFSETFROM:-0800
TZOFFSETTO:-0700
TZNAME:PDT
DTSTART:20200308T100000
END:DAYLIGHT
BEGIN:STANDARD
TZOFFSETFROM:-0700
TZOFFSETTO:-0800
TZNAME:PST
DTSTART:20201101T090000
END:STANDARD
BEGIN:DAYLIGHT
TZOFFSETFROM:-0800
TZOFFSETTO:-0700
TZNAME:PDT
DTSTART:20210314T100000
END:DAYLIGHT
BEGIN:STANDARD
TZOFFSETFROM:-0700
TZOFFSETTO:-0800
TZNAME:PST
DTSTART:20211107T090000
END:STANDARD
END:VTIMEZONE
BEGIN:VEVENT
DTSTART;TZID=America/Vancouver:20200224T173000
DTEND;TZID=America/Vancouver:20200224T193000
DTSTAMP:20260423T233915
CREATED:20200109T224757Z
LAST-MODIFIED:20200109T224757Z
UID:10000034-1582565400-1582572600@www.embarksustainability.org
SUMMARY:Annual General Meeting
DESCRIPTION:You’re invited to Embark’s 2020 AGM! Join us to review our financial statements\, celebrate this past year’s successes\, and elect your new directors. \nAll attendees are invited to a post-meeting social. \n** Want to know more about what it means to be on Embark’s board of directors and the responsibilities that are common across all non-profits? Come to one of our Board Orientations https://www.embarksustainability.org/events/
URL:https://www.embarksustainability.org/event/annual-general-meeting/
LOCATION:Halpern 126 – SFU Burnaby
CATEGORIES:Embark Sustainability's AGM
ATTACH;FMTTYPE=image/png:https://www.embarksustainability.org/wp-content/uploads/2020/01/Facebook-Event-Banner-AGM.png
END:VEVENT
BEGIN:VEVENT
DTSTART;TZID=America/Vancouver:20200205T123000
DTEND;TZID=America/Vancouver:20200205T133000
DTSTAMP:20260423T233915
CREATED:20200109T222052Z
LAST-MODIFIED:20200109T222052Z
UID:10000033-1580905800-1580909400@www.embarksustainability.org
SUMMARY:Pre AGM - Board Orientation
DESCRIPTION:Want to know more about what it means to be on Embark’s board of directors and the responsibilities that are common across all non-profits?  \nWe’re welcoming you to our board orientation either Monday\, February 3rd or Wednesday\, February 5th! (Scroll down for Application Details) \nLearn more about the very high-level board responsibilities and what the Embark board specifically does\, as well as what Embark boards have achieved in the past. \nIf you’re not able to make either of these sessions\, contact executive@embarksustainability.org to set up an in-person orientation! \nApplication Details: \n– Attend an orientation (or schedule a 1 on 1 with Board Chair if you cannot attend)\n– Prepare a 2 minute speech or video for the Annual General Meeting on February 24th (starts at 5:30pm) \nApplications must be received no later than February 9th\, 2020\, at 11:59 pm. \nSee all available opportunities here
URL:https://www.embarksustainability.org/event/pre-agm-board-orientation-2/
CATEGORIES:Embark Sustainability's AGM
ATTACH;FMTTYPE=image/png:https://www.embarksustainability.org/wp-content/uploads/2020/01/Facebook-Event-Banner-BOD.png
END:VEVENT
BEGIN:VEVENT
DTSTART;TZID=America/Vancouver:20200203T163000
DTEND;TZID=America/Vancouver:20200203T173000
DTSTAMP:20260423T233915
CREATED:20200109T221809Z
LAST-MODIFIED:20200109T221809Z
UID:10000032-1580747400-1580751000@www.embarksustainability.org
SUMMARY:Pre AGM - Board Orientation
DESCRIPTION:Want to know more about what it means to be on Embark’s board of directors and the responsibilities that are common across all non-profits?  \nWe’re welcoming you to our board orientation either Monday\, February 3rd or Wednesday\, February 5th! (Scroll down for Application Details) \nLearn more about the very high-level board responsibilities and what the Embark board specifically does\, as well as what Embark boards have achieved in the past. \nIf you’re not able to make either of these sessions\, contact executive@embarksustainability.org to set up an in-person orientation! \nApplication Details: \n– Attend an orientation (or schedule a 1 on 1 with Board Chair if you cannot attend)\n– Prepare a 2 minute speech or video for the Annual General Meeting on February 24th (starts at 5:30pm) \nApplications must be received no later than February 9th\, 2020\, at 11:59 pm. \nSee all available opportunities here
URL:https://www.embarksustainability.org/event/pre-agm-board-orientation/
LOCATION:GSS Lounge MBC 2212 – SFU Burnaby
CATEGORIES:Embark Sustainability's AGM
ATTACH;FMTTYPE=image/png:https://www.embarksustainability.org/wp-content/uploads/2020/01/Facebook-Event-Banner-BOD.png
END:VEVENT
END:VCALENDAR