BEGIN:VCALENDAR
VERSION:2.0
PRODID:-//Embark Sustainability Society - ECPv6.15.20//NONSGML v1.0//EN
CALSCALE:GREGORIAN
METHOD:PUBLISH
X-WR-CALNAME:Embark Sustainability Society
X-ORIGINAL-URL:https://www.embarksustainability.org
X-WR-CALDESC:Events for Embark Sustainability Society
REFRESH-INTERVAL;VALUE=DURATION:PT1H
X-Robots-Tag:noindex
X-PUBLISHED-TTL:PT1H
BEGIN:VTIMEZONE
TZID:America/Vancouver
BEGIN:DAYLIGHT
TZOFFSETFROM:-0800
TZOFFSETTO:-0700
TZNAME:PDT
DTSTART:20230312T100000
END:DAYLIGHT
BEGIN:STANDARD
TZOFFSETFROM:-0700
TZOFFSETTO:-0800
TZNAME:PST
DTSTART:20231105T090000
END:STANDARD
BEGIN:DAYLIGHT
TZOFFSETFROM:-0800
TZOFFSETTO:-0700
TZNAME:PDT
DTSTART:20240310T100000
END:DAYLIGHT
BEGIN:STANDARD
TZOFFSETFROM:-0700
TZOFFSETTO:-0800
TZNAME:PST
DTSTART:20241103T090000
END:STANDARD
BEGIN:DAYLIGHT
TZOFFSETFROM:-0800
TZOFFSETTO:-0700
TZNAME:PDT
DTSTART:20250309T100000
END:DAYLIGHT
BEGIN:STANDARD
TZOFFSETFROM:-0700
TZOFFSETTO:-0800
TZNAME:PST
DTSTART:20251102T090000
END:STANDARD
END:VTIMEZONE
BEGIN:VEVENT
DTSTART;TZID=America/Vancouver:20240621T160000
DTEND;TZID=America/Vancouver:20240621T180000
DTSTAMP:20260425T091332
CREATED:20240523T165757Z
LAST-MODIFIED:20240523T170329Z
UID:10000124-1718985600-1718992800@www.embarksustainability.org
SUMMARY:Summer Solstice Chill & Paint
DESCRIPTION:Summer Solstice Chill & Paint\n			\n			\n				\n				\n				\n				\n			\n				\n				\n				\n				\n				\n				\n				\n				\n				\n				\n				\n					\n					\n						Date & Time\n						Fri\, June 21\, 20244:00 PM – 6:00 PM PDT \n					\n				\n			\n			\n				\n				\n				\n				\n				\n				\n				\n				\n				\n				\n					\n					\n						Location\n						SUB Learning Garden – 3rd Floor Student Union Building\, around the back of the main entrance \n					\n				\n			\n			\n				\n				\n				\n				\n				\n				Register now\n			\n			\n				\n				\n				\n				\n			\n				\n				\n				\n				\n				\n				\n				\n				\n				\n				\n				🌼🌞Celebrate the longest day of the year with us by relaxing in our beautiful Learning Gardens\, sipping on refreshing strawberry lemonade\, and unleashing your creativity. \nThis year\, we have a special project: our garden bench is in need of a makeover\, and we’re coming together to give it some TLC. Bring a friend\, enjoy the summer vibes\, paint to your heart’s content and leave your artistic mark on our garden. RSVP now and we can’t wait to see you there!🌱🎨 \n			\n				\n				\n				\n				\n				Land Acknowledgement\nThis event takes place on the unceded homelands of the xʷməθkʷəy̓əm (Musqueam)\, Sḵwx̱wú7mesh Úxwumixw (Squamish)\, səlil̓ilw̓ətaʔɬ (Tsleil-Waututh)\, and kʷikʷəƛw̓əm (Kwikwetlem) Nations.\n			\n				\n				\n				\n				\n				Event Accessibility\nEmbark Sustainability events are free and open to Embark members which includes Simon Fraser University undergraduate and graduate students\, plot renters\, as well as Embark Associate Members. \nThis event will be held outdoors in the SUB Learning Garden\, located on the third floor of the Student Union Building\, on the back side of the main entrance. \nAccessibility details include: \n\nFully wheelchair accessible and shaded\nWe aim to host a scent-free space. Please refrain from wearing scented products in attendance of this event.\nWe cannot provide ASL interpretation at this time.\nSome light physical activity will take place at this event (gardening)\, but we can provide assistance from our volunteers! \nAs an attendee\, you are free to opt-in and opt-out of activities as suit your needs throughout the event\, including exiting and re-entering the event space.\n\nWe aim to make our events accessible to as many of our community members as possible. If we can take further action to make this event accessible to you\, please contact our Programs Manager at programs@embarksustainability.org. \n			\n				\n				\n				\n				\n				Health & Safety\nParticipants who register are agreeing to release Embark Sustainability Society from any liability related to COVID-19. Masks are optional but encouraged. \n			\n				\n				\n				\n				\n				Community Agreement\nBy registering to attend this event\, you are agreeing to be respectful when listening to and communicating with others\, and be mindful of the space you are taking up amongst your peers. \nEmbark Sustainability does not tolerate violence or aggression against others on the basis of race\, ethnicity\, place of origin\, sexual orientation\, gender identity\, religious affiliation\, or ability. Please also refer to people using the introductions they provide and do not assume pronouns/gender/knowledge based on someone’s name or appearance. \nIf these agreements are broken by someone\, we will have to ensure the safety of our community members by removing them from the event. \n			\n				\n				\n				\n				\n				Questions\nIf you have any questions about this event\, please contact Embark Sustainability’s Programs Manager at programs@embarksustainability.org. \n			\n			\n				\n				\n				\n				\n				\n				\n				\n				\n				\n				Register for this event\nGET REMINDERS & EVENT DETAILS now
URL:https://www.embarksustainability.org/event/summer-solstice-chill-paint/
LOCATION:Embark Sustainability’s Burnaby Learning Garden\, Science Road\, Burnaby\, BC\, Canada
CATEGORIES:Embark Sustainability,Learning Garden
ATTACH;FMTTYPE=image/png:https://www.embarksustainability.org/wp-content/uploads/2024/05/ESS-Summer-Solstice-Website.png
GEO:49.278127;-122.919355
X-APPLE-STRUCTURED-LOCATION;VALUE=URI;X-ADDRESS=Embark Sustainability’s Burnaby Learning Garden Science Road Burnaby BC Canada;X-APPLE-RADIUS=500;X-TITLE=Science Road:geo:-122.919355,49.278127
END:VEVENT
END:VCALENDAR