BEGIN:VCALENDAR
VERSION:2.0
PRODID:-//Embark Sustainability Society - ECPv6.15.20//NONSGML v1.0//EN
CALSCALE:GREGORIAN
METHOD:PUBLISH
X-ORIGINAL-URL:https://www.embarksustainability.org
X-WR-CALDESC:Events for Embark Sustainability Society
REFRESH-INTERVAL;VALUE=DURATION:PT1H
X-Robots-Tag:noindex
X-PUBLISHED-TTL:PT1H
BEGIN:VTIMEZONE
TZID:America/Vancouver
BEGIN:DAYLIGHT
TZOFFSETFROM:-0800
TZOFFSETTO:-0700
TZNAME:PDT
DTSTART:20240310T100000
END:DAYLIGHT
BEGIN:STANDARD
TZOFFSETFROM:-0700
TZOFFSETTO:-0800
TZNAME:PST
DTSTART:20241103T090000
END:STANDARD
BEGIN:DAYLIGHT
TZOFFSETFROM:-0800
TZOFFSETTO:-0700
TZNAME:PDT
DTSTART:20250309T100000
END:DAYLIGHT
BEGIN:STANDARD
TZOFFSETFROM:-0700
TZOFFSETTO:-0800
TZNAME:PST
DTSTART:20251102T090000
END:STANDARD
BEGIN:DAYLIGHT
TZOFFSETFROM:-0800
TZOFFSETTO:-0700
TZNAME:PDT
DTSTART:20260308T100000
END:DAYLIGHT
BEGIN:STANDARD
TZOFFSETFROM:-0700
TZOFFSETTO:-0800
TZNAME:PST
DTSTART:20261101T090000
END:STANDARD
END:VTIMEZONE
BEGIN:VEVENT
DTSTART;TZID=America/Vancouver:20250408T133000
DTEND;TZID=America/Vancouver:20250408T153000
DTSTAMP:20260424T162713
CREATED:20241119T020807Z
LAST-MODIFIED:20250401T174735Z
UID:10000590-1744119000-1744126200@www.embarksustainability.org
SUMMARY:Climate Workshop: Protecting Lhuḵw’lhuḵw’áyten
DESCRIPTION:Climate Workshop: Protecting Lhuḵw’lhuḵw’áyten \n			\n			\n				\n				\n				\n				\n			\n				\n				\n				\n				\n				\n				\n				\n				\n				\n				\n				\n					\n					\n						Date & Time\n						Tue\, April 8th\, 20251:30 PM – 3:30 PM PDT \n					\n				\n			\n			\n				\n				\n				\n				\n				\n				\n				\n				\n				\n				\n					\n					\n						Location\n						The Embark Studio\, SUB 1310\n					\n				\n			\n			\n				\n				\n				\n				\n				\n				Register now\n			\n			\n				\n				\n				\n				\n			\n				\n				\n				\n				\n				\n				\n				\n				\n				\n				\n				Join Dr. Tim Takaro and Natasha Ivkov in this workshop about building a stronger anti-TMX movement through student-led advocacy\, collaboration\, and direct action! \n			\n				\n				\n				\n				\n				About the event\nSḵwx̱wú7mesh Úxwumixw (Squamish Nation) refers to Burnaby Mountain as Lhuḵw’lhuḵw’áyten\, “where the bark gets peeled in spring.” The name is derived from the Sḵwx̱wú7mesh Úxwumixw word for arbutus tree\, lhulhuḵw’ay\, which comes from lhuḵw’ (peel) and means “always peeling”. When we recognize place names like Lhuḵw’lhuḵw’áyten\, we are acknowledging the original histories that have been here since time immemorial\, prior to the colonization of these spaces. \nThe Trans Mountain Expansion (TMX) pipeline continues to be a critical issue impacting our communities\, environment\, and future. As students and community members\, we have a role to play in shaping the response\, ensuring that voices of resistance are heard\, and building collective strategies for action. This event is a follow-up to the recent community town hall on TMX\, offering an opportunity to deepen student understanding of the project\, its ongoing effects\, and what we can do moving forward to stay prepared. We’ll explore how students can effectively organize on campus and beyond\, discuss key updates on TMX\, and share practical tools for mobilization\, advocacy\, and direct action. Whether you’re new to organizing or already involved\, this session is a space for connection\, collaboration\, and preparation. By coming together\, we can strengthen our networks\, learn from one another\, and build a more resilient movement. The conversation doesn’t end at awareness—this is about taking meaningful steps toward action. \n			\n				\n				\n				\n				\n				Land ACKNOWLEDGEMENT\nThis event takes place on the unceded homelands of the xʷməθkʷəy̓əm (Musqueam)\, Sḵwx̱wú7mesh Úxwumixw (Squamish)\, səlil̓ilw̓ətaʔɬ (Tsleil-Waututh)\, and kʷikʷəƛw̓əm (Kwikwetlem) Nations. \n			\n				\n				\n				\n				\n				ABOUT THE FACILITATORS\nDr. Tim Takaro (he/him)Dr. Takaro is a professor emeritus and physician-scientist in the Faculty of Health Sciences at Simon Fraser University. His research is primarily about the links between human exposures and disease\, and planetary health. With immense gratitude to the First Peoples\, he is beginning to use Indigenous knowledge to relearn environmental health as he tests different interventions in climate action and planet protection. This collaboration and the failure to stop TMX with the usual academic public health approach of education and advocacy\, Dr. Takaro led Protect the Planet into the trees to block construction\, resulting in his incarceration in June 2022. \nNatasha Ivkov (she/her)Natasha is a third-year Chemistry major and Sustainable Development minor at SFU\, and a core organizer with SFU350. She is passionate about fighting for equity in intersecting movements and has been doing community organizing since 2019. With SFU350\, she has learned a lot about TMX resistance\, and is working on advocating for proper emergency response measures to be implemented in the area surrounding the Trans Mountain Tank Farm. \n  \n			\n				Register now\n			\n				\n				\n				\n				\n				Event Accessibility\nEmbark Sustainability events are free and open to Embark Sustainability members which includes Simon Fraser University undergraduate and graduate students\, as well as Embark Sustainability Associate Members. \nThis event will be held indoors at the Embark Studio\, room #1310 of the Student Union Building (SUB)\, SFU Burnaby. The Embark Studio is: \n\nWheelchair accessible\nLocated near wheelchair accessible and gender-neutral restrooms\nWelcomes all gender identities and expressions\nA tree nut and peanut-free zone\nA scent-free zone\nProvides access to a quiet space for personal meditation\, reflection\, or prayers\n\nOther accessibility details include: \n\nAs an attendee\, you are free to opt-in and opt-out of activities as suit your needs throughout the event\, including exiting and re-entering the event space.\nUnfortunately\, we cannot provide ASL interpretation at this time.\n\nWe aim to make our events accessible to as many of our community members as possible. If we can take further action to make this event accessible to you\, please contact Embark Sustainability’s Director of Engagement at engagement@embarksustainability.org.\n			\n				\n				\n				\n				\n				Health & Safety\nParticipants who register are agreeing to release Embark Sustainability Society from any liability related to COVID-19. Masks are optional but encouraged.\n			\n				\n				\n				\n				\n				Community Agreement\nBy registering to attend this event\, you are agreeing to be respectful when listening to and communicating with others\, and be mindful of the space you are taking up amongst your peers. \nEmbark Sustainability does not tolerate violence or aggression against others on the basis of race\, ethnicity\, place of origin\, sexual orientation\, gender identity\, religious affiliation\, or ability. Please also refer to people using the introductions they provide and do not assume pronouns/gender/knowledge based on someone’s name or appearance. \nIf these agreements are broken by someone\, we will have to ensure the safety of our community members by removing them from the event.\n			\n				\n				\n				\n				\n				Questions\nIf you have any questions about this event\, please contact Embark Sustainability’s Director of Engagement at engagement@embarksustainability.org.\n			\n			\n				\n				\n				\n				\n				\n				\n				\n				\n				\n				Register for this Event\nget reminders & event details now
URL:https://www.embarksustainability.org/event/climate-workshop-5/
LOCATION:The Embark Studio\, SUB 1310 - 8888 University Drive\, Burnaby\, British Columbia\, V5A 1S6\, Canada
CATEGORIES:Climate Action,Climate Equity,Workshop
ATTACH;FMTTYPE=image/jpeg:https://www.embarksustainability.org/wp-content/uploads/2024/11/Apr-CW-Website-1.webp
END:VEVENT
END:VCALENDAR