BEGIN:VCALENDAR
VERSION:2.0
PRODID:-//Embark Sustainability Society - ECPv6.15.20//NONSGML v1.0//EN
CALSCALE:GREGORIAN
METHOD:PUBLISH
X-ORIGINAL-URL:https://www.embarksustainability.org
X-WR-CALDESC:Events for Embark Sustainability Society
REFRESH-INTERVAL;VALUE=DURATION:PT1H
X-Robots-Tag:noindex
X-PUBLISHED-TTL:PT1H
BEGIN:VTIMEZONE
TZID:America/Vancouver
BEGIN:DAYLIGHT
TZOFFSETFROM:-0800
TZOFFSETTO:-0700
TZNAME:PDT
DTSTART:20230312T100000
END:DAYLIGHT
BEGIN:STANDARD
TZOFFSETFROM:-0700
TZOFFSETTO:-0800
TZNAME:PST
DTSTART:20231105T090000
END:STANDARD
BEGIN:DAYLIGHT
TZOFFSETFROM:-0800
TZOFFSETTO:-0700
TZNAME:PDT
DTSTART:20240310T100000
END:DAYLIGHT
BEGIN:STANDARD
TZOFFSETFROM:-0700
TZOFFSETTO:-0800
TZNAME:PST
DTSTART:20241103T090000
END:STANDARD
BEGIN:DAYLIGHT
TZOFFSETFROM:-0800
TZOFFSETTO:-0700
TZNAME:PDT
DTSTART:20250309T100000
END:DAYLIGHT
BEGIN:STANDARD
TZOFFSETFROM:-0700
TZOFFSETTO:-0800
TZNAME:PST
DTSTART:20251102T090000
END:STANDARD
END:VTIMEZONE
BEGIN:VEVENT
DTSTART;TZID=America/Vancouver:20241105T133000
DTEND;TZID=America/Vancouver:20241105T153000
DTSTAMP:20260425T033316
CREATED:20240719T192229Z
LAST-MODIFIED:20241015T164959Z
UID:10000584-1730813400-1730820600@www.embarksustainability.org
SUMMARY:Climate Workshop
DESCRIPTION:Climate Workshop: Penning for Palestine\n			\n			\n				\n				\n				\n				\n			\n				\n				\n				\n				\n				\n				\n				\n				\n				\n				\n				\n					\n					\n						Date & Time\n						Tues\, November 5th\, 20241:30 PM – 3:30 PM PDT \n					\n				\n			\n			\n				\n				\n				\n				\n				\n				\n				\n				\n				\n				\n					\n					\n						Location\n						The Embark Studio\, SUB #1310 \n					\n				\n			\n			\n				\n				\n				\n				\n				\n				Register now\n			\n			\n				\n				\n				\n				\n			\n				\n				\n				\n				\n				\n				\n				\n				\n				\n				\n				Join us for a powerful workshop focused on bridging climate equity with social justice\, where we will mobilize our voices to demand action from our universities. This event will bring together students\, activists\, and community members to write letters urging university administrators to divest from war contractors. \nAgenda: \n\n1:30-2:00 PM: Introductions & Guest Speaker\n2:00-2:15 PM: How to Write a Letter\n2:15-3:30 PM: Letter Writing Session\n\nThis is not just a workshop; but a part of a larger student movement toward seeing a liberated Palestine and an end to Israeli Occupation. Let your voice be heard as we advocate for a world where our institutions reflect our values. \n			\n				\n				\n				\n				\n				Land Acknowledgement\nThis event takes place on the unceded homelands of the xʷməθkʷəy̓əm (Musqueam)\, Sḵwx̱wú7mesh Úxwumixw (Squamish)\, səlil̓ilw̓ətaʔɬ (Tsleil-Waututh)\, and kʷikʷəƛw̓əm (Kwikwetlem) Nations.\n			\n				\n				\n				\n				\n				ABOUT THE FACILITATORS \nParsa Alirezaei (he/him)Parsa Alirezaei is a former intern at the International Court of Justice. He’s currently working at the Centre for Comparative Muslim Studies as a research assistant\, Law for Palestine as a researcher\, and Spheres of Influence as a managing editor. He’s also a junior researcher of national self-determination movements in modern MENA/SWANA. \nAlly Soriano (she/her)Ally is a first-generation Filipina settler\, born and residing on unceded Coast Salish territories. She is a climate organizer and serves as the communications coordinator for SFU350. Currently studying in Communications and Indigenous Studies at SFU\, Ally is passionate about the role of communications in student-led movements and is committed to raising awareness and building resistance against the ways genocide fuels climate change. \n			\n				\n				\n				\n				\n				Event Accessibility\nEmbark Sustainability events are free and open to Embark Sustainability members which includes Simon Fraser University undergraduate and graduate students\, as well as Embark Sustainability Associate Members. \nThis event will be held indoors at the Embark Studio\, room #1310 of the Student Union Building (SUB)\, SFU Burnaby. The Embark Studio is: \n\nWheelchair accessible\nLocated near wheelchair accessible and gender-neutral restrooms\nWelcomes all gender identities and expressions\nA tree nut and peanut-free zone\nA scent-free zone\nProvides access to a quiet space for personal meditation\, reflection\, or prayers\n\nOther accessibility details include: \n\nAs we’ll be addressing sensitive topics\, it’s important that our attendees are able to address their needs in the moment. Attendees are free to opt in and opt out of activities as suits their needs throughout the event\, including exiting and re-entering the event space.\nUnfortunately\, we cannot provide ASL interpretation at this time.\n\nWe aim to make our events accessible to as many of our community members as possible. If we can take further action to make this event accessible to you\, please contact our Climate Justice Coordinator at climate@embarksustainability.org. \n			\n				\n				\n				\n				\n				Health & Safety\nParticipants who register are agreeing to release Embark Sustainability Society from any liability related to COVID-19. Masks are optional but encouraged.\n			\n				\n				\n				\n				\n				Community Agreement\nBy registering to attend this event\, you are agreeing to be respectful when listening to and communicating with others\, and be mindful of the space you are taking up amongst your peers. \nEmbark Sustainability does not tolerate violence or aggression against others on the basis of race\, ethnicity\, place of origin\, sexual orientation\, gender identity\, religious affiliation\, or ability. Please also refer to people using the introductions they provide and do not assume pronouns/gender/knowledge based on someone’s name or appearance. \nIf these agreements are broken by someone\, we will have to ensure the safety of our community members by removing them from the event.\n			\n				\n				\n				\n				\n				Questions\nIf you have any questions about this event\, please contact our Climate Justice Coordinator at climate@embarksustainability.org. \n			\n			\n				\n				\n				\n				\n				\n				\n				\n				\n				\n				Register for this Event!\nget reminders & event details now
URL:https://www.embarksustainability.org/event/climate-workshop-2/
LOCATION:The Embark Studio\, SUB 1310 - 8888 University Drive\, Burnaby\, British Columbia\, V5A 1S6\, Canada
CATEGORIES:Climate Action,Climate Equity,Workshop
ATTACH;FMTTYPE=image/png:https://www.embarksustainability.org/wp-content/uploads/2024/10/Nov-CW-Website-2.png
END:VEVENT
END:VCALENDAR