BEGIN:VCALENDAR
VERSION:2.0
PRODID:-//Embark Sustainability Society - ECPv6.15.20//NONSGML v1.0//EN
CALSCALE:GREGORIAN
METHOD:PUBLISH
X-ORIGINAL-URL:https://www.embarksustainability.org
X-WR-CALDESC:Events for Embark Sustainability Society
REFRESH-INTERVAL;VALUE=DURATION:PT1H
X-Robots-Tag:noindex
X-PUBLISHED-TTL:PT1H
BEGIN:VTIMEZONE
TZID:America/Vancouver
BEGIN:DAYLIGHT
TZOFFSETFROM:-0800
TZOFFSETTO:-0700
TZNAME:PDT
DTSTART:20230312T100000
END:DAYLIGHT
BEGIN:STANDARD
TZOFFSETFROM:-0700
TZOFFSETTO:-0800
TZNAME:PST
DTSTART:20231105T090000
END:STANDARD
BEGIN:DAYLIGHT
TZOFFSETFROM:-0800
TZOFFSETTO:-0700
TZNAME:PDT
DTSTART:20240310T100000
END:DAYLIGHT
BEGIN:STANDARD
TZOFFSETFROM:-0700
TZOFFSETTO:-0800
TZNAME:PST
DTSTART:20241103T090000
END:STANDARD
BEGIN:DAYLIGHT
TZOFFSETFROM:-0800
TZOFFSETTO:-0700
TZNAME:PDT
DTSTART:20250309T100000
END:DAYLIGHT
BEGIN:STANDARD
TZOFFSETFROM:-0700
TZOFFSETTO:-0800
TZNAME:PST
DTSTART:20251102T090000
END:STANDARD
END:VTIMEZONE
BEGIN:VEVENT
DTSTART;TZID=America/Vancouver:20240118T163000
DTEND;TZID=America/Vancouver:20240118T190000
DTSTAMP:20260425T173407
CREATED:20231208T224030Z
LAST-MODIFIED:20240104T224137Z
UID:10000052-1705595400-1705604400@www.embarksustainability.org
SUMMARY:Building Resilience Climate Action Night
DESCRIPTION:Building Resilience Climate Action Night\n			\n			\n				\n				\n				\n				\n			\n				\n				\n				\n				\n				\n				\n				\n				\n				\n				\n				\n					\n					\n						Date & Time\n						Thu\, January 18\, 20244:30 PM – 7:00 PM PDT \n					\n				\n			\n			\n				\n				\n				\n				\n				\n				\n				\n				\n				\n				\n					\n					\n						Location\n						SUB Room 4200 \n					\n				\n			\n			\n				\n				\n				\n				\n				\n				Register now\n			\n			\n				\n				\n				\n				\n			\n				\n				\n				\n				\n				\n				\n				\n				\n				\n				\n				The climate crisis impacts communities and ecosystems alike—so let’s explore how we can build resilience for the better 🌱 Featuring Indigenous Ethnobotonist T’uy’t’tanat Cease Wyss\, join us for an evening exploring climate action across systems and drawing inspiration from the ecological resilience around us.  \nThis will be an evening of celebration as well as exploration\, with opportunities to create climate action toolkits\, celebrate ecological resilience by growing culinary mushrooms\, bridge ideas across expertise\, and build community! \n			\n				\n				\n				\n				\n				Land Acknowledgement\nThis event will take place on the unceded homelands of the xʷməθkʷəy̓əm (Musqueam)\, Sḵwx̱wú7mesh Úxwumixw (Squamish)\, səlil̓ilw̓ətaʔɬ (Tsleil-Waututh)\, and kʷikʷəƛw̓əm (Kwikwetlem) Nations. Unceded means that this land was never surrendered\, transferred or relinquished in any way and\, as such\, the land remains sovereign Indigenous territory. \nIt is our intention to ground this evening in an understanding of Indigenous sovereignty over these lands and waters\, as well as the foods and medicines grown here\, and use this time together to unpack the colonial powers that perpetuate injustice in our climate systems. \n			\n				\n				\n				\n				\n				FEATURED GUESTS\nT’uy’t’tanat Cease WyssT’uy’t’tanat Cease Wyss (Skwxwu7mesh\, Sto:lo\, Hawaiian\, Swiss) is an educator\, interdisciplinary artist and Indigenous ethnobotanist engaged in community based teaching and sharing. Throughout Wyss’s 30 year practice\, Wyss’s work encompasses storytelling and collaborative initiatives through their knowledge and restoration of Indigenous plants and natural spaces. Wyss has been recognized for exchanging traditional knowledge in remediating our relationship to land through digital media\, site-specific engagements and weaving. Wyss has participated and exhibited at galleries\, museums\, festivals and public space such as Vancouver Art Gallery\, Morris\, Helen Belkin Art Gallery\, Contemporary Art Gallery and the PuSh Festival to name a few. Their work can be found in various collections such as the National Library of Canada\, Special Collections at the Walter Phillips Gallery\, and the Vancouver Public Library. They have lead the transformation of Semi-Public (半公開) during their Fellowship at 221a and they are the 2021 ethnobotanist resident at the Wild Bird Sanctuary. They have assisted in developing an urban Indigenous garden currently showing at the 2021 Momenta Biennale in Montreal. \n			\n				\n				\n				\n				\n				Event Accessibility\nEmbark Sustainability events are free and open to Embark members which includes Simon Fraser University undergraduate and graduate students\, as well as Embark Associate Members. \nThis event will be held indoors at SFU Burnaby in the SUB Ballroom (located on the 5th floor of the SUB). Accessibility details to note include: \n\nThe fifth floor of the SUB is accessible via elevator and hosts accessible washrooms\, including a single-stall all gender washroom.\nWe aim to host a scent-free space. Please refrain from wearing scented products in attendance of this event.\nUnfortunately\, we cannot provide ASL interpretation at this time. However\, we can provide a copy of the facilitator’s script.\nSturdy\, armless chairs will be available for those looking to sit during this event.\nAttendees are free to opt in and opt out of activities as suits their needs throughout the event\, including exiting and re-entering the event space.\n\nWe aim to make our events accessible to as many of our community members as possible. If we can take further action to make this event accessible to you\, or if you have any questions\, please contact us at climate@embarksustainability.org. \n			\n				\n				\n				\n				\n				Community Agreement\nBy registering to attend this event\, you are agreeing to be respectful when listening to and communicating with others\, and be mindful of the space you are taking up amongst your peers. \nEmbark Sustainability does not tolerate violence or aggression against others on the basis of race\, ethnicity\, place of origin\, sexual orientation\, gender identity\, religious affiliation\, or ability. Please also refer to people using the introductions they provide and do not assume pronouns/gender/knowledge based on someone’s name or appearance. \nIf these agreements are broken by someone\, we will have to ensure the safety of our community members by removing them from the event. \n			\n				\n				\n				\n				\n				Questions\nIf you have any questions about this event\, please contact Embark Sustainability’s Climate Equity Coordinator at climate@embarksustainability.org. \n			\n			\n				\n				\n				\n				\n				\n				\n				\n				\n				\n				Register for this event\nGET REMINDERS & EVENT DETAILS now
URL:https://www.embarksustainability.org/event/building-resilience-climate-action-night/
LOCATION:SFU Burnaby\, 8888 University Drive\, Burnaby\, British Columbia\, V5A 1S6\, Canada
CATEGORIES:Climate Action,Climate Equity
ATTACH;FMTTYPE=image/png:https://www.embarksustainability.org/wp-content/uploads/2023/12/CE-Event-Spring-2024-Web-Banner.png
END:VEVENT
END:VCALENDAR