BEGIN:VCALENDAR
VERSION:2.0
PRODID:-//Embark Sustainability Society - ECPv6.15.20//NONSGML v1.0//EN
CALSCALE:GREGORIAN
METHOD:PUBLISH
X-ORIGINAL-URL:https://www.embarksustainability.org
X-WR-CALDESC:Events for Embark Sustainability Society
REFRESH-INTERVAL;VALUE=DURATION:PT1H
X-Robots-Tag:noindex
X-PUBLISHED-TTL:PT1H
BEGIN:VTIMEZONE
TZID:America/Vancouver
BEGIN:DAYLIGHT
TZOFFSETFROM:-0800
TZOFFSETTO:-0700
TZNAME:PDT
DTSTART:20250309T100000
END:DAYLIGHT
BEGIN:STANDARD
TZOFFSETFROM:-0700
TZOFFSETTO:-0800
TZNAME:PST
DTSTART:20251102T090000
END:STANDARD
BEGIN:DAYLIGHT
TZOFFSETFROM:-0800
TZOFFSETTO:-0700
TZNAME:PDT
DTSTART:20260308T100000
END:DAYLIGHT
BEGIN:STANDARD
TZOFFSETFROM:-0700
TZOFFSETTO:-0800
TZNAME:PST
DTSTART:20261101T090000
END:STANDARD
BEGIN:DAYLIGHT
TZOFFSETFROM:-0800
TZOFFSETTO:-0700
TZNAME:PDT
DTSTART:20270314T100000
END:DAYLIGHT
BEGIN:STANDARD
TZOFFSETFROM:-0700
TZOFFSETTO:-0800
TZNAME:PST
DTSTART:20271107T090000
END:STANDARD
END:VTIMEZONE
BEGIN:VEVENT
DTSTART;TZID=America/Vancouver:20260409T133000
DTEND;TZID=America/Vancouver:20260409T144500
DTSTAMP:20260423T171045
CREATED:20260107T105114Z
LAST-MODIFIED:20260107T115348Z
UID:10000891-1775741400-1775745900@www.embarksustainability.org
SUMMARY:Food Rescue
DESCRIPTION:Embark Sustainability’s\nFood Rescue Program\nWe collect healthy yet imperfect-looking produce that does not meet the selling criteria of supermarket chains and redistribute it to Simon Fraser University (SFU) students for free or by donation. Food is collected from Nesters Market and distributed at SFU Burnaby. \nStop by and grab some brain food between classes! Distribution takes place throughout each academic term and does not occur during exam periods or breaks between terms.
URL:https://www.embarksustainability.org/event/food-rescue-8/2026-04-09/
LOCATION:British Columbia
CATEGORIES:Food Justice,Food Rescue
ATTACH;FMTTYPE=image/jpeg:https://www.embarksustainability.org/wp-content/uploads/2024/11/Website-Banners-2.webp
END:VEVENT
END:VCALENDAR