BEGIN:VCALENDAR
VERSION:2.0
PRODID:-//Embark Sustainability Society - ECPv6.15.20//NONSGML v1.0//EN
CALSCALE:GREGORIAN
METHOD:PUBLISH
X-ORIGINAL-URL:https://www.embarksustainability.org
X-WR-CALDESC:Events for Embark Sustainability Society
REFRESH-INTERVAL;VALUE=DURATION:PT1H
X-Robots-Tag:noindex
X-PUBLISHED-TTL:PT1H
BEGIN:VTIMEZONE
TZID:America/Vancouver
BEGIN:DAYLIGHT
TZOFFSETFROM:-0800
TZOFFSETTO:-0700
TZNAME:PDT
DTSTART:20240310T100000
END:DAYLIGHT
BEGIN:STANDARD
TZOFFSETFROM:-0700
TZOFFSETTO:-0800
TZNAME:PST
DTSTART:20241103T090000
END:STANDARD
BEGIN:DAYLIGHT
TZOFFSETFROM:-0800
TZOFFSETTO:-0700
TZNAME:PDT
DTSTART:20250309T100000
END:DAYLIGHT
BEGIN:STANDARD
TZOFFSETFROM:-0700
TZOFFSETTO:-0800
TZNAME:PST
DTSTART:20251102T090000
END:STANDARD
BEGIN:DAYLIGHT
TZOFFSETFROM:-0800
TZOFFSETTO:-0700
TZNAME:PDT
DTSTART:20260308T100000
END:DAYLIGHT
BEGIN:STANDARD
TZOFFSETFROM:-0700
TZOFFSETTO:-0800
TZNAME:PST
DTSTART:20261101T090000
END:STANDARD
END:VTIMEZONE
BEGIN:VEVENT
DTSTART;TZID=America/Vancouver:20250305T163000
DTEND;TZID=America/Vancouver:20250305T180000
DTSTAMP:20260424T132839
CREATED:20250212T214407Z
LAST-MODIFIED:20250226T185453Z
UID:10000651-1741192200-1741197600@www.embarksustainability.org
SUMMARY:RadRoots: Cohort Meeting
DESCRIPTION:RadRoots: Spring Cohort\n			\n			\n				\n				\n				\n				\n			\n				\n				\n				\n				\n				\n				\n				\n				\n				\n				\n				\n					\n					\n						Date & Time\n						Wednesdays\, Feb 26 – Mar 254:30 PM – 6:30 PM PDT \n					\n				\n			\n			\n				\n				\n				\n				\n				\n				\n				\n				\n				\n				\n					\n					\n						Location\n						Embark Studio\, SUB 1310 \n					\n				\n			\n			\n				\n				\n				\n				\n				\n				Register now\n			\n			\n				\n				\n				\n				\n			\n				\n				\n				\n				\n				\n				\n				\n				\n				\n				\n				ABOUT THE PROGRAM\nWe are super excited to bring you RadRoots\, a semesterly book club led by our JEDDI committee that we are trialing!  \nIt is designed to deepen students’ understanding of anti-oppression\, decolonization\, and equity through literature and student-led discussion. Our goal is to encourage students to think more critically about what it means to approach climate equity and food justice through an intersectional lens. What are the ‘roots’ of climate inequity and food injustice\, and what are the many resulting forms of oppression that exist?  \nBooks are chosen thematically by the committee in alignment with this purpose and with preference given to books written by local authors and/or authors of systemically marginalized backgrounds. \nThe Cohort will meet every Wednesday from 4:30PM to 6:30PM in the Embark Studio (SUB #1310) starting February 26\, and runs until March 25. Preference will be given to registrants who can make all 5 cohort meetings this term\, while those who cannot will be placed on a waitlist. Thank you! \n			\n				\n				\n				\n				\n				\nLand Acknowledgement\nEmbark Sustainability’s work takes place across the unceded homelands of the xʷməθkʷəy̓əm (Musqueam)\, Sḵwx̱wú7mesh Úxwumixw (Squamish)\, səlil̓ilw̓ətaʔɬ (Tsleil-Waututh)\, kʷikʷəƛw̓əm (Kwikwetlem)\, q̓íc̓əy̓ (Katzie)\, Qayqayt\, Kwantlen\, Semiahmoo\, and Tsawwassen Nations. We greatly encourage our community members to reflect on the lands they are tuning in from; learn whose lands you occupy through native-land.ca. \n  \nBook selection\nIn celebration of Black History Month\, the Spring Cohort will be reading “The Island of Forgetting” by Jasmine Sealy. \nThemes: Black love\, Black grief\, Colonialism\, generational trauma\, Queerness \nContent Warnings: This book features depictions of family death and Black death.  \n*** We recommend cohort participants with personal triggers to certain content share this in the registration form\, and how we can accommodate accessibility needs relative to this. Research of the book’s themes ahead of meeting with the cohort is also recommended.  \nSummary \n(via HarperCollins)  \nBarbados\, 1962. Lost soul Iapetus roams the island\, scared and alone\, driven mad after witnessing his father’s death at the hands of his mother and his older brother\, Cronus. Just before Iapetus is lost forever\, he has a son\, but the baby is not enough to save him from himself—or his family’s secrets.  \nSeventeen years later\, Iapetus’s son\, the stoic Atlas\, lives in a loveless house\, under the care of his uncle\, Cronus\, and in the shadow of his charismatic cousin Z. Knowing little about the tragic circumstances of his father’s life\, Atlas must choose between his desire to flee the island and his loyalty to the uncle who raised him.  \nTime passes. Atlas’s daughter\, Calypso\, is a beautiful and wilful teenager who is desperate to avoid being trapped in a life of drudgery at her uncle Z’s hotel. When she falls dangerously in love with a visiting real estate developer\, she finds herself entangled in her uncle’s shady dealings\, a pawn in the games of the powerful men around her.  \nIt is now 2019. Calypso’s son\, Nautilus\, is on a path of self-destruction as he grapples with his fatherless condition\, his mixed-race identity and his complicated feelings of attraction towards his best friend\, Daniel. Then one night\, after making an impulsive decision\, Nautilus finds himself exiled to Canada. \nThe Island of Forgetting is an intimate saga spanning four generations of one family who run a beachfront hotel. Loosely inspired by Greek mythology\, this is a novel about the echo of deep—and sometimes tragic—love and the ways a family’s past can haunt its future. \n \nAccessing the book\nEmbark has 10 physical copies of this book available on a first-come\, first-served basis. It is otherwise the responsibility of cohort participants to source their own copies of the book by the first meeting on February 26. \nThe E-book version is available for loan at the following public libraries: \n\nBurnaby\nSurrey \nVancouver *hold only*\nRichmond \nFraser Valley\n\nPaperback versions available for loan at the following public libraries: \n\nSFU Bennett Library\nVancouver *hold only*\nRichmond\n\n \nABOUT THE AUTHOR\nJasmine Sealy \nJasmine Sealy is a Barbadian-Canadian writer. She is a graduate of the MFA program at the UBC School of Creative Writing where she won the 2020 UBC/HarperCollinsCanada Best New Fiction Prize. Her debut novel The Island of Forgetting was published in 2022. It was named a best book of 2022 by the CBC\, The Globe and Mailand The Sunday Times in the UK. It was shortlisted for the Rakuten Kobo Emerging Writer Prize and the OCM Bocas Prize for Caribbean Literature. It won the 2023 Amazon Canada First Novel Award. \n \n \n			\n				\n				\n				\n				\n				Event Accessibility\nThe RadRoots Book Club is free and open to Embark Sustainability members which includes Simon Fraser University undergraduate and graduate students\, as well as Embark Sustainability Associate Members. \nThe program will be held indoors at the Embark Studio\, room #1310 of the Student Union Building (SUB)\, SFU Burnaby. The Embark Studio is: \n\nwheelchair accessible\nwelcomes all gender identities and expressions\na tree nut and peanut-free zone\na scent-free zone\nlocated near wheelchair accessible and gender-neutral restrooms\nprovides access to a quiet space for personal meditation\, reflection\, or prayers\n\n \nOther accessibility details include: \n\nAs we’ll be addressing sensitive topics\, it’s important that our attendees are able to address their needs in the moment. Attendees are free to opt in and opt out of activities as suits their needs throughout the event\, including exiting and re-entering the event space.\nUnfortunately\, we cannot provide ASL interpretation at this time.\n\nWe aim to make our programs accessible to as many of our community members as possible. If we can take further action to make this event accessible to you\, please contact our Director of Engagement at engagement@embarksustainability.org. \n			\n				\n				\n				\n				\n				\nHealth and safety\nParticipants who register are agreeing to release Embark Sustainability Society from any liability related to COVID-19. Masks are optional but encouraged. \n\nCommunity Agreement\nBy registering to attend this event\, you are agreeing to be respectful when listening to and communicating with others\, and be mindful of the space you are taking up amongst your peers. \nEmbark Sustainability does not tolerate violence or aggression against others on the basis of race\, ethnicity\, place of origin\, sexual orientation\, gender identity\, religious affiliation\, or ability. Please also refer to people using the introductions they provide and do not assume pronouns/gender/knowledge based on someone’s name or appearance. \nIf these agreements are broken by someone\, we will have to ensure the safety of our community members by removing them from the event. \n			\n				\n				\n				\n				\n				Questions\nIf you have any questions about this event\, please contact our JEDDI Officer at jeddi@embarksustainability.org. \n			\n			\n				\n				\n				\n				\n				\n				\n				\n				\n				\n				Register for this program\n 
URL:https://www.embarksustainability.org/event/radroots-spring-2025/2025-03-05/
LOCATION:The Embark Studio\, SUB 1310 - 8888 University Drive\, Burnaby\, British Columbia\, V5A 1S6\, Canada
ATTACH;FMTTYPE=image/jpeg:https://www.embarksustainability.org/wp-content/uploads/2025/02/RadRoots-Website.webp
END:VEVENT
END:VCALENDAR