BEGIN:VCALENDAR
VERSION:2.0
PRODID:-//Embark Sustainability Society - ECPv6.15.20//NONSGML v1.0//EN
CALSCALE:GREGORIAN
METHOD:PUBLISH
X-WR-CALNAME:Embark Sustainability Society
X-ORIGINAL-URL:https://www.embarksustainability.org
X-WR-CALDESC:Events for Embark Sustainability Society
REFRESH-INTERVAL;VALUE=DURATION:PT1H
X-Robots-Tag:noindex
X-PUBLISHED-TTL:PT1H
BEGIN:VTIMEZONE
TZID:America/Vancouver
BEGIN:DAYLIGHT
TZOFFSETFROM:-0800
TZOFFSETTO:-0700
TZNAME:PDT
DTSTART:20230312T100000
END:DAYLIGHT
BEGIN:STANDARD
TZOFFSETFROM:-0700
TZOFFSETTO:-0800
TZNAME:PST
DTSTART:20231105T090000
END:STANDARD
BEGIN:DAYLIGHT
TZOFFSETFROM:-0800
TZOFFSETTO:-0700
TZNAME:PDT
DTSTART:20240310T100000
END:DAYLIGHT
BEGIN:STANDARD
TZOFFSETFROM:-0700
TZOFFSETTO:-0800
TZNAME:PST
DTSTART:20241103T090000
END:STANDARD
BEGIN:DAYLIGHT
TZOFFSETFROM:-0800
TZOFFSETTO:-0700
TZNAME:PDT
DTSTART:20250309T100000
END:DAYLIGHT
BEGIN:STANDARD
TZOFFSETFROM:-0700
TZOFFSETTO:-0800
TZNAME:PST
DTSTART:20251102T090000
END:STANDARD
END:VTIMEZONE
BEGIN:VEVENT
DTSTART;TZID=America/Vancouver:20240725T173000
DTEND;TZID=America/Vancouver:20240725T203000
DTSTAMP:20260425T045615
CREATED:20240704T183519Z
LAST-MODIFIED:20240806T185837Z
UID:10000192-1721928600-1721939400@www.embarksustainability.org
SUMMARY:Community Kitchen: Healing the Kitchen
DESCRIPTION:Community Kitchen: Healing the Kitchen\n			\n			\n				\n				\n				\n				\n			\n				\n				\n				\n				\n				\n				\n				\n				\n				\n				\n				\n					\n					\n						Date & Time\n						Thu\, July 25\, 20245:30 PM – 8:30 PM PDT \n					\n				\n			\n			\n				\n				\n				\n				\n				\n				\n				\n				\n				\n				\n					\n					\n						Location\n						SUB Community Kitchen\, room #2125 – SFU Burnaby \n					\n				\n			\n			\n				\n				\n				\n				\n				\n				Register now\n			\n			\n				\n				\n				\n				\n			\n				\n				\n				\n				\n				\n				\n				\n				\n				\n				\n				🌱 Join us for this month’s Community Kitchen event\, “Healing in the Kitchen\,” as we come together to recognize and celebrate the Black community and the various cultures within. This event\, open to the SFU Community\, is led by and centers SFU Black community members and is all about fostering a community of care\, where we connect\, share\, and uplift one another through the power of food.🍽️  \nWe’ll be making: \n\nJamaican Callaloo\nJamaican Salted Fish Fritters\nKelewele (Ghanaian Spicy Fried Plantain)\nCocadas (a coconut sweet which is popular all over Abya Yala and is directly inherited from African ancestors)\n\nWhether you’re a seasoned chef or new to the kitchen\, all are welcome! This event is first-come first-serve until we reach capacity\, so we encourage you to register and arrive 10 minutes early. Thanks and see you there!✨ \n			\n				\n				\n				\n				\n				Land Acknowledgement\nThis event takes place on the unceded homelands of the xʷməθkʷəy̓əm (Musqueam)\, Sḵwx̱wú7mesh Úxwumixw (Squamish)\, səlil̓ilw̓ətaʔɬ (Tsleil-Waututh)\, and kʷikʷəƛw̓əm (Kwikwetlem) Nations.\n			\n				\n				\n				\n				\n				ABOUT THE FACILITATORS\nTricia-Kay WilliamsTricia-Kay Williams has a BA degree in Psychology from the York University in Toronto O.N. and an MA degree in Counselling Psychology at the Adler University in Vancouver B.C. Tricia has extensive experience counselling individuals and families and is skilled in treating: Trauma\, Anxiety\, Transitional/Career and Relational issues. She is also an active community and social services professional who worked for some years as a Residential Youth Worker and in on the board for new Hope Community Services serving refugee families. Tricia is an advocate for anti-racism that affects BIPOC individuals and consults with organizations to foster a more anti-racist approach. Tricia is the owner of a counselling practice called Metamorphose Counselling and is the host of a YouTube channel called Meta Transitions. \nPaola Quirós-CruzPaola Quirós-Cruz is one of the educators at the Sexual Violence Support & Prevention Office. Paola is responsible for overseeing the education undergraduate and graduate portfolios\, as well as co-leading numerous SVSPO awareness campaigns. Since an early age\, Paola has been passionate about cooking\, and at one point\, she even considered becoming a chef. Paola enjoys connecting with people through hosting and food\, and celebrates the Doñas (matriarchs) who have taught Paola unforgettable and tasty recipes by sharing dishes and food with the community. Paola ensures to pique your curiosity about Latin American cuisine and invites you to explore the importance of ingredients and flavors in the region. \n			\n				\n				\n				\n				\n				Event Accessibility\nEmbark Sustainability events are free and open to Embark Sustainability members which includes Simon Fraser University undergraduate and graduate students\, as well as Embark Sustainability Associate Members. \nThis event will be held indoors at the SUB Community Kitchen\, room #2125 of the Student Union Building (SUB)\, SFU Burnaby. Accessibility details include: \n\nAs we’ll be addressing sensitive topics\, it’s important that our attendees are able to address their needs in the moment. Attendees are free to opt in and opt out of activities as suits their needs throughout the event\, including exiting and re-entering the event space.\nSome appliances and counter areas of this room are not accessible when using a wheelchair or other mobility aids. The dining/lounge area is accessible when using a wheelchair or other mobility aids.\nWe aim to host a scent-free space. Please refrain from wearing scented products in attendance of this event.\nUnfortunately\, we cannot provide ASL interpretation at this time. We will be providing written recipe instructions.\n\nWe aim to make our events accessible to as many of our community members as possible. If we can take further action to make this event accessible to you\, please contact Embark Sustainability’s Director of Engagement at engagement@embarksustainability.org. \n			\n				\n				\n				\n				\n				Health & Safety\nParticipants who register are agreeing to release Embark Sustainability Society from any liability related to COVID-19. Masks are optional but encouraged. \n			\n				\n				\n				\n				\n				Community Agreement\nBy registering to attend this event\, you are agreeing to be respectful when listening to and communicating with others\, and be mindful of the space you are taking up amongst your peers. \nEmbark Sustainability does not tolerate violence or aggression against others on the basis of race\, ethnicity\, place of origin\, sexual orientation\, gender identity\, religious affiliation\, or ability. Please also refer to people using the introductions they provide and do not assume pronouns/gender/knowledge based on someone’s name or appearance. \nIf these agreements are broken by someone\, we will have to ensure the safety of our community members by removing them from the event. \n			\n				\n				\n				\n				\n				Questions\nIf you have any questions about this event\, please contact Embark Sustainability’s Director of Engagement at engagement@embarksustainability.org. \n			\n			\n				\n				\n				\n				\n				\n				\n				\n				\n				\n				Register for this event\nGET REMINDERS & EVENT DETAILS now
URL:https://www.embarksustainability.org/event/community-kitchen-healing-the-kitchen/
LOCATION:SUB Community Kitchen – SFU Burnaby\, 8888 University Drive\, Burnaby\, British Columbia\, V5A 1S6\, Canada
CATEGORIES:Community Kitchen
ATTACH;FMTTYPE=image/png:https://www.embarksustainability.org/wp-content/uploads/2024/07/ESS-July-CK-Website-2.png
END:VEVENT
END:VCALENDAR